From mboxrd@z Thu Jan  1 00:00:00 1970
Return-Path: <test-report-bounces@dpdk.org>
Received: from mails.dpdk.org (mails.dpdk.org [217.70.189.124])
	by inbox.dpdk.org (Postfix) with ESMTP id 3AAA943C53
	for <public@inbox.dpdk.org>; Sat,  9 Mar 2024 01:11:09 +0100 (CET)
Received: from mails.dpdk.org (localhost [127.0.0.1])
	by mails.dpdk.org (Postfix) with ESMTP id 3582F40E2D;
	Sat,  9 Mar 2024 01:11:09 +0100 (CET)
Received: from mail-il1-f226.google.com (mail-il1-f226.google.com
 [209.85.166.226])
 by mails.dpdk.org (Postfix) with ESMTP id CD55D4027A
 for <test-report@dpdk.org>; Sat,  9 Mar 2024 01:11:07 +0100 (CET)
Received: by mail-il1-f226.google.com with SMTP id
 e9e14a558f8ab-3662d7c79a9so5152625ab.3
 for <test-report@dpdk.org>; Fri, 08 Mar 2024 16:11:07 -0800 (PST)
DKIM-Signature: v=1; a=rsa-sha256; c=relaxed/relaxed;
 d=iol.unh.edu; s=unh-iol; t=1709943067; x=1710547867; darn=dpdk.org;
 h=references:in-reply-to:cc:to:from:subject:message-id:date:from:to
 :cc:subject:date:message-id:reply-to;
 bh=bAZHmxz2490Wmvs7OY57Ef1KPPoZA9p5gphq1HEWSbk=;
 b=dzAyr2xQdi+kvZ2lwV5V8UL4fYsKVVhvRsTF3RqCjfJBBQaeBa+vRJCpVE+qdmz9GS
 b6RM1VcouhFJRpbMjSHZf2fRKeGRKx+2wIhOcrulCMPEL+wxU4AAg1iBHc/YNHmZ4PMd
 T7y9+Wuflow8sbnrU1mwQxX81j/mNOiEX4/l8=
X-Google-DKIM-Signature: v=1; a=rsa-sha256; c=relaxed/relaxed;
 d=1e100.net; s=20230601; t=1709943067; x=1710547867;
 h=references:in-reply-to:cc:to:from:subject:message-id:date
 :x-gm-message-state:from:to:cc:subject:date:message-id:reply-to;
 bh=bAZHmxz2490Wmvs7OY57Ef1KPPoZA9p5gphq1HEWSbk=;
 b=ltBjqdN3QETMcgQa/ZOlpXerQnVq6laf+vr7dlzPuTcYRlxgLrzAGjaaXJgxuQTNTt
 fcOqAFNVFW43AiXcC9/zXvEwA8iCnDo2NtoHiTIaL+g9FQeoJbe6nVvt6R0v526klOxS
 Q6EpNYM7izgSVa++CheYDrCCekFGLf3vaLXmQOGZ40gsc8hsmpWa7bhoo1jd1pMDL9dD
 4PJNdbE2yWFTvygLusprHDW51tQ4f8/bOu7739d6wzLKZ8UW+I/Px16emUjvCOm7sU7X
 VDzvX3xHLZVVJaeEaeC0sZkAFbu6IJZDKBw2A/kBYDUBBwVTfTdK/bkm58ftLX/VuKRF
 uZQg==
X-Gm-Message-State: AOJu0YwfmaKPyAmz1v6BfCUNKPhaywDT7e2ngL+BLEYJicpqw77ZS93l
 sFQBiJJaHBzNwL+Am3lHZb5NU6fkdVB7ua70O4GCzJUenfsvNs4XpEAmhl9X3gXOepBub90+4uc
 UZzauBugJhxs8w6Kw52LyyJqJk60n63R2QkVMTbFjPuP4YsUlrkC10bHw
X-Google-Smtp-Source: AGHT+IGti3SWWaJ7+R14TKWuasRXO1Jg3Zzcy30GPAPAecmhEVZjgHMHAOWciKxO8beaU0/t0qM2WGCfeIIk
X-Received: by 2002:a92:c548:0:b0:365:1685:c65d with SMTP id
 a8-20020a92c548000000b003651685c65dmr568970ilj.10.1709943067303; 
 Fri, 08 Mar 2024 16:11:07 -0800 (PST)
Received: from postal.iol.unh.edu (postal.iol.unh.edu.
 [2606:4100:3880:1234::84]) by smtp-relay.gmail.com with ESMTPS id
 bz2-20020a056e02268200b0036530bbb2absm16919ilb.60.2024.03.08.16.11.07
 (version=TLS1_2 cipher=ECDHE-ECDSA-AES128-GCM-SHA256 bits=128/128);
 Fri, 08 Mar 2024 16:11:07 -0800 (PST)
X-Relaying-Domain: iol.unh.edu
Date: Fri, 08 Mar 2024 16:11:07 -0800 (PST)
Message-ID: <65eba91b.050a0220.19a4d.10a4SMTPIN_ADDED_MISSING@mx.google.com>
Received: from [172.17.0.6] (unknown [172.18.0.217])
 by postal.iol.unh.edu (Postfix) with ESMTP id D40426052713;
 Fri,  8 Mar 2024 19:11:06 -0500 (EST)
Subject: |SUCCESS| pw138133 [PATCH] [v2] add a ignore list for get_maintainer
From: dpdklab@iol.unh.edu
To: Test Report <test-report@dpdk.org>
Cc: dpdk-test-reports@iol.unh.edu
In-Reply-To: <20240308181310.70014-1-stephen@networkplumber.org>
References: <20240308181310.70014-1-stephen@networkplumber.org>
Content-Type: text/plain
X-BeenThere: test-report@dpdk.org
X-Mailman-Version: 2.1.29
Precedence: list
List-Id: automatic DPDK test reports <test-report.dpdk.org>
List-Unsubscribe: <https://mails.dpdk.org/options/test-report>,
 <mailto:test-report-request@dpdk.org?subject=unsubscribe>
List-Archive: <http://mails.dpdk.org/archives/test-report/>
List-Post: <mailto:test-report@dpdk.org>
List-Help: <mailto:test-report-request@dpdk.org?subject=help>
List-Subscribe: <https://mails.dpdk.org/listinfo/test-report>,
 <mailto:test-report-request@dpdk.org?subject=subscribe>
Errors-To: test-report-bounces@dpdk.org

Test-Label: iol-compile-arm64-testing
Test-Status: SUCCESS
http://dpdk.org/patch/138133

_Testing PASS_

Submitter: Stephen Hemminger <stephen@networkplumber.org>
Date: Friday, March 08 2024 18:12:51 
DPDK git baseline: Repo:dpdk
  Branch: master
  CommitID:a86f381b826660e88794754c41d3aec79ce9b87c

138133 --> testing pass

Test environment and result as below:

+----------------------------------------+--------------------+
|              Environment               | dpdk_meson_compile |
+========================================+====================+
| Ubuntu 20.04 ARM SVE                   | PASS               |
+----------------------------------------+--------------------+
| Ubuntu 20.04 ARM GCC Cross Compile     | PASS               |
+----------------------------------------+--------------------+
| Debian 12 with MUSDK                   | PASS               |
+----------------------------------------+--------------------+
| Ubuntu 20.04 aarch32 GCC Cross Compile | PASS               |
+----------------------------------------+--------------------+
| Ubuntu 20.04 ARM Clang Cross Compile   | PASS               |
+----------------------------------------+--------------------+
| Fedora 38 (ARM)                        | PASS               |
+----------------------------------------+--------------------+
| Fedora 37 (ARM)                        | PASS               |
+----------------------------------------+--------------------+
| Debian 11 (Buster) (ARM)               | PASS               |
+----------------------------------------+--------------------+
| Debian 12 (arm)                        | PASS               |
+----------------------------------------+--------------------+
| Ubuntu 20.04 (ARM)                     | PASS               |
+----------------------------------------+--------------------+
| CentOS Stream 9 (ARM)                  | PASS               |
+----------------------------------------+--------------------+


Ubuntu 20.04 ARM SVE
	Kernel: 5.4.0-80-generic
	Compiler: gcc 10.3.0 (Ubuntu 10.3.0-1ubuntu1~20.04)

Ubuntu 20.04 ARM GCC Cross Compile
	Kernel: 5.4.0-72-generic
	Compiler: aarch64-linux-gnu-gcc (Ubuntu 9.3.0-17ubuntu1~20.04) 9.3.0

Debian 12 with MUSDK
	Kernel: Container Host Kernel
	Compiler: gcc 12

Ubuntu 20.04 aarch32 GCC Cross Compile
	Kernel: 5.4.0-72-generic
	Compiler: gcc 9.3.0

Ubuntu 20.04 ARM Clang Cross Compile
	Kernel: 5.4.0-72-generic
	Compiler: clang version 10.0.0-4ubuntu1

Fedora 38 (ARM)
	Kernel: Depends on container host
	Compiler: gcc 13.1.1

Fedora 37 (ARM)
	Kernel: Depends on container host
	Compiler: gcc 12.3.1

Debian 11 (Buster) (ARM)
	Kernel: Container Host Kernel
	Compiler: gcc 10.2.1

Debian 12 (arm)
	Kernel: Container Host Kernel
	Compiler: gcc 11

Ubuntu 20.04 (ARM)
	Kernel: Container Host Kernel
	Compiler: gcc 9.4.0

CentOS Stream 9 (ARM)
	Kernel: Container Host Kernel
	Compiler: gcc 11.3.1

To view detailed results, visit:
https://lab.dpdk.org/results/dashboard/patchsets/29483/

UNH-IOL DPDK Community Lab

To manage your email subscriptions, visit: 
https://lab.dpdk.org/results/dashboard/preferences/subscriptions/