From mboxrd@z Thu Jan  1 00:00:00 1970
Return-Path: <test-report-bounces@dpdk.org>
Received: from mails.dpdk.org (mails.dpdk.org [217.70.189.124])
	by inbox.dpdk.org (Postfix) with ESMTP id 5DACB43C53
	for <public@inbox.dpdk.org>; Sat,  9 Mar 2024 01:11:24 +0100 (CET)
Received: from mails.dpdk.org (localhost [127.0.0.1])
	by mails.dpdk.org (Postfix) with ESMTP id 5125B4027A;
	Sat,  9 Mar 2024 01:11:24 +0100 (CET)
Received: from mail-pj1-f99.google.com (mail-pj1-f99.google.com
 [209.85.216.99]) by mails.dpdk.org (Postfix) with ESMTP id EE48E4021D
 for <test-report@dpdk.org>; Sat,  9 Mar 2024 01:11:22 +0100 (CET)
Received: by mail-pj1-f99.google.com with SMTP id
 98e67ed59e1d1-29b7dbe39ccso1882078a91.1
 for <test-report@dpdk.org>; Fri, 08 Mar 2024 16:11:22 -0800 (PST)
DKIM-Signature: v=1; a=rsa-sha256; c=relaxed/relaxed;
 d=iol.unh.edu; s=unh-iol; t=1709943082; x=1710547882; darn=dpdk.org;
 h=references:in-reply-to:cc:to:from:subject:message-id:date:from:to
 :cc:subject:date:message-id:reply-to;
 bh=MHNYXuR7MHcKEsDF+zri+ooxYOVqM6NBNAhid5DQlGQ=;
 b=UmOcxDAE7rYeGXhMi0Q0K02La4XyX8xPa0RYmzCspj4MbZLeIKv0m2bSX1+ZoL3ZCW
 W6yZ8/3E6PPbbXz3UNTmuckz0bF4b9q1nJMH0I9RSRdecqLA1oC5ODPQb3+LLsAfPyuF
 EyuVM2tLn+VTX8D64W1wDX0SJL7YNMjxqiwOM=
X-Google-DKIM-Signature: v=1; a=rsa-sha256; c=relaxed/relaxed;
 d=1e100.net; s=20230601; t=1709943082; x=1710547882;
 h=references:in-reply-to:cc:to:from:subject:message-id:date
 :x-gm-message-state:from:to:cc:subject:date:message-id:reply-to;
 bh=MHNYXuR7MHcKEsDF+zri+ooxYOVqM6NBNAhid5DQlGQ=;
 b=FYTw0tg7dOrgcPzaXZOaBsaRYZmf+TVVZyMzhuXO2aTc5k6I0dyETqjsxp6ZeM2Pjp
 ie4OD5QSvWAGOvItmwVuICcTD5jCsuqoj8f7FtXqAHFZSHMWiewUgnIMULYztYX4nFDM
 h9/zb5YbRv0dGI/BDGDYx9ICxjHWsZqDHsCefKhf0AQLk3JyHwhdQu8why9uRgnMT+1O
 czLKAOY0QTwoEbfckumSBQByfTgvKV8ea60aTWM+cFnEvfRuuBDElDNarr4evITtEICY
 ZgAaEv9xM/jN8L2XQbqI/QGw/X3G9sfQzl0fTHCre4NFT2oKJCokG7Eli1CmcMWGbSjJ
 Tgwg==
X-Gm-Message-State: AOJu0YxRYCdQanZbZTUPVyjVz5JvIPulhm/NiedVvU3TYnB7//uXp0Og
 WiMw7CnfnwVWM6k6pMlHrHxU8JdBF7LKLBLcviHwnr5lbIb25PLSqZh/yApQPKBb4V5nsECCHt3
 lfVIYFHHylh52AOilJVrBMO++fNTR+C1qthueA7pj
X-Google-Smtp-Source: AGHT+IEYfKygCis2Lip4gOHrYJIetgqjn6NkZN2JHDgYnQoEQzg37QPIiTrF7tp4N3GNFszG0jrR9wSl7SgM
X-Received: by 2002:a17:90a:4283:b0:29b:c49b:eb13 with SMTP id
 p3-20020a17090a428300b0029bc49beb13mr954964pjg.24.1709943082080; 
 Fri, 08 Mar 2024 16:11:22 -0800 (PST)
Received: from postal.iol.unh.edu (postal.iol.unh.edu. [132.177.123.84])
 by smtp-relay.gmail.com with ESMTPS id
 nh9-20020a17090b364900b0029b91c2f75bsm223049pjb.12.2024.03.08.16.11.21
 (version=TLS1_2 cipher=ECDHE-ECDSA-AES128-GCM-SHA256 bits=128/128);
 Fri, 08 Mar 2024 16:11:22 -0800 (PST)
X-Relaying-Domain: iol.unh.edu
Date: Fri, 08 Mar 2024 16:11:22 -0800 (PST)
Message-ID: <65eba92a.170a0220.62f6e.e223SMTPIN_ADDED_MISSING@mx.google.com>
Received: from [172.17.0.6] (unknown [172.18.0.217])
 by postal.iol.unh.edu (Postfix) with ESMTP id 442C96052712;
 Fri,  8 Mar 2024 19:11:21 -0500 (EST)
Subject: |SUCCESS| pw138133 [PATCH] [v2] add a ignore list for get_maintainer
From: dpdklab@iol.unh.edu
To: Test Report <test-report@dpdk.org>
Cc: dpdk-test-reports@iol.unh.edu
In-Reply-To: <20240308181310.70014-1-stephen@networkplumber.org>
References: <20240308181310.70014-1-stephen@networkplumber.org>
Content-Type: text/plain
X-BeenThere: test-report@dpdk.org
X-Mailman-Version: 2.1.29
Precedence: list
List-Id: automatic DPDK test reports <test-report.dpdk.org>
List-Unsubscribe: <https://mails.dpdk.org/options/test-report>,
 <mailto:test-report-request@dpdk.org?subject=unsubscribe>
List-Archive: <http://mails.dpdk.org/archives/test-report/>
List-Post: <mailto:test-report@dpdk.org>
List-Help: <mailto:test-report-request@dpdk.org?subject=help>
List-Subscribe: <https://mails.dpdk.org/listinfo/test-report>,
 <mailto:test-report-request@dpdk.org?subject=subscribe>
Errors-To: test-report-bounces@dpdk.org

Test-Label: iol-unit-arm64-testing
Test-Status: SUCCESS
http://dpdk.org/patch/138133

_Testing PASS_

Submitter: Stephen Hemminger <stephen@networkplumber.org>
Date: Friday, March 08 2024 18:12:51 
DPDK git baseline: Repo:dpdk
  Branch: master
  CommitID:a86f381b826660e88794754c41d3aec79ce9b87c

138133 --> testing pass

Test environment and result as below:

+--------------------------+----------------+---------------------------+--------------+------------------------------+
|       Environment        | dpdk_unit_test | cryptodev_sw_zuc_autotest | lpm_autotest | cryptodev_sw_snow3g_autotest |
+==========================+================+===========================+==============+==============================+
| Fedora 37 (ARM)          | PASS           | SKIPPED                   | SKIPPED      | SKIPPED                      |
+--------------------------+----------------+---------------------------+--------------+------------------------------+
| Debian 11 (Buster) (ARM) | PASS           | SKIPPED                   | SKIPPED      | SKIPPED                      |
+--------------------------+----------------+---------------------------+--------------+------------------------------+
| CentOS Stream 9 (ARM)    | PASS           | SKIPPED                   | SKIPPED      | SKIPPED                      |
+--------------------------+----------------+---------------------------+--------------+------------------------------+
| Fedora 38 (ARM)          | PASS           | SKIPPED                   | SKIPPED      | SKIPPED                      |
+--------------------------+----------------+---------------------------+--------------+------------------------------+
| Debian 12 (arm)          | PASS           | PASS                      | SKIPPED      | PASS                         |
+--------------------------+----------------+---------------------------+--------------+------------------------------+
| Ubuntu 20.04 (ARM)       | PASS           | SKIPPED                   | SKIPPED      | SKIPPED                      |
+--------------------------+----------------+---------------------------+--------------+------------------------------+
| Fedora 38 (ARM Clang)    | PASS           | SKIPPED                   | SKIPPED      | SKIPPED                      |
+--------------------------+----------------+---------------------------+--------------+------------------------------+
| Ubuntu 20.04 ARM SVE     | SKIPPED        | SKIPPED                   | PASS         | SKIPPED                      |
+--------------------------+----------------+---------------------------+--------------+------------------------------+


Fedora 37 (ARM)
	Kernel: Depends on container host
	Compiler: gcc 12.3.1

Debian 11 (Buster) (ARM)
	Kernel: Container Host Kernel
	Compiler: gcc 10.2.1

CentOS Stream 9 (ARM)
	Kernel: Container Host Kernel
	Compiler: gcc 11.3.1

Fedora 38 (ARM)
	Kernel: Depends on container host
	Compiler: gcc 13.1.1

Debian 12 (arm)
	Kernel: Container Host Kernel
	Compiler: gcc 11

Ubuntu 20.04 (ARM)
	Kernel: Container Host Kernel
	Compiler: gcc 9.4.0

Fedora 38 (ARM Clang)
	Kernel: Depends on container host
	Compiler: clang 16.0.3

Ubuntu 20.04 ARM SVE
	Kernel: 5.4.0-80-generic
	Compiler: gcc 10.3.0 (Ubuntu 10.3.0-1ubuntu1~20.04)

To view detailed results, visit:
https://lab.dpdk.org/results/dashboard/patchsets/29483/

UNH-IOL DPDK Community Lab

To manage your email subscriptions, visit: 
https://lab.dpdk.org/results/dashboard/preferences/subscriptions/