From mboxrd@z Thu Jan  1 00:00:00 1970
Return-Path: <test-report-bounces@dpdk.org>
Received: from mails.dpdk.org (mails.dpdk.org [217.70.189.124])
	by inbox.dpdk.org (Postfix) with ESMTP id 2A22E43C53
	for <public@inbox.dpdk.org>; Sat,  9 Mar 2024 01:12:56 +0100 (CET)
Received: from mails.dpdk.org (localhost [127.0.0.1])
	by mails.dpdk.org (Postfix) with ESMTP id 258A84027A;
	Sat,  9 Mar 2024 01:12:56 +0100 (CET)
Received: from mail-pf1-f225.google.com (mail-pf1-f225.google.com
 [209.85.210.225])
 by mails.dpdk.org (Postfix) with ESMTP id B137E4021D
 for <test-report@dpdk.org>; Sat,  9 Mar 2024 01:12:55 +0100 (CET)
Received: by mail-pf1-f225.google.com with SMTP id
 d2e1a72fcca58-6d9f94b9186so2480579b3a.0
 for <test-report@dpdk.org>; Fri, 08 Mar 2024 16:12:55 -0800 (PST)
DKIM-Signature: v=1; a=rsa-sha256; c=relaxed/relaxed;
 d=iol.unh.edu; s=unh-iol; t=1709943175; x=1710547975; darn=dpdk.org;
 h=references:in-reply-to:cc:to:from:subject:message-id:date:from:to
 :cc:subject:date:message-id:reply-to;
 bh=qpNSWEY9nZUy8k/gL8+SYwwAfsamMQ08CEbdzNwjuPY=;
 b=UEVTC8XlVt/vC8Wp7+adxThOvga1qoOrUWByEih7nH3nnzAI1Ym2xmFGpz20O9JX+U
 tLBw+GNDOhA61mqJr5a8zpIc7jX/N2NT3w40voBpcpeZmyOeL6BFcDKzY8B3Kgap2XDu
 N91vOosV27gEGLOsFuFOrAEKkjQ21730fWoKk=
X-Google-DKIM-Signature: v=1; a=rsa-sha256; c=relaxed/relaxed;
 d=1e100.net; s=20230601; t=1709943175; x=1710547975;
 h=references:in-reply-to:cc:to:from:subject:message-id:date
 :x-gm-message-state:from:to:cc:subject:date:message-id:reply-to;
 bh=qpNSWEY9nZUy8k/gL8+SYwwAfsamMQ08CEbdzNwjuPY=;
 b=ub6w97E4UJCoLsgm1qT9MYaE1mXyMe0SXBsfVxYKHCbxIQ77atwo/zAARtCr+32vZD
 O8G2ihtybzQoWJRETMVLtcPIGleVHqT68OQYz3O5APLBdebFQ8YJ+jt05gaVYBf55QEu
 vfAn30UzhVK/Uy40NdklV8dYSbgxPB+jLfxxs0Fr36WtcpKuosH6APjIIl95EE9k0RDJ
 g8/1GBh69iRLc/3MHtt5k8p/241n2QfVhYkv7LTUqZsII1WOtV1VszXfDDgJIIWVSXN/
 xKWszW3itjjWONWto05J1XxWql/1hbmYlYFoFFUFhvq0gzyewGXAdwyt3Z7C1+ChrHIt
 Dd8w==
X-Gm-Message-State: AOJu0YwIkP5Coa3cGuYYeYmRqoYDghfp1HYwA8K9LWLKJp3s2DshcEQu
 vzMNlsdMpIMo/uT9hxnZZzOVGC1EZW2V1CWXdHB1j1r2+Gu3x0J2ji9+wse+JNINCQ0TJZXDnYC
 0dJKdtuPd6J3/ue76JO8Inqi2Fq4sJjCFz7NkkqWx
X-Google-Smtp-Source: AGHT+IGppz/d2hMVR4ALpcqhortLToJ+kHRcfP0XDZ4WS/pcDaxqLuhqMlUcslqJAs+CtJAJ6MbQMloryiwR
X-Received: by 2002:a05:6a00:14d6:b0:6e5:3edd:5510 with SMTP id
 w22-20020a056a0014d600b006e53edd5510mr768628pfu.17.1709943174888; 
 Fri, 08 Mar 2024 16:12:54 -0800 (PST)
Received: from postal.iol.unh.edu (postal.iol.unh.edu. [132.177.123.84])
 by smtp-relay.gmail.com with ESMTPS id
 m20-20020a63f614000000b005dc42e2d3d3sm25458pgh.11.2024.03.08.16.12.54
 (version=TLS1_2 cipher=ECDHE-ECDSA-AES128-GCM-SHA256 bits=128/128);
 Fri, 08 Mar 2024 16:12:54 -0800 (PST)
X-Relaying-Domain: iol.unh.edu
Date: Fri, 08 Mar 2024 16:12:54 -0800 (PST)
Message-ID: <65eba986.630a0220.1eefe.1936SMTPIN_ADDED_MISSING@mx.google.com>
Received: from [172.17.0.8] (unknown [172.18.0.217])
 by postal.iol.unh.edu (Postfix) with ESMTP id 29C046052712;
 Fri,  8 Mar 2024 19:12:54 -0500 (EST)
Subject: |SUCCESS| pw138130-138132 [PATCH] [v3,3/3] testpmd: replace EAL logt
From: dpdklab@iol.unh.edu
To: Test Report <test-report@dpdk.org>
Cc: dpdk-test-reports@iol.unh.edu
In-Reply-To: <20240308181137.69855-4-stephen@networkplumber.org>
References: <20240308181137.69855-4-stephen@networkplumber.org>
Content-Type: text/plain
X-BeenThere: test-report@dpdk.org
X-Mailman-Version: 2.1.29
Precedence: list
List-Id: automatic DPDK test reports <test-report.dpdk.org>
List-Unsubscribe: <https://mails.dpdk.org/options/test-report>,
 <mailto:test-report-request@dpdk.org?subject=unsubscribe>
List-Archive: <http://mails.dpdk.org/archives/test-report/>
List-Post: <mailto:test-report@dpdk.org>
List-Help: <mailto:test-report-request@dpdk.org?subject=help>
List-Subscribe: <https://mails.dpdk.org/listinfo/test-report>,
 <mailto:test-report-request@dpdk.org?subject=subscribe>
Errors-To: test-report-bounces@dpdk.org

Test-Label: iol-compile-amd64-testing
Test-Status: SUCCESS
http://dpdk.org/patch/138132

_Testing PASS_

Submitter: Stephen Hemminger <stephen@networkplumber.org>
Date: Friday, March 08 2024 18:10:26 
DPDK git baseline: Repo:dpdk
  Branch: master
  CommitID:a86f381b826660e88794754c41d3aec79ce9b87c

138130-138132 --> testing pass

Test environment and result as below:

+---------------------+--------------------+----------------------+
|     Environment     | dpdk_meson_compile | dpdk_mingw64_compile |
+=====================+====================+======================+
| Windows Server 2022 | PASS               | SKIPPED              |
+---------------------+--------------------+----------------------+
| FreeBSD 13.2        | PASS               | SKIPPED              |
+---------------------+--------------------+----------------------+
| Windows Server 2019 | PASS               | PASS                 |
+---------------------+--------------------+----------------------+
| CentOS Stream 8     | PASS               | SKIPPED              |
+---------------------+--------------------+----------------------+
| Debian Bullseye     | PASS               | SKIPPED              |
+---------------------+--------------------+----------------------+
| Debian 12 (arm)     | PASS               | SKIPPED              |
+---------------------+--------------------+----------------------+
| CentOS Stream 9     | PASS               | SKIPPED              |
+---------------------+--------------------+----------------------+
| Fedora 37           | PASS               | SKIPPED              |
+---------------------+--------------------+----------------------+
| Fedora 38           | PASS               | SKIPPED              |
+---------------------+--------------------+----------------------+
| openSUSE Leap 15    | PASS               | SKIPPED              |
+---------------------+--------------------+----------------------+
| RHEL8               | PASS               | SKIPPED              |
+---------------------+--------------------+----------------------+
| Ubuntu 22.04        | PASS               | SKIPPED              |
+---------------------+--------------------+----------------------+
| Alpine              | PASS               | SKIPPED              |
+---------------------+--------------------+----------------------+
| Ubuntu 20.04        | PASS               | SKIPPED              |
+---------------------+--------------------+----------------------+


Windows Server 2022
	Kernel: OS Build 20348.2031
	Compiler: MSVC VS-Preview

FreeBSD 13.2
	Kernel: 13.2
	Compiler: clang 11.3.0

Windows Server 2019
	Kernel: 10.0
	Compiler: clang 14.0 and gcc 8.1.0 (MinGW)

CentOS Stream 8
	Kernel: 4.18.0-240.10.1.el8_3.x86_64
	Compiler: gcc 8.4.1 20200928

Debian Bullseye
	Kernel: 5.4.0-122-generic
	Compiler: gcc 10.2.1-6

Debian 12 (arm)
	Kernel: Container Host Kernel
	Compiler: gcc 11

CentOS Stream 9
	Kernel: 4.18.0-240.10.1.el8_3.x86_64
	Compiler: gcc 11.3.1 20220421

Fedora 37
	Kernel: Depends on container host system
	Compiler: gcc 12.3.1

Fedora 38
	Kernel: Depends on container host
	Compiler: gcc 13.1.1

openSUSE Leap 15
	Kernel: 4.18.0-240.10.1.el8_3.x86_64
	Compiler: gcc 7.5.0

RHEL8
	Kernel: 4.18.0-240.10.1.el8_3.x86_64
	Compiler: gcc 8.3.1 20191121 (Red Hat 8.3.1-5)

Ubuntu 22.04
	Kernel: 4.18.0-240.10.1.el8_3.x86_64
	Compiler: gcc 11.3.0

Alpine
	Kernel: 5.4.0-73-generic
	Compiler: gcc (Alpine 10.3.1_git20210424) 10.3.1 20210424

Ubuntu 20.04
	Kernel: 5.4.0-153-generic
	Compiler: gcc 9.4.0-1ubuntu1~20.04.1

To view detailed results, visit:
https://lab.dpdk.org/results/dashboard/patchsets/29482/

UNH-IOL DPDK Community Lab

To manage your email subscriptions, visit: 
https://lab.dpdk.org/results/dashboard/preferences/subscriptions/