From mboxrd@z Thu Jan  1 00:00:00 1970
Return-Path: <test-report-bounces@dpdk.org>
Received: from mails.dpdk.org (mails.dpdk.org [217.70.189.124])
	by inbox.dpdk.org (Postfix) with ESMTP id 865EF43C53
	for <public@inbox.dpdk.org>; Sat,  9 Mar 2024 01:14:15 +0100 (CET)
Received: from mails.dpdk.org (localhost [127.0.0.1])
	by mails.dpdk.org (Postfix) with ESMTP id 81F7F4027A;
	Sat,  9 Mar 2024 01:14:15 +0100 (CET)
Received: from mail-io1-f98.google.com (mail-io1-f98.google.com
 [209.85.166.98]) by mails.dpdk.org (Postfix) with ESMTP id C6AA14021D
 for <test-report@dpdk.org>; Sat,  9 Mar 2024 01:14:14 +0100 (CET)
Received: by mail-io1-f98.google.com with SMTP id
 ca18e2360f4ac-7c88c7a9262so64727739f.3
 for <test-report@dpdk.org>; Fri, 08 Mar 2024 16:14:14 -0800 (PST)
DKIM-Signature: v=1; a=rsa-sha256; c=relaxed/relaxed;
 d=iol.unh.edu; s=unh-iol; t=1709943254; x=1710548054; darn=dpdk.org;
 h=references:in-reply-to:cc:to:from:subject:message-id:date:from:to
 :cc:subject:date:message-id:reply-to;
 bh=bAZHmxz2490Wmvs7OY57Ef1KPPoZA9p5gphq1HEWSbk=;
 b=YXCsQXJxcPvReb77kxIMEFooif45xKS6Vpm8cH66v9mkp9FuhhbQ17MC4Fmja1SNu3
 4FRH6Nctrh6iiIXqRNPfOvZ/pMgWXgeOpgmHLkpdRVRBGhudZpRdh3mNnLe5aRZFoEeE
 uMJcJX8im+PJYPiGmsmOIAwWRDoz1NYGeM90U=
X-Google-DKIM-Signature: v=1; a=rsa-sha256; c=relaxed/relaxed;
 d=1e100.net; s=20230601; t=1709943254; x=1710548054;
 h=references:in-reply-to:cc:to:from:subject:message-id:date
 :x-gm-message-state:from:to:cc:subject:date:message-id:reply-to;
 bh=bAZHmxz2490Wmvs7OY57Ef1KPPoZA9p5gphq1HEWSbk=;
 b=FaGBPzztnGZ3LVoAuurzQw/jhJJ6eUGRp8loNntAM9EDWS2VXNbEqhS6mAtYAmEad0
 fsYMFeJawxYHPVZCM+1vy0DQY7KxVgSj9AFO3TtQ6NyCtRRFyseL95h0dc4hsG9RtNkY
 7fgvwRY8TJ0FrdArYI5egJWddhlKx+uQsqvBJxcGhm31fNhTms7VV2tPsI5vE/drl8Q2
 m7p8yH24KuoHVrXX9A0eUcTY4hSgFAZdtwIyf64PzqSFRxZvZYu7N6HLWIPmyMe7tCMg
 ySpp0JoWkkJwU8BucjQwcUldpx2vyhmTRHP1iEsBZSfw24/Yiqf0WvVdoZsPFEn8JeZn
 G0aQ==
X-Gm-Message-State: AOJu0Yyh5wdYqOo6e1yF9gdB3UfLyqLDh+ptQlUJyif5hMNKBUB2B1hr
 MX3bIJsjr/WJPPd7e8KzVJcluWu49K5E+cQXbpN9iFZ0TzRI25r6kSE9DipTBUr2/XgGrkz9rKN
 dgLbMhtHdlbNc3+hHziToSSrtd2DUNwDj0LwU+vARWSnDy40nu1w6xeef
X-Google-Smtp-Source: AGHT+IF5+Eo6t72pS1AePJ5BDMw0oeXnhqFWkTpuW+zfKjUIweXi5zo8Q45QhuOYt02fuVrT1kK5vVwsI/TF
X-Received: by 2002:a05:6e02:15c3:b0:365:5f55:4ae6 with SMTP id
 q3-20020a056e0215c300b003655f554ae6mr479205ilu.12.1709943254196; 
 Fri, 08 Mar 2024 16:14:14 -0800 (PST)
Received: from postal.iol.unh.edu (postal.iol.unh.edu.
 [2606:4100:3880:1234::84]) by smtp-relay.gmail.com with ESMTPS id
 x8-20020a056e02194800b00365ab0d225csm14991ilu.69.2024.03.08.16.14.14
 (version=TLS1_2 cipher=ECDHE-ECDSA-AES128-GCM-SHA256 bits=128/128);
 Fri, 08 Mar 2024 16:14:14 -0800 (PST)
X-Relaying-Domain: iol.unh.edu
Date: Fri, 08 Mar 2024 16:14:14 -0800 (PST)
Message-ID: <65eba9d6.050a0220.e7a23.0ed8SMTPIN_ADDED_MISSING@mx.google.com>
Received: from [172.17.0.6] (unknown [172.18.0.217])
 by postal.iol.unh.edu (Postfix) with ESMTP id B6B2B6052712;
 Fri,  8 Mar 2024 19:14:13 -0500 (EST)
Subject: |SUCCESS| pw138133 [PATCH] [v2] add a ignore list for get_maintainer
From: dpdklab@iol.unh.edu
To: Test Report <test-report@dpdk.org>
Cc: dpdk-test-reports@iol.unh.edu
In-Reply-To: <20240308181310.70014-1-stephen@networkplumber.org>
References: <20240308181310.70014-1-stephen@networkplumber.org>
Content-Type: text/plain
X-BeenThere: test-report@dpdk.org
X-Mailman-Version: 2.1.29
Precedence: list
List-Id: automatic DPDK test reports <test-report.dpdk.org>
List-Unsubscribe: <https://mails.dpdk.org/options/test-report>,
 <mailto:test-report-request@dpdk.org?subject=unsubscribe>
List-Archive: <http://mails.dpdk.org/archives/test-report/>
List-Post: <mailto:test-report@dpdk.org>
List-Help: <mailto:test-report-request@dpdk.org?subject=help>
List-Subscribe: <https://mails.dpdk.org/listinfo/test-report>,
 <mailto:test-report-request@dpdk.org?subject=subscribe>
Errors-To: test-report-bounces@dpdk.org

Test-Label: iol-compile-arm64-testing
Test-Status: SUCCESS
http://dpdk.org/patch/138133

_Testing PASS_

Submitter: Stephen Hemminger <stephen@networkplumber.org>
Date: Friday, March 08 2024 18:12:51 
DPDK git baseline: Repo:dpdk
  Branch: master
  CommitID:a86f381b826660e88794754c41d3aec79ce9b87c

138133 --> testing pass

Test environment and result as below:

+----------------------------------------+--------------------+
|              Environment               | dpdk_meson_compile |
+========================================+====================+
| Ubuntu 20.04 ARM SVE                   | PASS               |
+----------------------------------------+--------------------+
| Ubuntu 20.04 ARM GCC Cross Compile     | PASS               |
+----------------------------------------+--------------------+
| Debian 12 with MUSDK                   | PASS               |
+----------------------------------------+--------------------+
| Ubuntu 20.04 aarch32 GCC Cross Compile | PASS               |
+----------------------------------------+--------------------+
| Ubuntu 20.04 ARM Clang Cross Compile   | PASS               |
+----------------------------------------+--------------------+
| Fedora 38 (ARM)                        | PASS               |
+----------------------------------------+--------------------+
| Fedora 37 (ARM)                        | PASS               |
+----------------------------------------+--------------------+
| Debian 11 (Buster) (ARM)               | PASS               |
+----------------------------------------+--------------------+
| Debian 12 (arm)                        | PASS               |
+----------------------------------------+--------------------+
| Ubuntu 20.04 (ARM)                     | PASS               |
+----------------------------------------+--------------------+
| CentOS Stream 9 (ARM)                  | PASS               |
+----------------------------------------+--------------------+


Ubuntu 20.04 ARM SVE
	Kernel: 5.4.0-80-generic
	Compiler: gcc 10.3.0 (Ubuntu 10.3.0-1ubuntu1~20.04)

Ubuntu 20.04 ARM GCC Cross Compile
	Kernel: 5.4.0-72-generic
	Compiler: aarch64-linux-gnu-gcc (Ubuntu 9.3.0-17ubuntu1~20.04) 9.3.0

Debian 12 with MUSDK
	Kernel: Container Host Kernel
	Compiler: gcc 12

Ubuntu 20.04 aarch32 GCC Cross Compile
	Kernel: 5.4.0-72-generic
	Compiler: gcc 9.3.0

Ubuntu 20.04 ARM Clang Cross Compile
	Kernel: 5.4.0-72-generic
	Compiler: clang version 10.0.0-4ubuntu1

Fedora 38 (ARM)
	Kernel: Depends on container host
	Compiler: gcc 13.1.1

Fedora 37 (ARM)
	Kernel: Depends on container host
	Compiler: gcc 12.3.1

Debian 11 (Buster) (ARM)
	Kernel: Container Host Kernel
	Compiler: gcc 10.2.1

Debian 12 (arm)
	Kernel: Container Host Kernel
	Compiler: gcc 11

Ubuntu 20.04 (ARM)
	Kernel: Container Host Kernel
	Compiler: gcc 9.4.0

CentOS Stream 9 (ARM)
	Kernel: Container Host Kernel
	Compiler: gcc 11.3.1

To view detailed results, visit:
https://lab.dpdk.org/results/dashboard/patchsets/29483/

UNH-IOL DPDK Community Lab

To manage your email subscriptions, visit: 
https://lab.dpdk.org/results/dashboard/preferences/subscriptions/