From mboxrd@z Thu Jan  1 00:00:00 1970
Return-Path: <test-report-bounces@dpdk.org>
Received: from mails.dpdk.org (mails.dpdk.org [217.70.189.124])
	by inbox.dpdk.org (Postfix) with ESMTP id 1166543C53
	for <public@inbox.dpdk.org>; Sat,  9 Mar 2024 01:15:07 +0100 (CET)
Received: from mails.dpdk.org (localhost [127.0.0.1])
	by mails.dpdk.org (Postfix) with ESMTP id 09A454027A;
	Sat,  9 Mar 2024 01:15:07 +0100 (CET)
Received: from mail-oa1-f97.google.com (mail-oa1-f97.google.com
 [209.85.160.97]) by mails.dpdk.org (Postfix) with ESMTP id ADAA44021D
 for <test-report@dpdk.org>; Sat,  9 Mar 2024 01:15:05 +0100 (CET)
Received: by mail-oa1-f97.google.com with SMTP id
 586e51a60fabf-21ffac15528so1105067fac.0
 for <test-report@dpdk.org>; Fri, 08 Mar 2024 16:15:05 -0800 (PST)
DKIM-Signature: v=1; a=rsa-sha256; c=relaxed/relaxed;
 d=iol.unh.edu; s=unh-iol; t=1709943305; x=1710548105; darn=dpdk.org;
 h=references:in-reply-to:cc:to:from:subject:message-id:date:from:to
 :cc:subject:date:message-id:reply-to;
 bh=qpNSWEY9nZUy8k/gL8+SYwwAfsamMQ08CEbdzNwjuPY=;
 b=Dr8dEUGZOdRj9sXhbGVLUuN6xz+raX0T7rY0aCxA0kBpL4cANJavkVWF7U4xChgw4D
 fPYdcRk1MM77nLS6XaVCKdxHI0yxnv7IgiWk3gGkD19Ni/T6EBJ1xL1xCpHQZ7wl3c0g
 JFUBaeaQ+sXboma6tHQKe+FpPaszHADq9blGY=
X-Google-DKIM-Signature: v=1; a=rsa-sha256; c=relaxed/relaxed;
 d=1e100.net; s=20230601; t=1709943305; x=1710548105;
 h=references:in-reply-to:cc:to:from:subject:message-id:date
 :x-gm-message-state:from:to:cc:subject:date:message-id:reply-to;
 bh=qpNSWEY9nZUy8k/gL8+SYwwAfsamMQ08CEbdzNwjuPY=;
 b=jdXN6DB34t7NvzANVNtTuGWWt6yW+s7Qx+ycnee9u33G87Ei9ILLjZVa7JLC0rs7vL
 6Vu2X9U79JcFsJ7GjYBPW0h/xTttkv743dmU/Xmu4fcrEG6ngEr8f89LDMH70KaeRWKX
 7ZwMsNXZvKsZH3LzBbJ2AriH+tmn3tMuh+mXj1hXisvXf7wpuVA+PwbZ0hf3U5IH9ODC
 deePE4ZAdySQEeHp1weG+2vKdoga9Ftsl4EcL6HyXn+yGkzkPYTtcaULe92+V0is4qS9
 O8XHVWQISDYyOBQBV2w167iBn6404EPIHq7CEU6BJvgw3Sqcu/QVQxIwNO/P3p9QLWc5
 smjw==
X-Gm-Message-State: AOJu0YyQNeUkOCxdkfQczzniOxBqALNl+LzjmrWED32HPufy8xHoirv4
 oCF/zmHFXCMs4sZ3q56aWEVmGj/aaisBDK+RspX5/C35ibXgLgIi/A4TMxOXjIxGqPhPjaWy0yP
 4HpVQEjUI0xkbfAe0yRc49ZCapAtYI3t+a9y07/2aiRu9UkUSJO5a1ezZ
X-Google-Smtp-Source: AGHT+IEfF7s3yEo/tily8wdzHRinFjj89+JPReCVdkkIqXuFhRouwbq1DsQKuF7nJIO13dibfepvIf1K0fAL
X-Received: by 2002:a05:6870:55d3:b0:220:f86d:160b with SMTP id
 qk19-20020a05687055d300b00220f86d160bmr691046oac.43.1709943305113; 
 Fri, 08 Mar 2024 16:15:05 -0800 (PST)
Received: from postal.iol.unh.edu (postal.iol.unh.edu.
 [2606:4100:3880:1234::84]) by smtp-relay.gmail.com with ESMTPS id
 lv27-20020a056871319b00b0021e64b6a8a9sm17437oac.27.2024.03.08.16.15.05
 (version=TLS1_2 cipher=ECDHE-ECDSA-AES128-GCM-SHA256 bits=128/128);
 Fri, 08 Mar 2024 16:15:05 -0800 (PST)
X-Relaying-Domain: iol.unh.edu
Date: Fri, 08 Mar 2024 16:15:05 -0800 (PST)
Message-ID: <65ebaa09.050a0220.8db91.11e8SMTPIN_ADDED_MISSING@mx.google.com>
Received: from [172.17.0.8] (unknown [172.18.0.217])
 by postal.iol.unh.edu (Postfix) with ESMTP id 990076052712;
 Fri,  8 Mar 2024 19:15:04 -0500 (EST)
Subject: |SUCCESS| pw138130-138132 [PATCH] [v3,3/3] testpmd: replace EAL logt
From: dpdklab@iol.unh.edu
To: Test Report <test-report@dpdk.org>
Cc: dpdk-test-reports@iol.unh.edu
In-Reply-To: <20240308181137.69855-4-stephen@networkplumber.org>
References: <20240308181137.69855-4-stephen@networkplumber.org>
Content-Type: text/plain
X-BeenThere: test-report@dpdk.org
X-Mailman-Version: 2.1.29
Precedence: list
List-Id: automatic DPDK test reports <test-report.dpdk.org>
List-Unsubscribe: <https://mails.dpdk.org/options/test-report>,
 <mailto:test-report-request@dpdk.org?subject=unsubscribe>
List-Archive: <http://mails.dpdk.org/archives/test-report/>
List-Post: <mailto:test-report@dpdk.org>
List-Help: <mailto:test-report-request@dpdk.org?subject=help>
List-Subscribe: <https://mails.dpdk.org/listinfo/test-report>,
 <mailto:test-report-request@dpdk.org?subject=subscribe>
Errors-To: test-report-bounces@dpdk.org

Test-Label: iol-compile-amd64-testing
Test-Status: SUCCESS
http://dpdk.org/patch/138132

_Testing PASS_

Submitter: Stephen Hemminger <stephen@networkplumber.org>
Date: Friday, March 08 2024 18:10:26 
DPDK git baseline: Repo:dpdk
  Branch: master
  CommitID:a86f381b826660e88794754c41d3aec79ce9b87c

138130-138132 --> testing pass

Test environment and result as below:

+---------------------+--------------------+----------------------+
|     Environment     | dpdk_meson_compile | dpdk_mingw64_compile |
+=====================+====================+======================+
| Windows Server 2022 | PASS               | SKIPPED              |
+---------------------+--------------------+----------------------+
| FreeBSD 13.2        | PASS               | SKIPPED              |
+---------------------+--------------------+----------------------+
| Windows Server 2019 | PASS               | PASS                 |
+---------------------+--------------------+----------------------+
| CentOS Stream 8     | PASS               | SKIPPED              |
+---------------------+--------------------+----------------------+
| Debian Bullseye     | PASS               | SKIPPED              |
+---------------------+--------------------+----------------------+
| Debian 12 (arm)     | PASS               | SKIPPED              |
+---------------------+--------------------+----------------------+
| CentOS Stream 9     | PASS               | SKIPPED              |
+---------------------+--------------------+----------------------+
| Fedora 37           | PASS               | SKIPPED              |
+---------------------+--------------------+----------------------+
| Fedora 38           | PASS               | SKIPPED              |
+---------------------+--------------------+----------------------+
| openSUSE Leap 15    | PASS               | SKIPPED              |
+---------------------+--------------------+----------------------+
| RHEL8               | PASS               | SKIPPED              |
+---------------------+--------------------+----------------------+
| Ubuntu 22.04        | PASS               | SKIPPED              |
+---------------------+--------------------+----------------------+
| Alpine              | PASS               | SKIPPED              |
+---------------------+--------------------+----------------------+
| Ubuntu 20.04        | PASS               | SKIPPED              |
+---------------------+--------------------+----------------------+


Windows Server 2022
	Kernel: OS Build 20348.2031
	Compiler: MSVC VS-Preview

FreeBSD 13.2
	Kernel: 13.2
	Compiler: clang 11.3.0

Windows Server 2019
	Kernel: 10.0
	Compiler: clang 14.0 and gcc 8.1.0 (MinGW)

CentOS Stream 8
	Kernel: 4.18.0-240.10.1.el8_3.x86_64
	Compiler: gcc 8.4.1 20200928

Debian Bullseye
	Kernel: 5.4.0-122-generic
	Compiler: gcc 10.2.1-6

Debian 12 (arm)
	Kernel: Container Host Kernel
	Compiler: gcc 11

CentOS Stream 9
	Kernel: 4.18.0-240.10.1.el8_3.x86_64
	Compiler: gcc 11.3.1 20220421

Fedora 37
	Kernel: Depends on container host system
	Compiler: gcc 12.3.1

Fedora 38
	Kernel: Depends on container host
	Compiler: gcc 13.1.1

openSUSE Leap 15
	Kernel: 4.18.0-240.10.1.el8_3.x86_64
	Compiler: gcc 7.5.0

RHEL8
	Kernel: 4.18.0-240.10.1.el8_3.x86_64
	Compiler: gcc 8.3.1 20191121 (Red Hat 8.3.1-5)

Ubuntu 22.04
	Kernel: 4.18.0-240.10.1.el8_3.x86_64
	Compiler: gcc 11.3.0

Alpine
	Kernel: 5.4.0-73-generic
	Compiler: gcc (Alpine 10.3.1_git20210424) 10.3.1 20210424

Ubuntu 20.04
	Kernel: 5.4.0-153-generic
	Compiler: gcc 9.4.0-1ubuntu1~20.04.1

To view detailed results, visit:
https://lab.dpdk.org/results/dashboard/patchsets/29482/

UNH-IOL DPDK Community Lab

To manage your email subscriptions, visit: 
https://lab.dpdk.org/results/dashboard/preferences/subscriptions/