From mboxrd@z Thu Jan  1 00:00:00 1970
Return-Path: <test-report-bounces@dpdk.org>
Received: from mails.dpdk.org (mails.dpdk.org [217.70.189.124])
	by inbox.dpdk.org (Postfix) with ESMTP id 7D8E643C53
	for <public@inbox.dpdk.org>; Sat,  9 Mar 2024 01:19:35 +0100 (CET)
Received: from mails.dpdk.org (localhost [127.0.0.1])
	by mails.dpdk.org (Postfix) with ESMTP id 75EF74027A;
	Sat,  9 Mar 2024 01:19:35 +0100 (CET)
Received: from mail-il1-f225.google.com (mail-il1-f225.google.com
 [209.85.166.225])
 by mails.dpdk.org (Postfix) with ESMTP id 76D314021D
 for <test-report@dpdk.org>; Sat,  9 Mar 2024 01:19:34 +0100 (CET)
Received: by mail-il1-f225.google.com with SMTP id
 e9e14a558f8ab-3662e03ac1fso5609425ab.1
 for <test-report@dpdk.org>; Fri, 08 Mar 2024 16:19:34 -0800 (PST)
DKIM-Signature: v=1; a=rsa-sha256; c=relaxed/relaxed;
 d=iol.unh.edu; s=unh-iol; t=1709943574; x=1710548374; darn=dpdk.org;
 h=references:in-reply-to:cc:to:from:subject:message-id:date:from:to
 :cc:subject:date:message-id:reply-to;
 bh=2t/8KkAiz2Wef/xjv0qzd1vF0LkjNBtm1kZ7EIQ6+aU=;
 b=gEdtUkaxvimK2c+1Y0NhQO92WOE3BQd8ni+qIa3/pr1xcNRGxXSPyttsOPZEC+xkkm
 EK8iIZY0VcVPcK7bc/9g5MWGOacBZZ6BT1FmJqZ7ZgMPT0bobPKFsETa9H9/ltO26hQ+
 g94qQWMXXS+Z1b+zG/1GEeGzh/GXkfN3FqpUM=
X-Google-DKIM-Signature: v=1; a=rsa-sha256; c=relaxed/relaxed;
 d=1e100.net; s=20230601; t=1709943574; x=1710548374;
 h=references:in-reply-to:cc:to:from:subject:message-id:date
 :x-gm-message-state:from:to:cc:subject:date:message-id:reply-to;
 bh=2t/8KkAiz2Wef/xjv0qzd1vF0LkjNBtm1kZ7EIQ6+aU=;
 b=mEJB4Hp8OM0FmpuOoWUX6CAliIr2JlyHdx0gdI9wzOWYVqJLvYelxtbutLeJ/1lUUI
 9zykNuhuiu1iH4VBBYF2gp5pi5NO3HwkuIiqLAVXE3HLgnTByl8MrXjiLug7TLz4eXTV
 f/QzMyi5ffRGDCO5gLS9igzjhUAp3H8MXqzpASEqHF8dG2Dz77r5QDrBxod4iI+elVIy
 BSaPkeMG1n9TgEjV3i9srEDPdTRl/u7afglu+LF8It2CfbSVfdNNKrm0gYhYKxcZ6CaI
 JS1+5v3eDe3Wpg6dzCej5e8PhfDgWwCrYqA3QvGWKXu9C8EmCbMrzX3uxy9Aqpa7a8qe
 HXdw==
X-Gm-Message-State: AOJu0YxIf0s44xwnpm4x0267+nJgNWG0RcR9QIypaCKeixoS0I7CbhUI
 c0fCK0DCoxiIXWOIaiznXc3HBrRaGgduLFZc1Ch4PXPfoXlyRBKVPiRURq0lO6qt+jeB9ibNQfN
 xPD1NvqWabxC5ORoyZGU6O8uKiAQHydid4yzLIBkfLpell8TtTMYU0T0a
X-Google-Smtp-Source: AGHT+IHGVE7Q6lU1uVO/iUq2VzoJJR9G4VfillsG/mHiUivLOklmvZefv2gqp6Fc/UeixRe9WzCa8IgPPscg
X-Received: by 2002:a05:6e02:1a48:b0:365:2d9a:5093 with SMTP id
 u8-20020a056e021a4800b003652d9a5093mr618799ilv.12.1709943573848; 
 Fri, 08 Mar 2024 16:19:33 -0800 (PST)
Received: from postal.iol.unh.edu (postal.iol.unh.edu.
 [2606:4100:3880:1234::84]) by smtp-relay.gmail.com with ESMTPS id
 cn10-20020a056e02388a00b00363a21d4f6dsm16941ilb.63.2024.03.08.16.19.33
 (version=TLS1_2 cipher=ECDHE-ECDSA-AES128-GCM-SHA256 bits=128/128);
 Fri, 08 Mar 2024 16:19:33 -0800 (PST)
X-Relaying-Domain: iol.unh.edu
Date: Fri, 08 Mar 2024 16:19:33 -0800 (PST)
Message-ID: <65ebab15.050a0220.4ae6d.1133SMTPIN_ADDED_MISSING@mx.google.com>
Received: from [172.21.0.6] (unknown [172.18.0.240])
 by postal.iol.unh.edu (Postfix) with ESMTP id 62D336052712;
 Fri,  8 Mar 2024 19:19:33 -0500 (EST)
Subject: |SUCCESS| pw138130-138132 [PATCH] [v3,3/3] testpmd: replace EAL logt
From: dpdklab@iol.unh.edu
To: Test Report <test-report@dpdk.org>
Cc: dpdk-test-reports@iol.unh.edu
In-Reply-To: <20240308181137.69855-4-stephen@networkplumber.org>
References: <20240308181137.69855-4-stephen@networkplumber.org>
Content-Type: text/plain
X-BeenThere: test-report@dpdk.org
X-Mailman-Version: 2.1.29
Precedence: list
List-Id: automatic DPDK test reports <test-report.dpdk.org>
List-Unsubscribe: <https://mails.dpdk.org/options/test-report>,
 <mailto:test-report-request@dpdk.org?subject=unsubscribe>
List-Archive: <http://mails.dpdk.org/archives/test-report/>
List-Post: <mailto:test-report@dpdk.org>
List-Help: <mailto:test-report-request@dpdk.org?subject=help>
List-Subscribe: <https://mails.dpdk.org/listinfo/test-report>,
 <mailto:test-report-request@dpdk.org?subject=subscribe>
Errors-To: test-report-bounces@dpdk.org

Test-Label: iol-unit-arm64-testing
Test-Status: SUCCESS
http://dpdk.org/patch/138132

_Testing PASS_

Submitter: Stephen Hemminger <stephen@networkplumber.org>
Date: Friday, March 08 2024 18:10:26 
DPDK git baseline: Repo:dpdk
  Branch: master
  CommitID:a86f381b826660e88794754c41d3aec79ce9b87c

138130-138132 --> testing pass

Test environment and result as below:

+--------------------------+--------------+----------------+---------------------------+------------------------------+
|       Environment        | lpm_autotest | dpdk_unit_test | cryptodev_sw_zuc_autotest | cryptodev_sw_snow3g_autotest |
+==========================+==============+================+===========================+==============================+
| Ubuntu 20.04 ARM SVE     | PASS         | SKIPPED        | SKIPPED                   | SKIPPED                      |
+--------------------------+--------------+----------------+---------------------------+------------------------------+
| CentOS Stream 9 (ARM)    | SKIPPED      | PASS           | SKIPPED                   | SKIPPED                      |
+--------------------------+--------------+----------------+---------------------------+------------------------------+
| Debian 11 (Buster) (ARM) | SKIPPED      | PASS           | SKIPPED                   | SKIPPED                      |
+--------------------------+--------------+----------------+---------------------------+------------------------------+
| Debian 12 (arm)          | SKIPPED      | PASS           | PASS                      | PASS                         |
+--------------------------+--------------+----------------+---------------------------+------------------------------+
| Fedora 37 (ARM)          | SKIPPED      | PASS           | SKIPPED                   | SKIPPED                      |
+--------------------------+--------------+----------------+---------------------------+------------------------------+
| Fedora 38 (ARM)          | SKIPPED      | PASS           | SKIPPED                   | SKIPPED                      |
+--------------------------+--------------+----------------+---------------------------+------------------------------+
| Ubuntu 20.04 (ARM)       | SKIPPED      | PASS           | SKIPPED                   | SKIPPED                      |
+--------------------------+--------------+----------------+---------------------------+------------------------------+


Ubuntu 20.04 ARM SVE
	Kernel: 5.4.0-80-generic
	Compiler: gcc 10.3.0 (Ubuntu 10.3.0-1ubuntu1~20.04)

CentOS Stream 9 (ARM)
	Kernel: Container Host Kernel
	Compiler: gcc 11.3.1

Debian 11 (Buster) (ARM)
	Kernel: Container Host Kernel
	Compiler: gcc 10.2.1

Debian 12 (arm)
	Kernel: Container Host Kernel
	Compiler: gcc 11

Fedora 37 (ARM)
	Kernel: Depends on container host
	Compiler: gcc 12.3.1

Fedora 38 (ARM)
	Kernel: Depends on container host
	Compiler: gcc 13.1.1

Ubuntu 20.04 (ARM)
	Kernel: Container Host Kernel
	Compiler: gcc 9.4.0

To view detailed results, visit:
https://lab.dpdk.org/results/dashboard/patchsets/29482/

UNH-IOL DPDK Community Lab

To manage your email subscriptions, visit: 
https://lab.dpdk.org/results/dashboard/preferences/subscriptions/