From mboxrd@z Thu Jan  1 00:00:00 1970
Return-Path: <test-report-bounces@dpdk.org>
Received: from mails.dpdk.org (mails.dpdk.org [217.70.189.124])
	by inbox.dpdk.org (Postfix) with ESMTP id 0F8A543C53
	for <public@inbox.dpdk.org>; Sat,  9 Mar 2024 01:20:22 +0100 (CET)
Received: from mails.dpdk.org (localhost [127.0.0.1])
	by mails.dpdk.org (Postfix) with ESMTP id 0B2E64027A;
	Sat,  9 Mar 2024 01:20:22 +0100 (CET)
Received: from mail-oa1-f99.google.com (mail-oa1-f99.google.com
 [209.85.160.99]) by mails.dpdk.org (Postfix) with ESMTP id 21A3F4021D
 for <test-report@dpdk.org>; Sat,  9 Mar 2024 01:20:20 +0100 (CET)
Received: by mail-oa1-f99.google.com with SMTP id
 586e51a60fabf-21fb368b468so1521864fac.0
 for <test-report@dpdk.org>; Fri, 08 Mar 2024 16:20:20 -0800 (PST)
DKIM-Signature: v=1; a=rsa-sha256; c=relaxed/relaxed;
 d=iol.unh.edu; s=unh-iol; t=1709943619; x=1710548419; darn=dpdk.org;
 h=references:in-reply-to:cc:to:from:subject:message-id:date:from:to
 :cc:subject:date:message-id:reply-to;
 bh=2t/8KkAiz2Wef/xjv0qzd1vF0LkjNBtm1kZ7EIQ6+aU=;
 b=UAA9LyK2Zk4mMUvdRc5TV6BP3pNl9NHLyQ8yblM1t+Ko+HhHjCJSoW/slSDBWRio+k
 0rUFrNmakEybwQ5gilfh+Br9Lh/6/DJS0pZUeb8RlzIXWJqck4TvsL05v+swqtQ/ipbZ
 huYqJcX5pXzsKsCM/qVy9zLJkmsiSEq/CFse8=
X-Google-DKIM-Signature: v=1; a=rsa-sha256; c=relaxed/relaxed;
 d=1e100.net; s=20230601; t=1709943619; x=1710548419;
 h=references:in-reply-to:cc:to:from:subject:message-id:date
 :x-gm-message-state:from:to:cc:subject:date:message-id:reply-to;
 bh=2t/8KkAiz2Wef/xjv0qzd1vF0LkjNBtm1kZ7EIQ6+aU=;
 b=Gb76wFuNny5x35ZXb5KdSe5CEyjKcA5vX/1Ng404QXw8Q4B3QHtUZkXEpRILqQraOP
 qBBjxbZRKiljpcr5hZWf3/0EgxNTDrv2N8HbWBqd/5+Gj3R4xTWTNbwFJIgMvjdV9+S+
 89nykQR0ubHPC89+WMJePYEvo1XgboeInrxuFVJDM1t14qeVKGvtABw933Ulc0aZKe/M
 xQkmmbI14k+dE3PprPDQ+rL5y8yoTZp2XhOLOOKfy8zJr2s8U3NgBJq1CnTgpJyMA1UW
 9J1mU+8FeuCJYPtiEKTzjx7Aegwxh8S+68TBs5WHD8WVExehvJhYTVrXEcwkpszxtdy0
 77Dw==
X-Gm-Message-State: AOJu0Yw9ndbvBtZfhN+wqJYZPuijIiNRPyD37flZb4cy+B62033UXjdh
 745Kuf65goGAz/PU4FdUW5uAJlqyYZt8plJC9XsvP+wRJQtDnfjk2xkHArIm7AEDKxiRMHaiKrq
 OrX791y+55oDMlER24WI5VMob5dwUK3rRZh7XKFA1
X-Google-Smtp-Source: AGHT+IEfndwCgX73xtN1CChGe7Ym/PCMD6563MBb02g0RxOHd+B18py/NyuTBIeP7IhHk9mTEfmo2Vpdfuqc
X-Received: by 2002:a05:6870:200b:b0:221:8e01:4c6f with SMTP id
 o11-20020a056870200b00b002218e014c6fmr690364oab.36.1709943619442; 
 Fri, 08 Mar 2024 16:20:19 -0800 (PST)
Received: from postal.iol.unh.edu (postal.iol.unh.edu. [132.177.123.84])
 by smtp-relay.gmail.com with ESMTPS id
 ca1-20020a056830610100b006e4ec017306sm39993otb.9.2024.03.08.16.20.19
 (version=TLS1_2 cipher=ECDHE-ECDSA-AES128-GCM-SHA256 bits=128/128);
 Fri, 08 Mar 2024 16:20:19 -0800 (PST)
X-Relaying-Domain: iol.unh.edu
Date: Fri, 08 Mar 2024 16:20:19 -0800 (PST)
Message-ID: <65ebab43.050a0220.78318.25b5SMTPIN_ADDED_MISSING@mx.google.com>
Received: from [172.21.0.6] (unknown [172.18.0.240])
 by postal.iol.unh.edu (Postfix) with ESMTP id E99FB6052712;
 Fri,  8 Mar 2024 19:20:18 -0500 (EST)
Subject: |SUCCESS| pw138130-138132 [PATCH] [v3,3/3] testpmd: replace EAL logt
From: dpdklab@iol.unh.edu
To: Test Report <test-report@dpdk.org>
Cc: dpdk-test-reports@iol.unh.edu
In-Reply-To: <20240308181137.69855-4-stephen@networkplumber.org>
References: <20240308181137.69855-4-stephen@networkplumber.org>
Content-Type: text/plain
X-BeenThere: test-report@dpdk.org
X-Mailman-Version: 2.1.29
Precedence: list
List-Id: automatic DPDK test reports <test-report.dpdk.org>
List-Unsubscribe: <https://mails.dpdk.org/options/test-report>,
 <mailto:test-report-request@dpdk.org?subject=unsubscribe>
List-Archive: <http://mails.dpdk.org/archives/test-report/>
List-Post: <mailto:test-report@dpdk.org>
List-Help: <mailto:test-report-request@dpdk.org?subject=help>
List-Subscribe: <https://mails.dpdk.org/listinfo/test-report>,
 <mailto:test-report-request@dpdk.org?subject=subscribe>
Errors-To: test-report-bounces@dpdk.org

Test-Label: iol-unit-arm64-testing
Test-Status: SUCCESS
http://dpdk.org/patch/138132

_Testing PASS_

Submitter: Stephen Hemminger <stephen@networkplumber.org>
Date: Friday, March 08 2024 18:10:26 
DPDK git baseline: Repo:dpdk
  Branch: master
  CommitID:a86f381b826660e88794754c41d3aec79ce9b87c

138130-138132 --> testing pass

Test environment and result as below:

+--------------------------+--------------+----------------+---------------------------+------------------------------+
|       Environment        | lpm_autotest | dpdk_unit_test | cryptodev_sw_zuc_autotest | cryptodev_sw_snow3g_autotest |
+==========================+==============+================+===========================+==============================+
| Ubuntu 20.04 ARM SVE     | PASS         | SKIPPED        | SKIPPED                   | SKIPPED                      |
+--------------------------+--------------+----------------+---------------------------+------------------------------+
| CentOS Stream 9 (ARM)    | SKIPPED      | PASS           | SKIPPED                   | SKIPPED                      |
+--------------------------+--------------+----------------+---------------------------+------------------------------+
| Debian 11 (Buster) (ARM) | SKIPPED      | PASS           | SKIPPED                   | SKIPPED                      |
+--------------------------+--------------+----------------+---------------------------+------------------------------+
| Debian 12 (arm)          | SKIPPED      | PASS           | PASS                      | PASS                         |
+--------------------------+--------------+----------------+---------------------------+------------------------------+
| Fedora 37 (ARM)          | SKIPPED      | PASS           | SKIPPED                   | SKIPPED                      |
+--------------------------+--------------+----------------+---------------------------+------------------------------+
| Fedora 38 (ARM)          | SKIPPED      | PASS           | SKIPPED                   | SKIPPED                      |
+--------------------------+--------------+----------------+---------------------------+------------------------------+
| Ubuntu 20.04 (ARM)       | SKIPPED      | PASS           | SKIPPED                   | SKIPPED                      |
+--------------------------+--------------+----------------+---------------------------+------------------------------+


Ubuntu 20.04 ARM SVE
	Kernel: 5.4.0-80-generic
	Compiler: gcc 10.3.0 (Ubuntu 10.3.0-1ubuntu1~20.04)

CentOS Stream 9 (ARM)
	Kernel: Container Host Kernel
	Compiler: gcc 11.3.1

Debian 11 (Buster) (ARM)
	Kernel: Container Host Kernel
	Compiler: gcc 10.2.1

Debian 12 (arm)
	Kernel: Container Host Kernel
	Compiler: gcc 11

Fedora 37 (ARM)
	Kernel: Depends on container host
	Compiler: gcc 12.3.1

Fedora 38 (ARM)
	Kernel: Depends on container host
	Compiler: gcc 13.1.1

Ubuntu 20.04 (ARM)
	Kernel: Container Host Kernel
	Compiler: gcc 9.4.0

To view detailed results, visit:
https://lab.dpdk.org/results/dashboard/patchsets/29482/

UNH-IOL DPDK Community Lab

To manage your email subscriptions, visit: 
https://lab.dpdk.org/results/dashboard/preferences/subscriptions/