From mboxrd@z Thu Jan  1 00:00:00 1970
Return-Path: <test-report-bounces@dpdk.org>
Received: from mails.dpdk.org (mails.dpdk.org [217.70.189.124])
	by inbox.dpdk.org (Postfix) with ESMTP id 80E1E43C53
	for <public@inbox.dpdk.org>; Sat,  9 Mar 2024 01:23:25 +0100 (CET)
Received: from mails.dpdk.org (localhost [127.0.0.1])
	by mails.dpdk.org (Postfix) with ESMTP id 7933C4027A;
	Sat,  9 Mar 2024 01:23:25 +0100 (CET)
Received: from mail-oo1-f99.google.com (mail-oo1-f99.google.com
 [209.85.161.99]) by mails.dpdk.org (Postfix) with ESMTP id 0F5084021D
 for <test-report@dpdk.org>; Sat,  9 Mar 2024 01:23:24 +0100 (CET)
Received: by mail-oo1-f99.google.com with SMTP id
 006d021491bc7-5a1ca29db62so630056eaf.0
 for <test-report@dpdk.org>; Fri, 08 Mar 2024 16:23:24 -0800 (PST)
DKIM-Signature: v=1; a=rsa-sha256; c=relaxed/relaxed;
 d=iol.unh.edu; s=unh-iol; t=1709943803; x=1710548603; darn=dpdk.org;
 h=references:in-reply-to:cc:to:from:subject:message-id:date:from:to
 :cc:subject:date:message-id:reply-to;
 bh=YIK4MJPwYY/iPYivtpgcBsEd9CNMY+gPNW8i0yua/QM=;
 b=LM4w2vGjo6eEjkX40F1TldKO/Ag22LsSRtgJQZDDWQpH6h8gSny4vu8DP7Y+u4klhd
 Qvoh7EuXxi7Iserami1DUA/g9A/7UB8a4honurt4GrjDOB5YzvgxUKCnKRxVTbUyMfvd
 jVA0gE4YrBHylEBRNxDCxOsVMestOwMGhi1ug=
X-Google-DKIM-Signature: v=1; a=rsa-sha256; c=relaxed/relaxed;
 d=1e100.net; s=20230601; t=1709943803; x=1710548603;
 h=references:in-reply-to:cc:to:from:subject:message-id:date
 :x-gm-message-state:from:to:cc:subject:date:message-id:reply-to;
 bh=YIK4MJPwYY/iPYivtpgcBsEd9CNMY+gPNW8i0yua/QM=;
 b=Lye9uGesGs2zJRin9f0VUT6lrEQTbMd4ZEmr5WkpjxUHUYOCPP4ZDIPqJWFbCP16gS
 gNacuqJudiefEKZPS8Z7pvuX4fC8SxNB0/EvvQhYEZKC5bha7Y6V6+1tiQGjdZ4iNKnT
 mAU7OYbOK90FED4qUDCpQLWgn95RT0Fnd53e0lKI2GNYUb5qxIqMz8XC1+diFOwAd5W+
 zIjfgPR2QTTbsb9sMJy8xl7/6e7a1zmshRrcQ6E1apCeGDgNsUMlA4Dcze0ybcxtBy3i
 B/m0quhuI+p/cbfOQlzBWpOsZF+w/H8vE8YGky67GQNxhKbz4MqzUJI5d835/rvwzeqs
 u6Cw==
X-Gm-Message-State: AOJu0YwXgoZtKamspfFN3vMwlQ82sBxT5FycTRoRf2JwGOXjsxOS3xFB
 Kvbsqvpq5O97v8YxPTJBXz24qjqaiVbGOqWPosC/2Hhf97hQH2FjzgoV2pCw6ymfLrivGvAeamk
 1TJ7dsYsu6k03ILgqL6at9L/Ns59XuZtoQFqBMZWs
X-Google-Smtp-Source: AGHT+IEA185oOgbLGrTkjSklxRt/zWDu6M9N3TXlRA+brIuvpFWPdDk/cmplCGz/vOsQkKqii1FJlUkFyFk6
X-Received: by 2002:a4a:3517:0:b0:5a1:21fc:7508 with SMTP id
 l23-20020a4a3517000000b005a121fc7508mr895907ooa.7.1709943803434; 
 Fri, 08 Mar 2024 16:23:23 -0800 (PST)
Received: from postal.iol.unh.edu (postal.iol.unh.edu. [132.177.123.84])
 by smtp-relay.gmail.com with ESMTPS id
 y8-20020a4aaa48000000b0059d6e59e4c4sm10982oom.26.2024.03.08.16.23.23
 (version=TLS1_2 cipher=ECDHE-ECDSA-AES128-GCM-SHA256 bits=128/128);
 Fri, 08 Mar 2024 16:23:23 -0800 (PST)
X-Relaying-Domain: iol.unh.edu
Date: Fri, 08 Mar 2024 16:23:23 -0800 (PST)
Message-ID: <65ebabfb.4a0a0220.475f8.0a00SMTPIN_ADDED_MISSING@mx.google.com>
Received: from [172.21.0.6] (unknown [172.18.0.240])
 by postal.iol.unh.edu (Postfix) with ESMTP id 0E8E66052712;
 Fri,  8 Mar 2024 19:23:23 -0500 (EST)
Subject: |SUCCESS| pw138130-138132 [PATCH] [v3,3/3] testpmd: replace EAL logt
From: dpdklab@iol.unh.edu
To: Test Report <test-report@dpdk.org>
Cc: dpdk-test-reports@iol.unh.edu
In-Reply-To: <20240308181137.69855-4-stephen@networkplumber.org>
References: <20240308181137.69855-4-stephen@networkplumber.org>
Content-Type: text/plain
X-BeenThere: test-report@dpdk.org
X-Mailman-Version: 2.1.29
Precedence: list
List-Id: automatic DPDK test reports <test-report.dpdk.org>
List-Unsubscribe: <https://mails.dpdk.org/options/test-report>,
 <mailto:test-report-request@dpdk.org?subject=unsubscribe>
List-Archive: <http://mails.dpdk.org/archives/test-report/>
List-Post: <mailto:test-report@dpdk.org>
List-Help: <mailto:test-report-request@dpdk.org?subject=help>
List-Subscribe: <https://mails.dpdk.org/listinfo/test-report>,
 <mailto:test-report-request@dpdk.org?subject=subscribe>
Errors-To: test-report-bounces@dpdk.org

Test-Label: iol-unit-amd64-testing
Test-Status: SUCCESS
http://dpdk.org/patch/138132

_Testing PASS_

Submitter: Stephen Hemminger <stephen@networkplumber.org>
Date: Friday, March 08 2024 18:10:26 
DPDK git baseline: Repo:dpdk
  Branch: master
  CommitID:a86f381b826660e88794754c41d3aec79ce9b87c

138130-138132 --> testing pass

Test environment and result as below:

+------------------+----------------+
|   Environment    | dpdk_unit_test |
+==================+================+
| Debian Bullseye  | PASS           |
+------------------+----------------+
| CentOS Stream 8  | PASS           |
+------------------+----------------+
| Debian 12 (arm)  | PASS           |
+------------------+----------------+
| Fedora 38        | PASS           |
+------------------+----------------+
| CentOS Stream 9  | PASS           |
+------------------+----------------+
| openSUSE Leap 15 | PASS           |
+------------------+----------------+
| RHEL8            | PASS           |
+------------------+----------------+
| Ubuntu 20.04     | PASS           |
+------------------+----------------+
| Ubuntu 22.04     | PASS           |
+------------------+----------------+
| Fedora 37        | PASS           |
+------------------+----------------+


Debian Bullseye
	Kernel: 5.4.0-122-generic
	Compiler: gcc 10.2.1-6

CentOS Stream 8
	Kernel: 4.18.0-240.10.1.el8_3.x86_64
	Compiler: gcc 8.4.1 20200928

Debian 12 (arm)
	Kernel: Container Host Kernel
	Compiler: gcc 11

Fedora 38
	Kernel: Depends on container host
	Compiler: gcc 13.1.1

CentOS Stream 9
	Kernel: 4.18.0-240.10.1.el8_3.x86_64
	Compiler: gcc 11.3.1 20220421

openSUSE Leap 15
	Kernel: 4.18.0-240.10.1.el8_3.x86_64
	Compiler: gcc 7.5.0

RHEL8
	Kernel: 4.18.0-240.10.1.el8_3.x86_64
	Compiler: gcc 8.3.1 20191121 (Red Hat 8.3.1-5)

Ubuntu 20.04
	Kernel: 5.4.0-153-generic
	Compiler: gcc 9.4.0-1ubuntu1~20.04.1

Ubuntu 22.04
	Kernel: 4.18.0-240.10.1.el8_3.x86_64
	Compiler: gcc 11.3.0

Fedora 37
	Kernel: Depends on container host system
	Compiler: gcc 12.3.1

To view detailed results, visit:
https://lab.dpdk.org/results/dashboard/patchsets/29482/

UNH-IOL DPDK Community Lab

To manage your email subscriptions, visit: 
https://lab.dpdk.org/results/dashboard/preferences/subscriptions/