From mboxrd@z Thu Jan  1 00:00:00 1970
Return-Path: <test-report-bounces@dpdk.org>
Received: from mails.dpdk.org (mails.dpdk.org [217.70.189.124])
	by inbox.dpdk.org (Postfix) with ESMTP id 2B16C43C53
	for <public@inbox.dpdk.org>; Sat,  9 Mar 2024 01:24:50 +0100 (CET)
Received: from mails.dpdk.org (localhost [127.0.0.1])
	by mails.dpdk.org (Postfix) with ESMTP id 1DD8942F15;
	Sat,  9 Mar 2024 01:24:50 +0100 (CET)
Received: from mail-yw1-f228.google.com (mail-yw1-f228.google.com
 [209.85.128.228])
 by mails.dpdk.org (Postfix) with ESMTP id 168894021D
 for <test-report@dpdk.org>; Sat,  9 Mar 2024 01:24:47 +0100 (CET)
Received: by mail-yw1-f228.google.com with SMTP id
 00721157ae682-609408d4b31so26979997b3.0
 for <test-report@dpdk.org>; Fri, 08 Mar 2024 16:24:47 -0800 (PST)
DKIM-Signature: v=1; a=rsa-sha256; c=relaxed/relaxed;
 d=iol.unh.edu; s=unh-iol; t=1709943886; x=1710548686; darn=dpdk.org;
 h=references:in-reply-to:cc:to:from:subject:message-id:date:from:to
 :cc:subject:date:message-id:reply-to;
 bh=zsiGmZQ/xydgLYzz/tTLyY6A7LUPzbbxeMHvGqhaZy8=;
 b=YAT+XTVb7obb2ksofMsnKqO4/hGwFVw1vXF7OPoQpvf8HUj4HlU/sOqOiTsUtAe2ZP
 Lq0jovrP2fUVtVyL/MzAkSLySb3R1Ja1zyhPVfPcADteqgevRBKtWJExqtna10nAgsYQ
 RX/bHTfaLQBjwCv/FGqp2OGUMvHfcXB+QzBUE=
X-Google-DKIM-Signature: v=1; a=rsa-sha256; c=relaxed/relaxed;
 d=1e100.net; s=20230601; t=1709943886; x=1710548686;
 h=references:in-reply-to:cc:to:from:subject:message-id:date
 :x-gm-message-state:from:to:cc:subject:date:message-id:reply-to;
 bh=zsiGmZQ/xydgLYzz/tTLyY6A7LUPzbbxeMHvGqhaZy8=;
 b=CfAzzO82zvaQk1zMA76rht8zyPi7uXM6BUFA9KfezDP7/di1INoHFAB72f3/QTuk93
 vtr3TicuxzzivAmQIFI+yzZGICVgNA9RGGDpkzz9qqt+sUM3Yu6qy8xqrhgxJPy8luBO
 dN/tKlCcp64PoQoSypeCHNVNlxEyxQNCe0X8eCLQTZJcQeTDRyi3IjdjY2Bt8fl3Okd7
 yjJFWRp0bXxqEFo/NTKbxccmnxtjxlW2AIKbg7DRr1omH9W6WRb/Hp6+AT/aE7yhWTzv
 hCq/QPT1czJobeDfyiUjDlww9Guk46gUObZbjeka4AfQngPaWp9SvUgUZj7EynXl0pk9
 rcug==
X-Gm-Message-State: AOJu0YzgMNxwkwktJXzQkhDG+EGY1pFUtTbbkDrdNVgvYK4ult3nXpR4
 uAjDfz4v6rWL4WvnHvTeHp/q3tNmwyRPXQKxyRNEhVy+UuRg3RXYZHJ14y/QliK+vD0Nn2X6Vwp
 IeTzkQuc1wuKeOiqLrcYiU0CYANF1jIzCrKaNWXK2RAcsyMkG/C3xKdDm
X-Google-Smtp-Source: AGHT+IHdsKinVwIKXw5vnFtdQKhYK5iTYSbq3/JvGvyDl/cMCPNfwgGbGFkRiT41ux8Ndh0OuKYhcovo/lgJ
X-Received: by 2002:a0d:d206:0:b0:609:f5b5:5731 with SMTP id
 u6-20020a0dd206000000b00609f5b55731mr821413ywd.21.1709943886448; 
 Fri, 08 Mar 2024 16:24:46 -0800 (PST)
Received: from postal.iol.unh.edu (postal.iol.unh.edu.
 [2606:4100:3880:1234::84]) by smtp-relay.gmail.com with ESMTPS id
 b134-20020a0dd98c000000b006079f5e97b4sm26920ywe.38.2024.03.08.16.24.46
 (version=TLS1_2 cipher=ECDHE-ECDSA-AES128-GCM-SHA256 bits=128/128);
 Fri, 08 Mar 2024 16:24:46 -0800 (PST)
X-Relaying-Domain: iol.unh.edu
Date: Fri, 08 Mar 2024 16:24:46 -0800 (PST)
Message-ID: <65ebac4e.0d0a0220.12842.1b9fSMTPIN_ADDED_MISSING@mx.google.com>
Received: from [172.21.0.7] (unknown [172.18.0.240])
 by postal.iol.unh.edu (Postfix) with ESMTP id 1F61B6052712;
 Fri,  8 Mar 2024 19:24:46 -0500 (EST)
Subject: |SUCCESS| pw138133 [PATCH] [v2] add a ignore list for get_maintainer
From: dpdklab@iol.unh.edu
To: Test Report <test-report@dpdk.org>
Cc: dpdk-test-reports@iol.unh.edu
In-Reply-To: <20240308181310.70014-1-stephen@networkplumber.org>
References: <20240308181310.70014-1-stephen@networkplumber.org>
Content-Type: text/plain
X-BeenThere: test-report@dpdk.org
X-Mailman-Version: 2.1.29
Precedence: list
List-Id: automatic DPDK test reports <test-report.dpdk.org>
List-Unsubscribe: <https://mails.dpdk.org/options/test-report>,
 <mailto:test-report-request@dpdk.org?subject=unsubscribe>
List-Archive: <http://mails.dpdk.org/archives/test-report/>
List-Post: <mailto:test-report@dpdk.org>
List-Help: <mailto:test-report-request@dpdk.org?subject=help>
List-Subscribe: <https://mails.dpdk.org/listinfo/test-report>,
 <mailto:test-report-request@dpdk.org?subject=subscribe>
Errors-To: test-report-bounces@dpdk.org

Test-Label: iol-compile-amd64-testing
Test-Status: SUCCESS
http://dpdk.org/patch/138133

_Testing PASS_

Submitter: Stephen Hemminger <stephen@networkplumber.org>
Date: Friday, March 08 2024 18:12:51 
DPDK git baseline: Repo:dpdk
  Branch: master
  CommitID:a86f381b826660e88794754c41d3aec79ce9b87c

138133 --> testing pass

Test environment and result as below:

+---------------------+--------------------+----------------------+
|     Environment     | dpdk_meson_compile | dpdk_mingw64_compile |
+=====================+====================+======================+
| Windows Server 2022 | PASS               | SKIPPED              |
+---------------------+--------------------+----------------------+
| FreeBSD 13.2        | PASS               | SKIPPED              |
+---------------------+--------------------+----------------------+
| Windows Server 2019 | PASS               | PASS                 |
+---------------------+--------------------+----------------------+
| Debian 12 (arm)     | PASS               | SKIPPED              |
+---------------------+--------------------+----------------------+
| Debian Bullseye     | PASS               | SKIPPED              |
+---------------------+--------------------+----------------------+
| CentOS Stream 9     | PASS               | SKIPPED              |
+---------------------+--------------------+----------------------+
| Fedora 38           | PASS               | SKIPPED              |
+---------------------+--------------------+----------------------+
| Fedora 37           | PASS               | SKIPPED              |
+---------------------+--------------------+----------------------+
| Ubuntu 22.04        | PASS               | SKIPPED              |
+---------------------+--------------------+----------------------+
| RHEL8               | PASS               | SKIPPED              |
+---------------------+--------------------+----------------------+
| openSUSE Leap 15    | PASS               | SKIPPED              |
+---------------------+--------------------+----------------------+
| Ubuntu 20.04        | PASS               | SKIPPED              |
+---------------------+--------------------+----------------------+
| CentOS Stream 8     | PASS               | SKIPPED              |
+---------------------+--------------------+----------------------+
| Alpine              | PASS               | SKIPPED              |
+---------------------+--------------------+----------------------+


Windows Server 2022
	Kernel: OS Build 20348.2031
	Compiler: MSVC VS-Preview

FreeBSD 13.2
	Kernel: 13.2
	Compiler: clang 11.3.0

Windows Server 2019
	Kernel: 10.0
	Compiler: clang 14.0 and gcc 8.1.0 (MinGW)

Debian 12 (arm)
	Kernel: Container Host Kernel
	Compiler: gcc 11

Debian Bullseye
	Kernel: 5.4.0-122-generic
	Compiler: gcc 10.2.1-6

CentOS Stream 9
	Kernel: 4.18.0-240.10.1.el8_3.x86_64
	Compiler: gcc 11.3.1 20220421

Fedora 38
	Kernel: Depends on container host
	Compiler: gcc 13.1.1

Fedora 37
	Kernel: Depends on container host system
	Compiler: gcc 12.3.1

Ubuntu 22.04
	Kernel: 4.18.0-240.10.1.el8_3.x86_64
	Compiler: gcc 11.3.0

RHEL8
	Kernel: 4.18.0-240.10.1.el8_3.x86_64
	Compiler: gcc 8.3.1 20191121 (Red Hat 8.3.1-5)

openSUSE Leap 15
	Kernel: 4.18.0-240.10.1.el8_3.x86_64
	Compiler: gcc 7.5.0

Ubuntu 20.04
	Kernel: 5.4.0-153-generic
	Compiler: gcc 9.4.0-1ubuntu1~20.04.1

CentOS Stream 8
	Kernel: 4.18.0-240.10.1.el8_3.x86_64
	Compiler: gcc 8.4.1 20200928

Alpine
	Kernel: 5.4.0-73-generic
	Compiler: gcc (Alpine 10.3.1_git20210424) 10.3.1 20210424

To view detailed results, visit:
https://lab.dpdk.org/results/dashboard/patchsets/29483/

UNH-IOL DPDK Community Lab

To manage your email subscriptions, visit: 
https://lab.dpdk.org/results/dashboard/preferences/subscriptions/