From mboxrd@z Thu Jan  1 00:00:00 1970
Return-Path: <test-report-bounces@dpdk.org>
Received: from mails.dpdk.org (mails.dpdk.org [217.70.189.124])
	by inbox.dpdk.org (Postfix) with ESMTP id 392AD43C53
	for <public@inbox.dpdk.org>; Sat,  9 Mar 2024 01:25:04 +0100 (CET)
Received: from mails.dpdk.org (localhost [127.0.0.1])
	by mails.dpdk.org (Postfix) with ESMTP id 329F542F11;
	Sat,  9 Mar 2024 01:25:04 +0100 (CET)
Received: from mail-qv1-f98.google.com (mail-qv1-f98.google.com
 [209.85.219.98]) by mails.dpdk.org (Postfix) with ESMTP id 95EF84021D
 for <test-report@dpdk.org>; Sat,  9 Mar 2024 01:24:55 +0100 (CET)
Received: by mail-qv1-f98.google.com with SMTP id
 6a1803df08f44-690be84583fso1975666d6.1
 for <test-report@dpdk.org>; Fri, 08 Mar 2024 16:24:55 -0800 (PST)
DKIM-Signature: v=1; a=rsa-sha256; c=relaxed/relaxed;
 d=iol.unh.edu; s=unh-iol; t=1709943895; x=1710548695; darn=dpdk.org;
 h=references:in-reply-to:cc:to:from:subject:message-id:date:from:to
 :cc:subject:date:message-id:reply-to;
 bh=9u6PEfb8noxxDQV22bZa4KoSvf/eADK7sIOOIm/jhmo=;
 b=SWr1qRk1ihW/OTNLan/Gm0Qbb/dlNQJtkKJK1y5ysLQd4kVDLHZznyrWf4tsw8xIEi
 vpzeXp96qjV4rEcW6UpLM+UjRMpCSkqwICv4P/DAca0UokabXoUnhsdz5xCCoyejDUMO
 4uvsv0AVStCcTgJ/w5gcnxSzy+YgPYEcsXj0w=
X-Google-DKIM-Signature: v=1; a=rsa-sha256; c=relaxed/relaxed;
 d=1e100.net; s=20230601; t=1709943895; x=1710548695;
 h=references:in-reply-to:cc:to:from:subject:message-id:date
 :x-gm-message-state:from:to:cc:subject:date:message-id:reply-to;
 bh=9u6PEfb8noxxDQV22bZa4KoSvf/eADK7sIOOIm/jhmo=;
 b=s1Fnb3g2JcxW8RiIxIXdDYvMlAcFfOAfgIvTj4sgs0wupZgOozDQTyhaZeTYZWMN2q
 MZWVninxF8ZK5AyeY/eezfTkQ6bD3fuy8GRibSkK8OXNQS8L8XqF5luLsFAfXQGdYS0b
 dNy9BdUhb3W8/r8O32BFx+REAJikQSLithDQHyeDxCWVLSN3Q+LhhyLsm3cajYW2de96
 uGuwzEmctq4U7zjJg5dkda1GjJ7FmgPioeIbG127b4UT/J1ix8faTGsiHEgv9npqfYcz
 +5O0Gq1MQMw2h6yKIBBgUwx95noIImluk6j0C6ZNNCRCg5DDLSsS71Ep8NhF/nhozkmE
 GmwQ==
X-Gm-Message-State: AOJu0YxdbhU4Q1gsTwUhbd+edmRmHrL6Q3BactRIq06nB9FzjAuumI8+
 HUF2quzTNgAeOKCwUCuCvKF4IAotfccD+IgLwul9ZGcJDxqJq+ub5O9O9dSqhy11/Si9wm6a4ug
 SWbuauvKrFAImI6QY+Pdb7Rhe0wIkCOczMPDH++Fw
X-Google-Smtp-Source: AGHT+IGdd41CHC0QNfPgc/GnfoZolU6mJO8HUoKPf0yCsTXMhc3Kz/b8CcFz+xdu/bZSSBZLLbNBXvtV+LfK
X-Received: by 2002:a0c:f3c9:0:b0:690:bacf:139b with SMTP id
 f9-20020a0cf3c9000000b00690bacf139bmr724184qvm.6.1709943895075; 
 Fri, 08 Mar 2024 16:24:55 -0800 (PST)
Received: from postal.iol.unh.edu (postal.iol.unh.edu. [132.177.123.84])
 by smtp-relay.gmail.com with ESMTPS id
 3-20020a0562140d0300b00690b8976624sm21141qvh.18.2024.03.08.16.24.55
 (version=TLS1_2 cipher=ECDHE-ECDSA-AES128-GCM-SHA256 bits=128/128);
 Fri, 08 Mar 2024 16:24:55 -0800 (PST)
X-Relaying-Domain: iol.unh.edu
Date: Fri, 08 Mar 2024 16:24:55 -0800 (PST)
Message-ID: <65ebac57.050a0220.99704.163fSMTPIN_ADDED_MISSING@mx.google.com>
Received: from [172.21.0.6] (unknown [172.18.0.240])
 by postal.iol.unh.edu (Postfix) with ESMTP id C55946052712;
 Fri,  8 Mar 2024 19:24:54 -0500 (EST)
Subject: |SUCCESS| pw138130-138132 [PATCH] [v3,3/3] testpmd: replace EAL logt
From: dpdklab@iol.unh.edu
To: Test Report <test-report@dpdk.org>
Cc: dpdk-test-reports@iol.unh.edu
In-Reply-To: <20240308181137.69855-4-stephen@networkplumber.org>
References: <20240308181137.69855-4-stephen@networkplumber.org>
Content-Type: text/plain
X-BeenThere: test-report@dpdk.org
X-Mailman-Version: 2.1.29
Precedence: list
List-Id: automatic DPDK test reports <test-report.dpdk.org>
List-Unsubscribe: <https://mails.dpdk.org/options/test-report>,
 <mailto:test-report-request@dpdk.org?subject=unsubscribe>
List-Archive: <http://mails.dpdk.org/archives/test-report/>
List-Post: <mailto:test-report@dpdk.org>
List-Help: <mailto:test-report-request@dpdk.org?subject=help>
List-Subscribe: <https://mails.dpdk.org/listinfo/test-report>,
 <mailto:test-report-request@dpdk.org?subject=subscribe>
Errors-To: test-report-bounces@dpdk.org

Test-Label: iol-compile-arm64-testing
Test-Status: SUCCESS
http://dpdk.org/patch/138132

_Testing PASS_

Submitter: Stephen Hemminger <stephen@networkplumber.org>
Date: Friday, March 08 2024 18:10:26 
DPDK git baseline: Repo:dpdk
  Branch: master
  CommitID:a86f381b826660e88794754c41d3aec79ce9b87c

138130-138132 --> testing pass

Test environment and result as below:

+----------------------------------------+--------------------+
|              Environment               | dpdk_meson_compile |
+========================================+====================+
| Ubuntu 20.04 ARM SVE                   | PASS               |
+----------------------------------------+--------------------+
| Ubuntu 20.04 ARM GCC Cross Compile     | PASS               |
+----------------------------------------+--------------------+
| Debian 12 with MUSDK                   | PASS               |
+----------------------------------------+--------------------+
| Ubuntu 20.04 aarch32 GCC Cross Compile | PASS               |
+----------------------------------------+--------------------+
| Fedora 37 (ARM)                        | PASS               |
+----------------------------------------+--------------------+
| Ubuntu 20.04 ARM Clang Cross Compile   | PASS               |
+----------------------------------------+--------------------+
| Fedora 38 (ARM)                        | PASS               |
+----------------------------------------+--------------------+
| CentOS Stream 9 (ARM)                  | PASS               |
+----------------------------------------+--------------------+
| Debian 12 (arm)                        | PASS               |
+----------------------------------------+--------------------+
| Ubuntu 20.04 (ARM)                     | PASS               |
+----------------------------------------+--------------------+
| Debian 11 (Buster) (ARM)               | PASS               |
+----------------------------------------+--------------------+


Ubuntu 20.04 ARM SVE
	Kernel: 5.4.0-80-generic
	Compiler: gcc 10.3.0 (Ubuntu 10.3.0-1ubuntu1~20.04)

Ubuntu 20.04 ARM GCC Cross Compile
	Kernel: 5.4.0-72-generic
	Compiler: aarch64-linux-gnu-gcc (Ubuntu 9.3.0-17ubuntu1~20.04) 9.3.0

Debian 12 with MUSDK
	Kernel: Container Host Kernel
	Compiler: gcc 12

Ubuntu 20.04 aarch32 GCC Cross Compile
	Kernel: 5.4.0-72-generic
	Compiler: gcc 9.3.0

Fedora 37 (ARM)
	Kernel: Depends on container host
	Compiler: gcc 12.3.1

Ubuntu 20.04 ARM Clang Cross Compile
	Kernel: 5.4.0-72-generic
	Compiler: clang version 10.0.0-4ubuntu1

Fedora 38 (ARM)
	Kernel: Depends on container host
	Compiler: gcc 13.1.1

CentOS Stream 9 (ARM)
	Kernel: Container Host Kernel
	Compiler: gcc 11.3.1

Debian 12 (arm)
	Kernel: Container Host Kernel
	Compiler: gcc 11

Ubuntu 20.04 (ARM)
	Kernel: Container Host Kernel
	Compiler: gcc 9.4.0

Debian 11 (Buster) (ARM)
	Kernel: Container Host Kernel
	Compiler: gcc 10.2.1

To view detailed results, visit:
https://lab.dpdk.org/results/dashboard/patchsets/29482/

UNH-IOL DPDK Community Lab

To manage your email subscriptions, visit: 
https://lab.dpdk.org/results/dashboard/preferences/subscriptions/