From mboxrd@z Thu Jan  1 00:00:00 1970
Return-Path: <test-report-bounces@dpdk.org>
Received: from mails.dpdk.org (mails.dpdk.org [217.70.189.124])
	by inbox.dpdk.org (Postfix) with ESMTP id DFD9243C53
	for <public@inbox.dpdk.org>; Sat,  9 Mar 2024 01:26:04 +0100 (CET)
Received: from mails.dpdk.org (localhost [127.0.0.1])
	by mails.dpdk.org (Postfix) with ESMTP id DC3D04027A;
	Sat,  9 Mar 2024 01:26:04 +0100 (CET)
Received: from mail-ua1-f98.google.com (mail-ua1-f98.google.com
 [209.85.222.98]) by mails.dpdk.org (Postfix) with ESMTP id 6B4AB4021D
 for <test-report@dpdk.org>; Sat,  9 Mar 2024 01:26:03 +0100 (CET)
Received: by mail-ua1-f98.google.com with SMTP id
 a1e0cc1a2514c-7db68ed7bb1so1085212241.2
 for <test-report@dpdk.org>; Fri, 08 Mar 2024 16:26:03 -0800 (PST)
DKIM-Signature: v=1; a=rsa-sha256; c=relaxed/relaxed;
 d=iol.unh.edu; s=unh-iol; t=1709943963; x=1710548763; darn=dpdk.org;
 h=references:in-reply-to:cc:to:from:subject:message-id:date:from:to
 :cc:subject:date:message-id:reply-to;
 bh=2t/8KkAiz2Wef/xjv0qzd1vF0LkjNBtm1kZ7EIQ6+aU=;
 b=FTwPBPyQkNpSxGtpImOi6HW6qOfV+OK54p9b69vARErkAEHPRVy6ee1dKeb3tasOvi
 ML0uXOLLAR2/x9J1m9yFykmQpANDiy2KGDuYijc4IibNXtlthkvUuk4Xu5SifaliQ+6Y
 a5OoQShkUajt54tIimkOfDrFGJNNwgeWuZUuQ=
X-Google-DKIM-Signature: v=1; a=rsa-sha256; c=relaxed/relaxed;
 d=1e100.net; s=20230601; t=1709943963; x=1710548763;
 h=references:in-reply-to:cc:to:from:subject:message-id:date
 :x-gm-message-state:from:to:cc:subject:date:message-id:reply-to;
 bh=2t/8KkAiz2Wef/xjv0qzd1vF0LkjNBtm1kZ7EIQ6+aU=;
 b=Y7dO2BJdmqq26yZmxmOXqeysDoLngiDz5hp6NvzF+HuqGCgV0I50CIfL40ZBh6B5qA
 eJuYajhk8R/Pdg31hkB/RcUrR0zQMv7EwhsdoeWpPQHcXsp3HQIStlltsyd2Dt/+Wc+7
 vNnoXVHVqCkOYpue8I+8A4dz6Vjc5mC+UGj+j5u2waVxckPTtp4apXLI2M4HLkwuyX+k
 MQXXYON6XpW7UmVuM1+95Kffy/xRB7W/M+PqmJBraOT7ck/BG4FgXibuJoFz5SEp/K4m
 nzEel4SJBKR9nMnRmw5lKieMtHz+ho/11ihxx5369BrTxanCbzpBPMYG3+MNQOHeQsUw
 jgGw==
X-Gm-Message-State: AOJu0Yymk8fjBTo/VJ4NXTNkb3oLeVz0pVtB1bmamirQQFSK5RdXCfbZ
 z8c9CcVgGLEpd+6jmG87rv4FOchDW6sih57GFrGQk9ft2pwjAXon31DMpO+I7WkcIvcCJUOMDo6
 njp1iJt2AtYKBMCUi5vdSkWLRg5EC4K49WfxBGBRyCeXw/R1jPpLExPjH
X-Google-Smtp-Source: AGHT+IGA3hW4qZ8Nn2E+uJZkd1zBkL6PcOcENI5akZGCQXfAqcA8i5e37Z87pA5jeMGvUVg7oOL7tSsQYIOt
X-Received: by 2002:a67:ce86:0:b0:472:c844:804d with SMTP id
 c6-20020a67ce86000000b00472c844804dmr545055vse.18.1709943962815; 
 Fri, 08 Mar 2024 16:26:02 -0800 (PST)
Received: from postal.iol.unh.edu (postal.iol.unh.edu.
 [2606:4100:3880:1234::84]) by smtp-relay.gmail.com with ESMTPS id
 q18-20020ab054d2000000b007dab56c1c18sm31181uaa.13.2024.03.08.16.26.02
 (version=TLS1_2 cipher=ECDHE-ECDSA-AES128-GCM-SHA256 bits=128/128);
 Fri, 08 Mar 2024 16:26:02 -0800 (PST)
X-Relaying-Domain: iol.unh.edu
Date: Fri, 08 Mar 2024 16:26:02 -0800 (PST)
Message-ID: <65ebac9a.b00a0220.e31c1.205eSMTPIN_ADDED_MISSING@mx.google.com>
Received: from [172.21.0.6] (unknown [172.18.0.240])
 by postal.iol.unh.edu (Postfix) with ESMTP id 750676052712;
 Fri,  8 Mar 2024 19:26:02 -0500 (EST)
Subject: |SUCCESS| pw138130-138132 [PATCH] [v3,3/3] testpmd: replace EAL logt
From: dpdklab@iol.unh.edu
To: Test Report <test-report@dpdk.org>
Cc: dpdk-test-reports@iol.unh.edu
In-Reply-To: <20240308181137.69855-4-stephen@networkplumber.org>
References: <20240308181137.69855-4-stephen@networkplumber.org>
Content-Type: text/plain
X-BeenThere: test-report@dpdk.org
X-Mailman-Version: 2.1.29
Precedence: list
List-Id: automatic DPDK test reports <test-report.dpdk.org>
List-Unsubscribe: <https://mails.dpdk.org/options/test-report>,
 <mailto:test-report-request@dpdk.org?subject=unsubscribe>
List-Archive: <http://mails.dpdk.org/archives/test-report/>
List-Post: <mailto:test-report@dpdk.org>
List-Help: <mailto:test-report-request@dpdk.org?subject=help>
List-Subscribe: <https://mails.dpdk.org/listinfo/test-report>,
 <mailto:test-report-request@dpdk.org?subject=subscribe>
Errors-To: test-report-bounces@dpdk.org

Test-Label: iol-unit-arm64-testing
Test-Status: SUCCESS
http://dpdk.org/patch/138132

_Testing PASS_

Submitter: Stephen Hemminger <stephen@networkplumber.org>
Date: Friday, March 08 2024 18:10:26 
DPDK git baseline: Repo:dpdk
  Branch: master
  CommitID:a86f381b826660e88794754c41d3aec79ce9b87c

138130-138132 --> testing pass

Test environment and result as below:

+--------------------------+--------------+----------------+---------------------------+------------------------------+
|       Environment        | lpm_autotest | dpdk_unit_test | cryptodev_sw_zuc_autotest | cryptodev_sw_snow3g_autotest |
+==========================+==============+================+===========================+==============================+
| Ubuntu 20.04 ARM SVE     | PASS         | SKIPPED        | SKIPPED                   | SKIPPED                      |
+--------------------------+--------------+----------------+---------------------------+------------------------------+
| CentOS Stream 9 (ARM)    | SKIPPED      | PASS           | SKIPPED                   | SKIPPED                      |
+--------------------------+--------------+----------------+---------------------------+------------------------------+
| Debian 11 (Buster) (ARM) | SKIPPED      | PASS           | SKIPPED                   | SKIPPED                      |
+--------------------------+--------------+----------------+---------------------------+------------------------------+
| Debian 12 (arm)          | SKIPPED      | PASS           | PASS                      | PASS                         |
+--------------------------+--------------+----------------+---------------------------+------------------------------+
| Fedora 37 (ARM)          | SKIPPED      | PASS           | SKIPPED                   | SKIPPED                      |
+--------------------------+--------------+----------------+---------------------------+------------------------------+
| Fedora 38 (ARM)          | SKIPPED      | PASS           | SKIPPED                   | SKIPPED                      |
+--------------------------+--------------+----------------+---------------------------+------------------------------+
| Ubuntu 20.04 (ARM)       | SKIPPED      | PASS           | SKIPPED                   | SKIPPED                      |
+--------------------------+--------------+----------------+---------------------------+------------------------------+


Ubuntu 20.04 ARM SVE
	Kernel: 5.4.0-80-generic
	Compiler: gcc 10.3.0 (Ubuntu 10.3.0-1ubuntu1~20.04)

CentOS Stream 9 (ARM)
	Kernel: Container Host Kernel
	Compiler: gcc 11.3.1

Debian 11 (Buster) (ARM)
	Kernel: Container Host Kernel
	Compiler: gcc 10.2.1

Debian 12 (arm)
	Kernel: Container Host Kernel
	Compiler: gcc 11

Fedora 37 (ARM)
	Kernel: Depends on container host
	Compiler: gcc 12.3.1

Fedora 38 (ARM)
	Kernel: Depends on container host
	Compiler: gcc 13.1.1

Ubuntu 20.04 (ARM)
	Kernel: Container Host Kernel
	Compiler: gcc 9.4.0

To view detailed results, visit:
https://lab.dpdk.org/results/dashboard/patchsets/29482/

UNH-IOL DPDK Community Lab

To manage your email subscriptions, visit: 
https://lab.dpdk.org/results/dashboard/preferences/subscriptions/