From mboxrd@z Thu Jan  1 00:00:00 1970
Return-Path: <test-report-bounces@dpdk.org>
Received: from mails.dpdk.org (mails.dpdk.org [217.70.189.124])
	by inbox.dpdk.org (Postfix) with ESMTP id 14DD543C53
	for <public@inbox.dpdk.org>; Sat,  9 Mar 2024 01:55:28 +0100 (CET)
Received: from mails.dpdk.org (localhost [127.0.0.1])
	by mails.dpdk.org (Postfix) with ESMTP id F3F63406BA;
	Sat,  9 Mar 2024 01:55:27 +0100 (CET)
Received: from mail-qt1-f225.google.com (mail-qt1-f225.google.com
 [209.85.160.225])
 by mails.dpdk.org (Postfix) with ESMTP id 4C9C44021D
 for <test-report@dpdk.org>; Sat,  9 Mar 2024 01:55:26 +0100 (CET)
Received: by mail-qt1-f225.google.com with SMTP id
 d75a77b69052e-42f2d02fbdeso5962561cf.1
 for <test-report@dpdk.org>; Fri, 08 Mar 2024 16:55:26 -0800 (PST)
DKIM-Signature: v=1; a=rsa-sha256; c=relaxed/relaxed;
 d=iol.unh.edu; s=unh-iol; t=1709945725; x=1710550525; darn=dpdk.org;
 h=references:in-reply-to:cc:to:from:subject:message-id:date:from:to
 :cc:subject:date:message-id:reply-to;
 bh=El3dmbM2XwfNy5wbJwPrNGhr5ynm8bGdEO8zq8dLF2A=;
 b=BDkWuwG79fVDs3eJ0NROa6XS5M+Wr4vojBNFEmL09mVRiD/30S3OqPxd4EF6nPsd9i
 RJH0fupRWzLauW9VBeCHgLXxJxY/FJxNY5nNBZFZyXrn6FTshUtnOG4Q4O7tKlXh44Ee
 U+lxiatoREMoOMf9j2XgfngtfvuueOdcMDv6c=
X-Google-DKIM-Signature: v=1; a=rsa-sha256; c=relaxed/relaxed;
 d=1e100.net; s=20230601; t=1709945725; x=1710550525;
 h=references:in-reply-to:cc:to:from:subject:message-id:date
 :x-gm-message-state:from:to:cc:subject:date:message-id:reply-to;
 bh=El3dmbM2XwfNy5wbJwPrNGhr5ynm8bGdEO8zq8dLF2A=;
 b=brtZLEUdEboHiy3ec6CLZ3rg/8MmH9U/vY/qTgQ3shFXA3W++1XIe3M0CsW8TzaE7U
 G6lTkLNx487zya33MffIq+zx1QROnjX5YxmTGGmoreUzzlSjrK/pSmNBEcanAjVP+fHI
 Y6HuDCjxuIef/HInPrpKnvSa9pbg02EsXYK05Nnxp+dmYAwrkPqJxx/kGcm2gU1TCL9N
 pkcWLeArO7Bj12s7VvVd6nutRQL4ebQ8guCTCHiuhXw2Ls1MB/3ncab0nPp8gFxxoN4L
 vm0m3ezT9a9j5R7/Xa17HCuh9TAF1Q7Dxeo3UMd5kDoK1Wdu0LmM7Bv+aSXlDwqzf7sI
 mtjw==
X-Gm-Message-State: AOJu0YwoWvK1bIAF1ALKiW/QpSuiVhCkQBdMlc7PXfqhfACuu8sEaviC
 SK/yVvrp6lvPDFucBzyX0ecRY9zIX626nx5CrHobnRY/s6pmJnQRwwklo/gQqdPQtantxdVdC/i
 ws6hTdvSRX+GBCRaHDoD6VH+Buehe/R2XXQlcDzMmPMc0spZuvbUumbSt
X-Google-Smtp-Source: AGHT+IG4fsvz273npqu4fM1KjHa7bCBdUPHUhYo3XhltaNuZ0+9yYapMLGxs5GhGqkMY9uBYWAS2UtYh0dA6
X-Received: by 2002:a05:622a:283:b0:42f:1556:4e8c with SMTP id
 z3-20020a05622a028300b0042f15564e8cmr951499qtw.12.1709945725761; 
 Fri, 08 Mar 2024 16:55:25 -0800 (PST)
Received: from postal.iol.unh.edu (postal.iol.unh.edu.
 [2606:4100:3880:1234::84]) by smtp-relay.gmail.com with ESMTPS id
 z11-20020a05622a060b00b0042e0bce3a39sm33045qta.27.2024.03.08.16.55.25
 (version=TLS1_2 cipher=ECDHE-ECDSA-AES128-GCM-SHA256 bits=128/128);
 Fri, 08 Mar 2024 16:55:25 -0800 (PST)
X-Relaying-Domain: iol.unh.edu
Date: Fri, 08 Mar 2024 16:55:25 -0800 (PST)
Message-ID: <65ebb37d.050a0220.120ec.2374SMTPIN_ADDED_MISSING@mx.google.com>
Received: from [172.17.0.9] (unknown [172.18.0.217])
 by postal.iol.unh.edu (Postfix) with ESMTP id 78F416052712;
 Fri,  8 Mar 2024 19:55:25 -0500 (EST)
Subject: |SUCCESS| pw138138-138140 [PATCH] [v4,3/3] testpmd: replace EAL logt
From: dpdklab@iol.unh.edu
To: Test Report <test-report@dpdk.org>
Cc: dpdk-test-reports@iol.unh.edu
In-Reply-To: <20240308223446.215726-4-stephen@networkplumber.org>
References: <20240308223446.215726-4-stephen@networkplumber.org>
Content-Type: text/plain
X-BeenThere: test-report@dpdk.org
X-Mailman-Version: 2.1.29
Precedence: list
List-Id: automatic DPDK test reports <test-report.dpdk.org>
List-Unsubscribe: <https://mails.dpdk.org/options/test-report>,
 <mailto:test-report-request@dpdk.org?subject=unsubscribe>
List-Archive: <http://mails.dpdk.org/archives/test-report/>
List-Post: <mailto:test-report@dpdk.org>
List-Help: <mailto:test-report-request@dpdk.org?subject=help>
List-Subscribe: <https://mails.dpdk.org/listinfo/test-report>,
 <mailto:test-report-request@dpdk.org?subject=subscribe>
Errors-To: test-report-bounces@dpdk.org

Test-Label: iol-unit-arm64-testing
Test-Status: SUCCESS
http://dpdk.org/patch/138140

_Testing PASS_

Submitter: Stephen Hemminger <stephen@networkplumber.org>
Date: Friday, March 08 2024 22:33:42 
DPDK git baseline: Repo:dpdk
  Branch: master
  CommitID:a86f381b826660e88794754c41d3aec79ce9b87c

138138-138140 --> testing pass

Test environment and result as below:

+--------------------------+----------------+---------------------------+------------------------------+
|       Environment        | dpdk_unit_test | cryptodev_sw_zuc_autotest | cryptodev_sw_snow3g_autotest |
+==========================+================+===========================+==============================+
| Debian 12 (arm)          | PASS           | PASS                      | PASS                         |
+--------------------------+----------------+---------------------------+------------------------------+
| CentOS Stream 9 (ARM)    | PASS           | SKIPPED                   | SKIPPED                      |
+--------------------------+----------------+---------------------------+------------------------------+
| Debian 11 (Buster) (ARM) | PASS           | SKIPPED                   | SKIPPED                      |
+--------------------------+----------------+---------------------------+------------------------------+
| Fedora 37 (ARM)          | PASS           | SKIPPED                   | SKIPPED                      |
+--------------------------+----------------+---------------------------+------------------------------+
| Fedora 38 (ARM)          | PASS           | SKIPPED                   | SKIPPED                      |
+--------------------------+----------------+---------------------------+------------------------------+


Debian 12 (arm)
	Kernel: Container Host Kernel
	Compiler: gcc 11

CentOS Stream 9 (ARM)
	Kernel: Container Host Kernel
	Compiler: gcc 11.3.1

Debian 11 (Buster) (ARM)
	Kernel: Container Host Kernel
	Compiler: gcc 10.2.1

Fedora 37 (ARM)
	Kernel: Depends on container host
	Compiler: gcc 12.3.1

Fedora 38 (ARM)
	Kernel: Depends on container host
	Compiler: gcc 13.1.1

To view detailed results, visit:
https://lab.dpdk.org/results/dashboard/patchsets/29488/

UNH-IOL DPDK Community Lab

To manage your email subscriptions, visit: 
https://lab.dpdk.org/results/dashboard/preferences/subscriptions/