From mboxrd@z Thu Jan  1 00:00:00 1970
Return-Path: <test-report-bounces@dpdk.org>
Received: from mails.dpdk.org (mails.dpdk.org [217.70.189.124])
	by inbox.dpdk.org (Postfix) with ESMTP id 704A043C59
	for <public@inbox.dpdk.org>; Sat,  9 Mar 2024 02:24:19 +0100 (CET)
Received: from mails.dpdk.org (localhost [127.0.0.1])
	by mails.dpdk.org (Postfix) with ESMTP id 5BF0B4021D;
	Sat,  9 Mar 2024 02:24:19 +0100 (CET)
Received: from mail-pf1-f226.google.com (mail-pf1-f226.google.com
 [209.85.210.226])
 by mails.dpdk.org (Postfix) with ESMTP id 0DC234014F
 for <test-report@dpdk.org>; Sat,  9 Mar 2024 02:24:18 +0100 (CET)
Received: by mail-pf1-f226.google.com with SMTP id
 d2e1a72fcca58-6e5760eeb7aso2071783b3a.1
 for <test-report@dpdk.org>; Fri, 08 Mar 2024 17:24:17 -0800 (PST)
DKIM-Signature: v=1; a=rsa-sha256; c=relaxed/relaxed;
 d=iol.unh.edu; s=unh-iol; t=1709947457; x=1710552257; darn=dpdk.org;
 h=references:in-reply-to:cc:to:from:subject:message-id:date:from:to
 :cc:subject:date:message-id:reply-to;
 bh=c5yPY5LwBUBoPmMcSxefkGhY467xVUHXtIMwg1BpAvM=;
 b=IhxFvCA6lL1VkDRmxFuNg6H8fa/Zlt3Vzvz0jevhaaPdcz36PJPURggIc0HP2K4hpw
 W+JjSR4+P1wEbCMVFHcCVTGXq5ReXsqQT2T8+pe0y2P923A8Yb76+Qji1dDxysmR2T3H
 2oTdtEe964bOEHuGaJjX71tUArbfZepez36m4=
X-Google-DKIM-Signature: v=1; a=rsa-sha256; c=relaxed/relaxed;
 d=1e100.net; s=20230601; t=1709947457; x=1710552257;
 h=references:in-reply-to:cc:to:from:subject:message-id:date
 :x-gm-message-state:from:to:cc:subject:date:message-id:reply-to;
 bh=c5yPY5LwBUBoPmMcSxefkGhY467xVUHXtIMwg1BpAvM=;
 b=JCwCUeLTaULQcnztLACNMM7arNNufU+PuRzXsavzoLnUJFjSRxTmQvNlteu93yjs8J
 iIKwkR8EwDY5i3W0IlnUEhC/akPwaOMc8di0ETYzLdtEXHVwwiUSdw/MQ9DrO3uPNrML
 hYSsTqTPmfJbVmmO3XmCmpSK1+PyskzdyrWFPaouCM5c8+juwzqk5fXW8qeIw13uvIRC
 wly83Ah97IQ+Ced9byIuvnuJSOzxAuD+c2VTEAnXXG6VmimXC+7DouTBEhC40Hhv32dk
 prEOZuuoQHiryTZwyPLRfNVgMzXy3Aizk0QLuoEnv6qniQbsd0CdYa9mrGqvRvy9f7kq
 2oHA==
X-Gm-Message-State: AOJu0YwY/G213eOCN0CUq+Wpz0ncoB+MV9ZwHFVO3PQax+GMQeaHCqa8
 GrM/kJaskxuF+T260iUsi4+nhfnuXWmWK1BZaFYbQ4p2iBZBLHRkEl6oskPWU69RHW9vzc2RaY5
 oRk4o8OrpZoXsfV1i/TRDuUvYfwtwy5ukIDer2/gH
X-Google-Smtp-Source: AGHT+IHDALo4QyW6XL1cO9gY2Psbe1WVKK/98Hsp+px3eHW5lj/hrcpbyK6gCx+ZhIL14Fhoo2frCC1JrP/W
X-Received: by 2002:a05:6a00:1883:b0:6e6:436f:69f2 with SMTP id
 x3-20020a056a00188300b006e6436f69f2mr909353pfh.8.1709947457181; 
 Fri, 08 Mar 2024 17:24:17 -0800 (PST)
Received: from postal.iol.unh.edu (postal.iol.unh.edu. [132.177.123.84])
 by smtp-relay.gmail.com with ESMTPS id
 ln7-20020a056a003cc700b006e56da42e25sm39707pfb.22.2024.03.08.17.24.17
 (version=TLS1_2 cipher=ECDHE-ECDSA-AES128-GCM-SHA256 bits=128/128);
 Fri, 08 Mar 2024 17:24:17 -0800 (PST)
X-Relaying-Domain: iol.unh.edu
Date: Fri, 08 Mar 2024 17:24:17 -0800 (PST)
Message-ID: <65ebba41.050a0220.a2b13.27b5SMTPIN_ADDED_MISSING@mx.google.com>
Received: from [172.17.0.8] (unknown [172.18.0.217])
 by postal.iol.unh.edu (Postfix) with ESMTP id 55D066052712;
 Fri,  8 Mar 2024 20:24:16 -0500 (EST)
Subject: |SUCCESS| pw138130-138132 [PATCH] [v3,3/3] testpmd: replace EAL logt
From: dpdklab@iol.unh.edu
To: Test Report <test-report@dpdk.org>
Cc: dpdk-test-reports@iol.unh.edu
In-Reply-To: <20240308181137.69855-4-stephen@networkplumber.org>
References: <20240308181137.69855-4-stephen@networkplumber.org>
Content-Type: text/plain
X-BeenThere: test-report@dpdk.org
X-Mailman-Version: 2.1.29
Precedence: list
List-Id: automatic DPDK test reports <test-report.dpdk.org>
List-Unsubscribe: <https://mails.dpdk.org/options/test-report>,
 <mailto:test-report-request@dpdk.org?subject=unsubscribe>
List-Archive: <http://mails.dpdk.org/archives/test-report/>
List-Post: <mailto:test-report@dpdk.org>
List-Help: <mailto:test-report-request@dpdk.org?subject=help>
List-Subscribe: <https://mails.dpdk.org/listinfo/test-report>,
 <mailto:test-report-request@dpdk.org?subject=subscribe>
Errors-To: test-report-bounces@dpdk.org

Test-Label: iol-unit-amd64-testing
Test-Status: SUCCESS
http://dpdk.org/patch/138132

_Testing PASS_

Submitter: Stephen Hemminger <stephen@networkplumber.org>
Date: Friday, March 08 2024 18:10:26 
DPDK git baseline: Repo:dpdk
  Branch: master
  CommitID:a86f381b826660e88794754c41d3aec79ce9b87c

138130-138132 --> testing pass

Test environment and result as below:

+---------------------+----------------+
|     Environment     | dpdk_unit_test |
+=====================+================+
| Debian Bullseye     | PASS           |
+---------------------+----------------+
| CentOS Stream 8     | PASS           |
+---------------------+----------------+
| Debian 12 (arm)     | PASS           |
+---------------------+----------------+
| Fedora 38           | PASS           |
+---------------------+----------------+
| CentOS Stream 9     | PASS           |
+---------------------+----------------+
| openSUSE Leap 15    | PASS           |
+---------------------+----------------+
| RHEL8               | PASS           |
+---------------------+----------------+
| Ubuntu 20.04        | PASS           |
+---------------------+----------------+
| Ubuntu 22.04        | PASS           |
+---------------------+----------------+
| Fedora 37           | PASS           |
+---------------------+----------------+
| Windows Server 2019 | PASS           |
+---------------------+----------------+


Debian Bullseye
	Kernel: 5.4.0-122-generic
	Compiler: gcc 10.2.1-6

CentOS Stream 8
	Kernel: 4.18.0-240.10.1.el8_3.x86_64
	Compiler: gcc 8.4.1 20200928

Debian 12 (arm)
	Kernel: Container Host Kernel
	Compiler: gcc 11

Fedora 38
	Kernel: Depends on container host
	Compiler: gcc 13.1.1

CentOS Stream 9
	Kernel: 4.18.0-240.10.1.el8_3.x86_64
	Compiler: gcc 11.3.1 20220421

openSUSE Leap 15
	Kernel: 4.18.0-240.10.1.el8_3.x86_64
	Compiler: gcc 7.5.0

RHEL8
	Kernel: 4.18.0-240.10.1.el8_3.x86_64
	Compiler: gcc 8.3.1 20191121 (Red Hat 8.3.1-5)

Ubuntu 20.04
	Kernel: 5.4.0-153-generic
	Compiler: gcc 9.4.0-1ubuntu1~20.04.1

Ubuntu 22.04
	Kernel: 4.18.0-240.10.1.el8_3.x86_64
	Compiler: gcc 11.3.0

Fedora 37
	Kernel: Depends on container host system
	Compiler: gcc 12.3.1

Windows Server 2019
	Kernel: 10.0
	Compiler: clang 14.0 and gcc 8.1.0 (MinGW)

To view detailed results, visit:
https://lab.dpdk.org/results/dashboard/patchsets/29482/

UNH-IOL DPDK Community Lab

To manage your email subscriptions, visit: 
https://lab.dpdk.org/results/dashboard/preferences/subscriptions/