From mboxrd@z Thu Jan  1 00:00:00 1970
Return-Path: <test-report-bounces@dpdk.org>
Received: from mails.dpdk.org (mails.dpdk.org [217.70.189.124])
	by inbox.dpdk.org (Postfix) with ESMTP id 06C3843C5C
	for <public@inbox.dpdk.org>; Sat,  9 Mar 2024 04:27:34 +0100 (CET)
Received: from mails.dpdk.org (localhost [127.0.0.1])
	by mails.dpdk.org (Postfix) with ESMTP id D21894021D;
	Sat,  9 Mar 2024 04:27:33 +0100 (CET)
Received: from mail-oa1-f99.google.com (mail-oa1-f99.google.com
 [209.85.160.99]) by mails.dpdk.org (Postfix) with ESMTP id 017494014F
 for <test-report@dpdk.org>; Sat,  9 Mar 2024 04:27:31 +0100 (CET)
Received: by mail-oa1-f99.google.com with SMTP id
 586e51a60fabf-221816e3ab9so1187997fac.2
 for <test-report@dpdk.org>; Fri, 08 Mar 2024 19:27:31 -0800 (PST)
DKIM-Signature: v=1; a=rsa-sha256; c=relaxed/relaxed;
 d=iol.unh.edu; s=unh-iol; t=1709954851; x=1710559651; darn=dpdk.org;
 h=references:in-reply-to:cc:to:from:subject:message-id:date:from:to
 :cc:subject:date:message-id:reply-to;
 bh=fus1Yjzwz2RupELBJdi9uS/4IWa1O7zR90yl2EaGg0Y=;
 b=Vb7wNJx0SMnKs11f0uua3QuGte0yx+P+jx4Vu0LURVNvaIAAZjB+WB82SLZTbJjvto
 xc9n8sxZLpPLESzwI+71+3RwBv5k/BWplMzHIR4GEVDQ83/KfqR7eI+jJLPOv2Otsc7n
 0VJCabi90gVquTrOE6AlZvhEW4UPEfGNzRvJo=
X-Google-DKIM-Signature: v=1; a=rsa-sha256; c=relaxed/relaxed;
 d=1e100.net; s=20230601; t=1709954851; x=1710559651;
 h=references:in-reply-to:cc:to:from:subject:message-id:date
 :x-gm-message-state:from:to:cc:subject:date:message-id:reply-to;
 bh=fus1Yjzwz2RupELBJdi9uS/4IWa1O7zR90yl2EaGg0Y=;
 b=oJjcagF98oZjffH2iXIGRiKl8xfQjWsQqy3RIekFALhi7/LUqizL0Rfx1T0IsWT+k/
 K7uFyDeVu6Y/E0hHp1p+F5NOPzs8lS9th9JzkZr1OWeKAvDQy+8l9RvqCKdxw5KeeOOK
 tPm4VVeizN9U4GYHmIm9Gpl3KzqPRNd/o3szm/SkEFkfAuNiJw7Iz9fIKHrkLYeUvKcm
 0DCxmVRORv5ucBDFdhn1FFUyCPPMobLZ6pDgfSxM3lt4cHiG5jKw60VKsXhH+dHKhV3w
 OAxKGKuInZCP2R+0aXOVWovBHXdnpKna1i5IGoSAlBBqw/lIcf4W3xUbU/NsWxTC8bh6
 ttXQ==
X-Gm-Message-State: AOJu0Yxxwm06SdFugcS2R3ZROHExZTPMwrEMJx82mpRw2bVbzqAJwYND
 GiinRHRgHGDCtJbGCH4pEC/EXp2giKhyI1APNw/G/07niTCSi34x0ZnQS868VqFDXGSHYevluMl
 Pes+qPCUdg/FG5s7e7hPIArOfbAFcsyp6cXZ5RN/KHpA4aJ4Wtxn2SkAQ
X-Google-Smtp-Source: AGHT+IHNm+hDSiTfrmcd4wCzzIHi9yBzg8sRFraor+bHRe+fPTiPkmLD0vp9uO2AEWKG/006/oH4COczFiFW
X-Received: by 2002:a05:6870:3287:b0:21f:7e35:8f4d with SMTP id
 q7-20020a056870328700b0021f7e358f4dmr1172190oac.6.1709954851195; 
 Fri, 08 Mar 2024 19:27:31 -0800 (PST)
Received: from postal.iol.unh.edu (postal.iol.unh.edu.
 [2606:4100:3880:1234::84]) by smtp-relay.gmail.com with ESMTPS id
 bq4-20020a056830388400b006e4fad8323csm64229otb.7.2024.03.08.19.27.31
 (version=TLS1_2 cipher=ECDHE-ECDSA-AES128-GCM-SHA256 bits=128/128);
 Fri, 08 Mar 2024 19:27:31 -0800 (PST)
X-Relaying-Domain: iol.unh.edu
Date: Fri, 08 Mar 2024 19:27:31 -0800 (PST)
Message-ID: <65ebd723.050a0220.94eea.4e09SMTPIN_ADDED_MISSING@mx.google.com>
Received: from [172.17.0.6] (unknown [172.18.0.217])
 by postal.iol.unh.edu (Postfix) with ESMTP id 914AD6052712;
 Fri,  8 Mar 2024 22:27:30 -0500 (EST)
Subject: |SUCCESS| pw138138-138140 [PATCH] [v4,3/3] testpmd: replace EAL logt
From: dpdklab@iol.unh.edu
To: Test Report <test-report@dpdk.org>
Cc: dpdk-test-reports@iol.unh.edu
In-Reply-To: <20240308223446.215726-4-stephen@networkplumber.org>
References: <20240308223446.215726-4-stephen@networkplumber.org>
Content-Type: text/plain
X-BeenThere: test-report@dpdk.org
X-Mailman-Version: 2.1.29
Precedence: list
List-Id: automatic DPDK test reports <test-report.dpdk.org>
List-Unsubscribe: <https://mails.dpdk.org/options/test-report>,
 <mailto:test-report-request@dpdk.org?subject=unsubscribe>
List-Archive: <http://mails.dpdk.org/archives/test-report/>
List-Post: <mailto:test-report@dpdk.org>
List-Help: <mailto:test-report-request@dpdk.org?subject=help>
List-Subscribe: <https://mails.dpdk.org/listinfo/test-report>,
 <mailto:test-report-request@dpdk.org?subject=subscribe>
Errors-To: test-report-bounces@dpdk.org

Test-Label: iol-compile-arm64-testing
Test-Status: SUCCESS
http://dpdk.org/patch/138140

_Testing PASS_

Submitter: Stephen Hemminger <stephen@networkplumber.org>
Date: Friday, March 08 2024 22:33:42 
DPDK git baseline: Repo:dpdk
  Branch: master
  CommitID:a86f381b826660e88794754c41d3aec79ce9b87c

138138-138140 --> testing pass

Test environment and result as below:

+----------------------------------------+--------------------+
|              Environment               | dpdk_meson_compile |
+========================================+====================+
| Ubuntu 20.04 ARM SVE                   | PASS               |
+----------------------------------------+--------------------+
| Debian 12 with MUSDK                   | PASS               |
+----------------------------------------+--------------------+
| Ubuntu 20.04 ARM GCC Cross Compile     | PASS               |
+----------------------------------------+--------------------+
| Ubuntu 20.04 (ARM)                     | PASS               |
+----------------------------------------+--------------------+
| Fedora 38 (ARM)                        | PASS               |
+----------------------------------------+--------------------+
| Fedora 37 (ARM)                        | PASS               |
+----------------------------------------+--------------------+
| Debian 12 (arm)                        | PASS               |
+----------------------------------------+--------------------+
| CentOS Stream 9 (ARM)                  | PASS               |
+----------------------------------------+--------------------+
| Ubuntu 20.04 aarch32 GCC Cross Compile | PASS               |
+----------------------------------------+--------------------+
| Ubuntu 20.04 ARM Clang Cross Compile   | PASS               |
+----------------------------------------+--------------------+
| Debian 11 (Buster) (ARM)               | PASS               |
+----------------------------------------+--------------------+
| Fedora 38 (ARM Clang)                  | PASS               |
+----------------------------------------+--------------------+


Ubuntu 20.04 ARM SVE
	Kernel: 5.4.0-80-generic
	Compiler: gcc 10.3.0 (Ubuntu 10.3.0-1ubuntu1~20.04)

Debian 12 with MUSDK
	Kernel: Container Host Kernel
	Compiler: gcc 12

Ubuntu 20.04 ARM GCC Cross Compile
	Kernel: 5.4.0-72-generic
	Compiler: aarch64-linux-gnu-gcc (Ubuntu 9.3.0-17ubuntu1~20.04) 9.3.0

Ubuntu 20.04 (ARM)
	Kernel: Container Host Kernel
	Compiler: gcc 9.4.0

Fedora 38 (ARM)
	Kernel: Depends on container host
	Compiler: gcc 13.1.1

Fedora 37 (ARM)
	Kernel: Depends on container host
	Compiler: gcc 12.3.1

Debian 12 (arm)
	Kernel: Container Host Kernel
	Compiler: gcc 11

CentOS Stream 9 (ARM)
	Kernel: Container Host Kernel
	Compiler: gcc 11.3.1

Ubuntu 20.04 aarch32 GCC Cross Compile
	Kernel: 5.4.0-72-generic
	Compiler: gcc 9.3.0

Ubuntu 20.04 ARM Clang Cross Compile
	Kernel: 5.4.0-72-generic
	Compiler: clang version 10.0.0-4ubuntu1

Debian 11 (Buster) (ARM)
	Kernel: Container Host Kernel
	Compiler: gcc 10.2.1

Fedora 38 (ARM Clang)
	Kernel: Depends on container host
	Compiler: clang 16.0.3

To view detailed results, visit:
https://lab.dpdk.org/results/dashboard/patchsets/29488/

UNH-IOL DPDK Community Lab

To manage your email subscriptions, visit: 
https://lab.dpdk.org/results/dashboard/preferences/subscriptions/