From mboxrd@z Thu Jan  1 00:00:00 1970
Return-Path: <test-report-bounces@dpdk.org>
Received: from mails.dpdk.org (mails.dpdk.org [217.70.189.124])
	by inbox.dpdk.org (Postfix) with ESMTP id 5A4FA43C6D
	for <public@inbox.dpdk.org>; Sat,  9 Mar 2024 20:02:50 +0100 (CET)
Received: from mails.dpdk.org (localhost [127.0.0.1])
	by mails.dpdk.org (Postfix) with ESMTP id 558B040273;
	Sat,  9 Mar 2024 20:02:50 +0100 (CET)
Received: from mail-io1-f100.google.com (mail-io1-f100.google.com
 [209.85.166.100])
 by mails.dpdk.org (Postfix) with ESMTP id CC95140144
 for <test-report@dpdk.org>; Sat,  9 Mar 2024 20:02:49 +0100 (CET)
Received: by mail-io1-f100.google.com with SMTP id
 ca18e2360f4ac-7c83fb0fa01so96558539f.1
 for <test-report@dpdk.org>; Sat, 09 Mar 2024 11:02:49 -0800 (PST)
DKIM-Signature: v=1; a=rsa-sha256; c=relaxed/relaxed;
 d=iol.unh.edu; s=unh-iol; t=1710010969; x=1710615769; darn=dpdk.org;
 h=references:in-reply-to:cc:to:from:subject:message-id:date:from:to
 :cc:subject:date:message-id:reply-to;
 bh=6mPtVwC28oDYvXJUE2vb3O/bmDh1WaVsoQsS8jbVL8E=;
 b=N35cqspTyomQ28EIXrYz2333b8cHkIGA9DdrpO4XW23Kyls1ZWAfNlbViGWdlDM5JL
 AZcMIP2ZFg6P8+e/4qeZ4jm9e6lhFEdMehnl8caBY96WciAzF1tmlW0nBLnvb72LSa93
 htxeTfXOBGEjRmnTRTivIiwgPcfY9uNeZLGwo=
X-Google-DKIM-Signature: v=1; a=rsa-sha256; c=relaxed/relaxed;
 d=1e100.net; s=20230601; t=1710010969; x=1710615769;
 h=references:in-reply-to:cc:to:from:subject:message-id:date
 :x-gm-message-state:from:to:cc:subject:date:message-id:reply-to;
 bh=6mPtVwC28oDYvXJUE2vb3O/bmDh1WaVsoQsS8jbVL8E=;
 b=L5LvwDo3g/MF31A4Bti1gX+3M6hvFjRMlPDSi6cjWO98b+MhUiJFkZYjjRV5N/rfoN
 0ooXEBlb5Zr694D1m+V35NhPiCVLuFcUdMeR6ewdP+uGjYcVoxJIV90jkePI/ZFhXV7T
 +mXC+u5OZi3kAW3EqugYLj0AsOzBw1tq5Vsy/hdGGDbuAnA1xOnMoUUyKODlFwT91EaG
 0n2V9NC8CQPhU1WQOvke8PRlSxPtPtgZglGa/Vf8JmIJlJhOfKD7U3QCe6HKiR1CKljG
 vexrlm6ZVJD5WvbGp8/o7GvtVzb7Up0KHo2RTLz4BQmLj46Thxi8s+HEvgQUdl2NVIBq
 eF8g==
X-Gm-Message-State: AOJu0YwENHTzcv9gAzYCjmr1eELy71jucioKMHHLfGIlepE/7pDkQTwW
 vsl7TFKSjTranyvytqslWpPZ9xl6tiaLr7jnZOhOl3IJ7aE5JkRhbXIG6Y8umebvQCnJFwiLG+6
 bV1eud6copXhJz2ZPh6zafev5DKhUPagUX2cd+Oaa
X-Google-Smtp-Source: AGHT+IHBzYa5UiiH/zUovhV0xhvrZdgo588nApA92IM+XniWMDP7aqPvQYKGeBEcjXX/0DLcT/hTzR53mwQy
X-Received: by 2002:a6b:590b:0:b0:7c8:5742:f4a0 with SMTP id
 n11-20020a6b590b000000b007c85742f4a0mr2691609iob.12.1710010969281; 
 Sat, 09 Mar 2024 11:02:49 -0800 (PST)
Received: from postal.iol.unh.edu (postal.iol.unh.edu. [132.177.123.84])
 by smtp-relay.gmail.com with ESMTPS id
 fb11-20020a0566023f8b00b007c862876f13sm71203iob.5.2024.03.09.11.02.49
 (version=TLS1_2 cipher=ECDHE-ECDSA-AES128-GCM-SHA256 bits=128/128);
 Sat, 09 Mar 2024 11:02:49 -0800 (PST)
X-Relaying-Domain: iol.unh.edu
Date: Sat, 09 Mar 2024 11:02:49 -0800 (PST)
Message-ID: <65ecb259.050a0220.8dc59.49a4SMTPIN_ADDED_MISSING@mx.google.com>
Received: from [172.21.0.6] (unknown [172.18.0.240])
 by postal.iol.unh.edu (Postfix) with ESMTP id 975566052510;
 Sat,  9 Mar 2024 14:02:48 -0500 (EST)
Subject: |SUCCESS| pw138141 [PATCH] [RFC,v3] tap: do not duplicate fd's
From: dpdklab@iol.unh.edu
To: Test Report <test-report@dpdk.org>
Cc: dpdk-test-reports@iol.unh.edu
In-Reply-To: <20240309181554.289317-1-stephen@networkplumber.org>
References: <20240309181554.289317-1-stephen@networkplumber.org>
Content-Type: text/plain
X-BeenThere: test-report@dpdk.org
X-Mailman-Version: 2.1.29
Precedence: list
List-Id: automatic DPDK test reports <test-report.dpdk.org>
List-Unsubscribe: <https://mails.dpdk.org/options/test-report>,
 <mailto:test-report-request@dpdk.org?subject=unsubscribe>
List-Archive: <http://mails.dpdk.org/archives/test-report/>
List-Post: <mailto:test-report@dpdk.org>
List-Help: <mailto:test-report-request@dpdk.org?subject=help>
List-Subscribe: <https://mails.dpdk.org/listinfo/test-report>,
 <mailto:test-report-request@dpdk.org?subject=subscribe>
Errors-To: test-report-bounces@dpdk.org

Test-Label: iol-compile-amd64-testing
Test-Status: SUCCESS
http://dpdk.org/patch/138141

_Testing PASS_

Submitter: Stephen Hemminger <stephen@networkplumber.org>
Date: Saturday, March 09 2024 18:12:54 
DPDK git baseline: Repo:dpdk
  Branch: master
  CommitID:a2a2ce171d00b8f27c8c43c37d5dd8505d8f2e89

138141 --> testing pass

Test environment and result as below:

+---------------------+--------------------+----------------------+
|     Environment     | dpdk_meson_compile | dpdk_mingw64_compile |
+=====================+====================+======================+
| CentOS Stream 9     | PASS               | SKIPPED              |
+---------------------+--------------------+----------------------+
| Debian 12 (arm)     | PASS               | SKIPPED              |
+---------------------+--------------------+----------------------+
| Windows Server 2022 | PASS               | SKIPPED              |
+---------------------+--------------------+----------------------+
| Debian Bullseye     | PASS               | SKIPPED              |
+---------------------+--------------------+----------------------+
| CentOS Stream 8     | PASS               | SKIPPED              |
+---------------------+--------------------+----------------------+
| FreeBSD 13.2        | PASS               | SKIPPED              |
+---------------------+--------------------+----------------------+
| Fedora 37           | PASS               | SKIPPED              |
+---------------------+--------------------+----------------------+
| RHEL8               | PASS               | SKIPPED              |
+---------------------+--------------------+----------------------+
| openSUSE Leap 15    | PASS               | SKIPPED              |
+---------------------+--------------------+----------------------+
| Windows Server 2019 | PASS               | PASS                 |
+---------------------+--------------------+----------------------+
| Fedora 38           | PASS               | SKIPPED              |
+---------------------+--------------------+----------------------+
| Ubuntu 20.04        | PASS               | SKIPPED              |
+---------------------+--------------------+----------------------+
| Ubuntu 22.04        | PASS               | SKIPPED              |
+---------------------+--------------------+----------------------+
| Alpine              | PASS               | SKIPPED              |
+---------------------+--------------------+----------------------+


CentOS Stream 9
	Kernel: 4.18.0-240.10.1.el8_3.x86_64
	Compiler: gcc 11.3.1 20220421

Debian 12 (arm)
	Kernel: Container Host Kernel
	Compiler: gcc 11

Windows Server 2022
	Kernel: OS Build 20348.2031
	Compiler: MSVC VS-Preview

Debian Bullseye
	Kernel: 5.4.0-122-generic
	Compiler: gcc 10.2.1-6

CentOS Stream 8
	Kernel: 4.18.0-240.10.1.el8_3.x86_64
	Compiler: gcc 8.4.1 20200928

FreeBSD 13.2
	Kernel: 13.2
	Compiler: clang 11.3.0

Fedora 37
	Kernel: Depends on container host system
	Compiler: gcc 12.3.1

RHEL8
	Kernel: 4.18.0-240.10.1.el8_3.x86_64
	Compiler: gcc 8.3.1 20191121 (Red Hat 8.3.1-5)

openSUSE Leap 15
	Kernel: 4.18.0-240.10.1.el8_3.x86_64
	Compiler: gcc 7.5.0

Windows Server 2019
	Kernel: 10.0
	Compiler: clang 14.0 and gcc 8.1.0 (MinGW)

Fedora 38
	Kernel: Depends on container host
	Compiler: gcc 13.1.1

Ubuntu 20.04
	Kernel: 5.4.0-153-generic
	Compiler: gcc 9.4.0-1ubuntu1~20.04.1

Ubuntu 22.04
	Kernel: 4.18.0-240.10.1.el8_3.x86_64
	Compiler: gcc 11.3.0

Alpine
	Kernel: 5.4.0-73-generic
	Compiler: gcc (Alpine 10.3.1_git20210424) 10.3.1 20210424

To view detailed results, visit:
https://lab.dpdk.org/results/dashboard/patchsets/29489/

UNH-IOL DPDK Community Lab

To manage your email subscriptions, visit: 
https://lab.dpdk.org/results/dashboard/preferences/subscriptions/