From mboxrd@z Thu Jan  1 00:00:00 1970
Return-Path: <test-report-bounces@dpdk.org>
Received: from mails.dpdk.org (mails.dpdk.org [217.70.189.124])
	by inbox.dpdk.org (Postfix) with ESMTP id C860A41B15
	for <public@inbox.dpdk.org>; Sat,  9 Mar 2024 20:07:00 +0100 (CET)
Received: from mails.dpdk.org (localhost [127.0.0.1])
	by mails.dpdk.org (Postfix) with ESMTP id C1FA440273;
	Sat,  9 Mar 2024 20:07:00 +0100 (CET)
Received: from mail-qv1-f97.google.com (mail-qv1-f97.google.com
 [209.85.219.97]) by mails.dpdk.org (Postfix) with ESMTP id 5668340144
 for <test-report@dpdk.org>; Sat,  9 Mar 2024 20:06:59 +0100 (CET)
Received: by mail-qv1-f97.google.com with SMTP id
 6a1803df08f44-690c73735b5so3007246d6.3
 for <test-report@dpdk.org>; Sat, 09 Mar 2024 11:06:59 -0800 (PST)
DKIM-Signature: v=1; a=rsa-sha256; c=relaxed/relaxed;
 d=iol.unh.edu; s=unh-iol; t=1710011218; x=1710616018; darn=dpdk.org;
 h=references:in-reply-to:cc:to:from:subject:message-id:date:from:to
 :cc:subject:date:message-id:reply-to;
 bh=6mPtVwC28oDYvXJUE2vb3O/bmDh1WaVsoQsS8jbVL8E=;
 b=QE1I+PakEaDAZcFKlKpAUNzJ8H4Gb1lezb+KyDoQb4sM+9aeozD5R380idb2ZfBk1z
 PG1SAahQEPixRQGWSUVOT163KHwUUGqaodr24V+TgiVYlLuyhZNGdNp+CoZswKJrzKcM
 z5LawkwiHjTRUq22bgAWUmonxfiRJhTRDcydk=
X-Google-DKIM-Signature: v=1; a=rsa-sha256; c=relaxed/relaxed;
 d=1e100.net; s=20230601; t=1710011218; x=1710616018;
 h=references:in-reply-to:cc:to:from:subject:message-id:date
 :x-gm-message-state:from:to:cc:subject:date:message-id:reply-to;
 bh=6mPtVwC28oDYvXJUE2vb3O/bmDh1WaVsoQsS8jbVL8E=;
 b=SftMHuUk/P+30yj1kxgS9ZOl5HHq/WbfBgLBGlgBTejh6YeIvcLNfU8cdrvtU3WgON
 nDxM+xASx/U7HLNWdI55Swdj7X7JN7Y78HbyytpgvWBCPhBhiAa+IYXOtfDHSGKQ9msY
 172jksvttA7lUSAmwXI2DD8wIxBSAwmBL46EQayXFDd3rNuruYzx9NBt5ybxnYzsen5e
 ehVvkHqK3Z1D3B5+xFw0EwsTIyJdY16Pf/m9cTyspdPZ12C0fSB4T8/l7rZLL5FI15pz
 KnHrw4YKiNaVh7/8C6oRScavNhjADoKpNInAb50TLxweCrtEmN8C2sPZeaUpZkwaU9xr
 kcvw==
X-Gm-Message-State: AOJu0YwgmasUG+NToxisUkg/94u5Vc202ZImHk/vWBdTpvzTYSti8Xpm
 OfG/Zn/RidDB6OKeCVnzFwi0krLZGzgPcULNVah8wCqKrkJ9ofyz+K+wAxwWfvKikIjHEpy6rG3
 9Ol5KOSAtXniqmT3YWsdyMR9Mv7KyCD1W+4yn0FraZXiIIrXBD0C2+PKq
X-Google-Smtp-Source: AGHT+IG4N5Db9rKLmWnz2wYK/wDLcv3rdRuAeTDxg9WAz6zXBWgipdkawn2t6lBHs+S/TDnsxb3cauSCvbAc
X-Received: by 2002:a05:6214:9c2:b0:68f:709d:a47f with SMTP id
 dp2-20020a05621409c200b0068f709da47fmr2940664qvb.47.1710011218801; 
 Sat, 09 Mar 2024 11:06:58 -0800 (PST)
Received: from postal.iol.unh.edu (postal.iol.unh.edu.
 [2606:4100:3880:1234::84]) by smtp-relay.gmail.com with ESMTPS id
 8-20020a0562140cc800b0068f90006e56sm87075qvx.22.2024.03.09.11.06.58
 (version=TLS1_2 cipher=ECDHE-ECDSA-AES128-GCM-SHA256 bits=128/128);
 Sat, 09 Mar 2024 11:06:58 -0800 (PST)
X-Relaying-Domain: iol.unh.edu
Date: Sat, 09 Mar 2024 11:06:58 -0800 (PST)
Message-ID: <65ecb352.050a0220.daa73.616eSMTPIN_ADDED_MISSING@mx.google.com>
Received: from [172.17.0.8] (unknown [172.18.0.217])
 by postal.iol.unh.edu (Postfix) with ESMTP id 7F65F6052510;
 Sat,  9 Mar 2024 14:06:58 -0500 (EST)
Subject: |SUCCESS| pw138141 [PATCH] [RFC,v3] tap: do not duplicate fd's
From: dpdklab@iol.unh.edu
To: Test Report <test-report@dpdk.org>
Cc: dpdk-test-reports@iol.unh.edu
In-Reply-To: <20240309181554.289317-1-stephen@networkplumber.org>
References: <20240309181554.289317-1-stephen@networkplumber.org>
Content-Type: text/plain
X-BeenThere: test-report@dpdk.org
X-Mailman-Version: 2.1.29
Precedence: list
List-Id: automatic DPDK test reports <test-report.dpdk.org>
List-Unsubscribe: <https://mails.dpdk.org/options/test-report>,
 <mailto:test-report-request@dpdk.org?subject=unsubscribe>
List-Archive: <http://mails.dpdk.org/archives/test-report/>
List-Post: <mailto:test-report@dpdk.org>
List-Help: <mailto:test-report-request@dpdk.org?subject=help>
List-Subscribe: <https://mails.dpdk.org/listinfo/test-report>,
 <mailto:test-report-request@dpdk.org?subject=subscribe>
Errors-To: test-report-bounces@dpdk.org

Test-Label: iol-compile-amd64-testing
Test-Status: SUCCESS
http://dpdk.org/patch/138141

_Testing PASS_

Submitter: Stephen Hemminger <stephen@networkplumber.org>
Date: Saturday, March 09 2024 18:12:54 
DPDK git baseline: Repo:dpdk
  Branch: master
  CommitID:a2a2ce171d00b8f27c8c43c37d5dd8505d8f2e89

138141 --> testing pass

Test environment and result as below:

+---------------------+--------------------+----------------------+
|     Environment     | dpdk_meson_compile | dpdk_mingw64_compile |
+=====================+====================+======================+
| CentOS Stream 9     | PASS               | SKIPPED              |
+---------------------+--------------------+----------------------+
| Debian 12 (arm)     | PASS               | SKIPPED              |
+---------------------+--------------------+----------------------+
| Windows Server 2022 | PASS               | SKIPPED              |
+---------------------+--------------------+----------------------+
| Debian Bullseye     | PASS               | SKIPPED              |
+---------------------+--------------------+----------------------+
| CentOS Stream 8     | PASS               | SKIPPED              |
+---------------------+--------------------+----------------------+
| FreeBSD 13.2        | PASS               | SKIPPED              |
+---------------------+--------------------+----------------------+
| Fedora 37           | PASS               | SKIPPED              |
+---------------------+--------------------+----------------------+
| RHEL8               | PASS               | SKIPPED              |
+---------------------+--------------------+----------------------+
| openSUSE Leap 15    | PASS               | SKIPPED              |
+---------------------+--------------------+----------------------+
| Windows Server 2019 | PASS               | PASS                 |
+---------------------+--------------------+----------------------+
| Fedora 38           | PASS               | SKIPPED              |
+---------------------+--------------------+----------------------+
| Ubuntu 20.04        | PASS               | SKIPPED              |
+---------------------+--------------------+----------------------+
| Ubuntu 22.04        | PASS               | SKIPPED              |
+---------------------+--------------------+----------------------+
| Alpine              | PASS               | SKIPPED              |
+---------------------+--------------------+----------------------+


CentOS Stream 9
	Kernel: 4.18.0-240.10.1.el8_3.x86_64
	Compiler: gcc 11.3.1 20220421

Debian 12 (arm)
	Kernel: Container Host Kernel
	Compiler: gcc 11

Windows Server 2022
	Kernel: OS Build 20348.2031
	Compiler: MSVC VS-Preview

Debian Bullseye
	Kernel: 5.4.0-122-generic
	Compiler: gcc 10.2.1-6

CentOS Stream 8
	Kernel: 4.18.0-240.10.1.el8_3.x86_64
	Compiler: gcc 8.4.1 20200928

FreeBSD 13.2
	Kernel: 13.2
	Compiler: clang 11.3.0

Fedora 37
	Kernel: Depends on container host system
	Compiler: gcc 12.3.1

RHEL8
	Kernel: 4.18.0-240.10.1.el8_3.x86_64
	Compiler: gcc 8.3.1 20191121 (Red Hat 8.3.1-5)

openSUSE Leap 15
	Kernel: 4.18.0-240.10.1.el8_3.x86_64
	Compiler: gcc 7.5.0

Windows Server 2019
	Kernel: 10.0
	Compiler: clang 14.0 and gcc 8.1.0 (MinGW)

Fedora 38
	Kernel: Depends on container host
	Compiler: gcc 13.1.1

Ubuntu 20.04
	Kernel: 5.4.0-153-generic
	Compiler: gcc 9.4.0-1ubuntu1~20.04.1

Ubuntu 22.04
	Kernel: 4.18.0-240.10.1.el8_3.x86_64
	Compiler: gcc 11.3.0

Alpine
	Kernel: 5.4.0-73-generic
	Compiler: gcc (Alpine 10.3.1_git20210424) 10.3.1 20210424

To view detailed results, visit:
https://lab.dpdk.org/results/dashboard/patchsets/29489/

UNH-IOL DPDK Community Lab

To manage your email subscriptions, visit: 
https://lab.dpdk.org/results/dashboard/preferences/subscriptions/