From mboxrd@z Thu Jan  1 00:00:00 1970
Return-Path: <test-report-bounces@dpdk.org>
Received: from mails.dpdk.org (mails.dpdk.org [217.70.189.124])
	by inbox.dpdk.org (Postfix) with ESMTP id 7530E43C6D
	for <public@inbox.dpdk.org>; Sat,  9 Mar 2024 20:10:54 +0100 (CET)
Received: from mails.dpdk.org (localhost [127.0.0.1])
	by mails.dpdk.org (Postfix) with ESMTP id 6D76340273;
	Sat,  9 Mar 2024 20:10:54 +0100 (CET)
Received: from mail-yb1-f228.google.com (mail-yb1-f228.google.com
 [209.85.219.228])
 by mails.dpdk.org (Postfix) with ESMTP id CC00340144
 for <test-report@dpdk.org>; Sat,  9 Mar 2024 20:10:52 +0100 (CET)
Received: by mail-yb1-f228.google.com with SMTP id
 3f1490d57ef6-dcbcea9c261so1837362276.3
 for <test-report@dpdk.org>; Sat, 09 Mar 2024 11:10:52 -0800 (PST)
DKIM-Signature: v=1; a=rsa-sha256; c=relaxed/relaxed;
 d=iol.unh.edu; s=unh-iol; t=1710011452; x=1710616252; darn=dpdk.org;
 h=references:in-reply-to:cc:to:from:subject:message-id:date:from:to
 :cc:subject:date:message-id:reply-to;
 bh=5C5oKKAKC/8e/eOAu1pbYYM5pG1k7BNEOJNCeO32Buo=;
 b=agbbb4/Ft417uIWRCnT9/LG8BN1fsaR5mnDFRWcX2PaEoteAu50s2tw/JaeRvnZhBI
 vW2rKD/UL5qbjBQojM776DML5D3rjDbthxYf1P0GiNGth5xLs5Mmx5aTrM1+mZzJzkQ/
 qF4jrxYJtdEyQXGtEeRHnv7efr4YvCsxuorZo=
X-Google-DKIM-Signature: v=1; a=rsa-sha256; c=relaxed/relaxed;
 d=1e100.net; s=20230601; t=1710011452; x=1710616252;
 h=references:in-reply-to:cc:to:from:subject:message-id:date
 :x-gm-message-state:from:to:cc:subject:date:message-id:reply-to;
 bh=5C5oKKAKC/8e/eOAu1pbYYM5pG1k7BNEOJNCeO32Buo=;
 b=e13zBbp705mOJaSj8IBRunrcvN6wwxFjQDd3myARgH6jQEXFfuoxbIq6PP/AtDjdiD
 6Dz3ndhalcTN+/dPyE1H29gHX9OqrFEjPsFUcyWZ0kfpTxngnP1B2iG66Hmej2TdMmUA
 Tui3YFgAHtyEsTE/Qmlxu5pjzgRcMBYN8y9KEZ7pcuFkJIY1f+ooOhoEuFuvIr2myyik
 r0VWDiO+sBtkNg3OBBXSRjPtT9HKgw3dwrVRlQaXz2uLim1gAEIh1DZKoXrHDORirH8t
 s6oJw/2NUQfry1wOeuxYjD3m2YHPVTH/aXhDWDzzyYc4U4RMgnsx7f9iCQCjSBPRaqvx
 q/LA==
X-Gm-Message-State: AOJu0Ywe1HDsLWRbLJN1NXFC+7VZKb5lkg6g8WXBYq4h8MxRU3WU0Vnk
 gR6PqxBd2eyJzQZPsq2/kxGtjkYz3kJWxV8/YJmRv7z84UC7759uB4VqcSb8KlplHnbF5BFkPgS
 3sx1RgdOa4XhGQfrjFsr8o+V8mskr84AMviBYGiQf
X-Google-Smtp-Source: AGHT+IF+nLct3rmb3KEIzUbqsnXFSs7p0UEqvs5NxiE5sOISwZMgHbP42TAPEkEob2t66EZOnSUYl+2lTvQ1
X-Received: by 2002:a25:aa84:0:b0:dd0:467:2e48 with SMTP id
 t4-20020a25aa84000000b00dd004672e48mr1271738ybi.40.1710011452241; 
 Sat, 09 Mar 2024 11:10:52 -0800 (PST)
Received: from postal.iol.unh.edu (postal.iol.unh.edu. [132.177.123.84])
 by smtp-relay.gmail.com with ESMTPS id
 bu30-20020a056902091e00b00dc26f94f84csm59900ybb.25.2024.03.09.11.10.52
 (version=TLS1_2 cipher=ECDHE-ECDSA-AES128-GCM-SHA256 bits=128/128);
 Sat, 09 Mar 2024 11:10:52 -0800 (PST)
X-Relaying-Domain: iol.unh.edu
Date: Sat, 09 Mar 2024 11:10:52 -0800 (PST)
Message-ID: <65ecb43c.050a0220.10b9b.3b13SMTPIN_ADDED_MISSING@mx.google.com>
Received: from [172.17.0.7] (unknown [172.18.0.217])
 by postal.iol.unh.edu (Postfix) with ESMTP id D3A826052510;
 Sat,  9 Mar 2024 14:10:51 -0500 (EST)
Subject: |SUCCESS| pw138141 [PATCH] [RFC,v3] tap: do not duplicate fd's
From: dpdklab@iol.unh.edu
To: Test Report <test-report@dpdk.org>
Cc: dpdk-test-reports@iol.unh.edu
In-Reply-To: <20240309181554.289317-1-stephen@networkplumber.org>
References: <20240309181554.289317-1-stephen@networkplumber.org>
Content-Type: text/plain
X-BeenThere: test-report@dpdk.org
X-Mailman-Version: 2.1.29
Precedence: list
List-Id: automatic DPDK test reports <test-report.dpdk.org>
List-Unsubscribe: <https://mails.dpdk.org/options/test-report>,
 <mailto:test-report-request@dpdk.org?subject=unsubscribe>
List-Archive: <http://mails.dpdk.org/archives/test-report/>
List-Post: <mailto:test-report@dpdk.org>
List-Help: <mailto:test-report-request@dpdk.org?subject=help>
List-Subscribe: <https://mails.dpdk.org/listinfo/test-report>,
 <mailto:test-report-request@dpdk.org?subject=subscribe>
Errors-To: test-report-bounces@dpdk.org

Test-Label: iol-unit-arm64-testing
Test-Status: SUCCESS
http://dpdk.org/patch/138141

_Testing PASS_

Submitter: Stephen Hemminger <stephen@networkplumber.org>
Date: Saturday, March 09 2024 18:12:54 
DPDK git baseline: Repo:dpdk
  Branch: master
  CommitID:a2a2ce171d00b8f27c8c43c37d5dd8505d8f2e89

138141 --> testing pass

Test environment and result as below:

+--------------------------+------------------------------+----------------+--------------+
|       Environment        | cryptodev_sw_snow3g_autotest | dpdk_unit_test | lpm_autotest |
+==========================+==============================+================+==============+
| Debian 12 (arm)          | PASS                         | PASS           | SKIPPED      |
+--------------------------+------------------------------+----------------+--------------+
| CentOS Stream 9 (ARM)    | SKIPPED                      | PASS           | SKIPPED      |
+--------------------------+------------------------------+----------------+--------------+
| Debian 11 (Buster) (ARM) | SKIPPED                      | PASS           | SKIPPED      |
+--------------------------+------------------------------+----------------+--------------+
| Fedora 37 (ARM)          | SKIPPED                      | PASS           | SKIPPED      |
+--------------------------+------------------------------+----------------+--------------+
| Ubuntu 20.04 ARM SVE     | SKIPPED                      | SKIPPED        | PASS         |
+--------------------------+------------------------------+----------------+--------------+


Debian 12 (arm)
	Kernel: Container Host Kernel
	Compiler: gcc 11

CentOS Stream 9 (ARM)
	Kernel: Container Host Kernel
	Compiler: gcc 11.3.1

Debian 11 (Buster) (ARM)
	Kernel: Container Host Kernel
	Compiler: gcc 10.2.1

Fedora 37 (ARM)
	Kernel: Depends on container host
	Compiler: gcc 12.3.1

Ubuntu 20.04 ARM SVE
	Kernel: 5.4.0-80-generic
	Compiler: gcc 10.3.0 (Ubuntu 10.3.0-1ubuntu1~20.04)

To view detailed results, visit:
https://lab.dpdk.org/results/dashboard/patchsets/29489/

UNH-IOL DPDK Community Lab

To manage your email subscriptions, visit: 
https://lab.dpdk.org/results/dashboard/preferences/subscriptions/