From mboxrd@z Thu Jan  1 00:00:00 1970
Return-Path: <test-report-bounces@dpdk.org>
Received: from mails.dpdk.org (mails.dpdk.org [217.70.189.124])
	by inbox.dpdk.org (Postfix) with ESMTP id 5F37643C84
	for <public@inbox.dpdk.org>; Mon, 11 Mar 2024 08:29:59 +0100 (CET)
Received: from mails.dpdk.org (localhost [127.0.0.1])
	by mails.dpdk.org (Postfix) with ESMTP id 4A741402AE;
	Mon, 11 Mar 2024 08:29:59 +0100 (CET)
Received: from mail-il1-f228.google.com (mail-il1-f228.google.com
 [209.85.166.228])
 by mails.dpdk.org (Postfix) with ESMTP id CB51D4029E
 for <test-report@dpdk.org>; Mon, 11 Mar 2024 08:29:57 +0100 (CET)
Received: by mail-il1-f228.google.com with SMTP id
 e9e14a558f8ab-3662e41370fso17474355ab.2
 for <test-report@dpdk.org>; Mon, 11 Mar 2024 00:29:57 -0700 (PDT)
DKIM-Signature: v=1; a=rsa-sha256; c=relaxed/relaxed;
 d=iol.unh.edu; s=unh-iol; t=1710142197; x=1710746997; darn=dpdk.org;
 h=references:in-reply-to:cc:to:from:subject:message-id:date:from:to
 :cc:subject:date:message-id:reply-to;
 bh=nCHrVUn0JN265CrK4bKBRXScLMLP9swcUgmewgmKarM=;
 b=KSTltKD8doMRE1aXStbE075gTVznf70EhaqO+N8NjQcoZ4IHtvyi4Uggq2f88bN1DI
 S7BWOuhLjikP70/RDS1EefXSEk+N69I9ReIWHHjEbcudEvENzyQXc7p5XR3HgH5LFneK
 Goz1S5spzHeIFmjrZ8JqWT5LiCQGd7rQgM364=
X-Google-DKIM-Signature: v=1; a=rsa-sha256; c=relaxed/relaxed;
 d=1e100.net; s=20230601; t=1710142197; x=1710746997;
 h=references:in-reply-to:cc:to:from:subject:message-id:date
 :x-gm-message-state:from:to:cc:subject:date:message-id:reply-to;
 bh=nCHrVUn0JN265CrK4bKBRXScLMLP9swcUgmewgmKarM=;
 b=Cut3ypNEzrsWbic3YwK3pRNT2+Yh3+74T3qRHjnghtPhjKcA57SkwI3xEzFqfp3P22
 RPymRIsW+Of+uR6ZZMZeB2BekPM/znPGpV4XnjmQKq9i0i8Gv/TuK7+mRAa+eVxa6i/r
 rHlTZ/bZRoy11MANAs0vIKu0wnhdzVQCr6jNHHP2luoPmKh3V8lgdwcE5T9u4RRHcLYL
 s7XbKWlpHRi02g8wqFvB1L5PxBEuaadwUNMUYRqJ1bnLTm7KJZP0+khWx5gRPhnPliEs
 3aDu6k0wduD7BThHD37Sa/ONxt8kC68kRm9pov30rK0CrQM5Vw9DPo0PQ4SGc2z1BHIo
 ozZw==
X-Gm-Message-State: AOJu0YxaNdoRSjvVdRbIIPsE9+chuTgzYZjtjDnant9VeiXqfCrSqotI
 QGJL8h+Tr9Z3GnvCZb6CX1XknjbhzYnBQioDnKQhtZ82wFmG+Wu3QWWxW17ATn3tNxCw2o6OYVj
 jzfs6U7TkLP0dmVFl6+gVfPdiJNgcXQA7OOqU49oUfQLOmlE+ctkhVZNo
X-Google-Smtp-Source: AGHT+IHdHwtj6TkUCCDEX1LYjwJ6s3XHnlNWAs5NDm2nV/iDsYwXzROEzCYkcJqCPp+29wd3Y5OvCqpmnYAH
X-Received: by 2002:a05:6e02:1a63:b0:365:366:19b3 with SMTP id
 w3-20020a056e021a6300b00365036619b3mr8235260ilv.19.1710142197277; 
 Mon, 11 Mar 2024 00:29:57 -0700 (PDT)
Received: from postal.iol.unh.edu (postal.iol.unh.edu.
 [2606:4100:3880:1234::84]) by smtp-relay.gmail.com with ESMTPS id
 q6-20020a056e0220e600b00365f389d32fsm234541ilv.73.2024.03.11.00.29.57
 (version=TLS1_2 cipher=ECDHE-ECDSA-AES128-GCM-SHA256 bits=128/128);
 Mon, 11 Mar 2024 00:29:57 -0700 (PDT)
X-Relaying-Domain: iol.unh.edu
Date: Mon, 11 Mar 2024 00:29:57 -0700 (PDT)
Message-ID: <65eeb2f5.050a0220.af486.04b1SMTPIN_ADDED_MISSING@mx.google.com>
Received: from [172.21.0.6] (unknown [172.18.0.240])
 by postal.iol.unh.edu (Postfix) with ESMTP id CB1D26052471;
 Mon, 11 Mar 2024 03:29:56 -0400 (EDT)
Subject: |SUCCESS| pw138146-138147 [PATCH] [2/2] net/nfp: fix data endianness
From: dpdklab@iol.unh.edu
To: Test Report <test-report@dpdk.org>
Cc: dpdk-test-reports@iol.unh.edu
In-Reply-To: <20240311024939.2523778-3-chaoyong.he@corigine.com>
References: <20240311024939.2523778-3-chaoyong.he@corigine.com>
Content-Type: text/plain
X-BeenThere: test-report@dpdk.org
X-Mailman-Version: 2.1.29
Precedence: list
List-Id: automatic DPDK test reports <test-report.dpdk.org>
List-Unsubscribe: <https://mails.dpdk.org/options/test-report>,
 <mailto:test-report-request@dpdk.org?subject=unsubscribe>
List-Archive: <http://mails.dpdk.org/archives/test-report/>
List-Post: <mailto:test-report@dpdk.org>
List-Help: <mailto:test-report-request@dpdk.org?subject=help>
List-Subscribe: <https://mails.dpdk.org/listinfo/test-report>,
 <mailto:test-report-request@dpdk.org?subject=subscribe>
Errors-To: test-report-bounces@dpdk.org

Test-Label: iol-abi-testing
Test-Status: SUCCESS
http://dpdk.org/patch/138147

_Testing PASS_

Submitter: Chaoyong He <chaoyong.he@corigine.com>
Date: Monday, March 11 2024 02:49:39 
DPDK git baseline: Repo:dpdk
  Branch: master
  CommitID:a2a2ce171d00b8f27c8c43c37d5dd8505d8f2e89

138146-138147 --> testing pass

Test environment and result as below:

+------------------+----------+
|   Environment    | abi_test |
+==================+==========+
| Debian 12 (arm)  | PASS     |
+------------------+----------+
| CentOS Stream 9  | PASS     |
+------------------+----------+
| Debian Bullseye  | PASS     |
+------------------+----------+
| CentOS Stream 8  | PASS     |
+------------------+----------+
| RHEL8            | PASS     |
+------------------+----------+
| Fedora 37        | PASS     |
+------------------+----------+
| Fedora 38        | PASS     |
+------------------+----------+
| openSUSE Leap 15 | PASS     |
+------------------+----------+


Debian 12 (arm)
	Kernel: Container Host Kernel
	Compiler: gcc 11

CentOS Stream 9
	Kernel: 4.18.0-240.10.1.el8_3.x86_64
	Compiler: gcc 11.3.1 20220421

Debian Bullseye
	Kernel: 5.4.0-122-generic
	Compiler: gcc 10.2.1-6

CentOS Stream 8
	Kernel: 4.18.0-240.10.1.el8_3.x86_64
	Compiler: gcc 8.4.1 20200928

RHEL8
	Kernel: 4.18.0-240.10.1.el8_3.x86_64
	Compiler: gcc 8.3.1 20191121 (Red Hat 8.3.1-5)

Fedora 37
	Kernel: Depends on container host system
	Compiler: gcc 12.3.1

Fedora 38
	Kernel: Depends on container host
	Compiler: clang 16.0.3

openSUSE Leap 15
	Kernel: 4.18.0-240.10.1.el8_3.x86_64
	Compiler: gcc 7.5.0

To view detailed results, visit:
https://lab.dpdk.org/results/dashboard/patchsets/29494/

UNH-IOL DPDK Community Lab

To manage your email subscriptions, visit: 
https://lab.dpdk.org/results/dashboard/preferences/subscriptions/