From mboxrd@z Thu Jan  1 00:00:00 1970
Return-Path: <test-report-bounces@dpdk.org>
Received: from mails.dpdk.org (mails.dpdk.org [217.70.189.124])
	by inbox.dpdk.org (Postfix) with ESMTP id 7A94843C84
	for <public@inbox.dpdk.org>; Mon, 11 Mar 2024 08:47:17 +0100 (CET)
Received: from mails.dpdk.org (localhost [127.0.0.1])
	by mails.dpdk.org (Postfix) with ESMTP id 742BC402AE;
	Mon, 11 Mar 2024 08:47:17 +0100 (CET)
Received: from mail-pl1-f228.google.com (mail-pl1-f228.google.com
 [209.85.214.228])
 by mails.dpdk.org (Postfix) with ESMTP id CF3C740269
 for <test-report@dpdk.org>; Mon, 11 Mar 2024 08:47:15 +0100 (CET)
Received: by mail-pl1-f228.google.com with SMTP id
 d9443c01a7336-1dd81aee2b4so14460265ad.0
 for <test-report@dpdk.org>; Mon, 11 Mar 2024 00:47:15 -0700 (PDT)
DKIM-Signature: v=1; a=rsa-sha256; c=relaxed/relaxed;
 d=iol.unh.edu; s=unh-iol; t=1710143235; x=1710748035; darn=dpdk.org;
 h=references:in-reply-to:cc:to:from:subject:message-id:date:from:to
 :cc:subject:date:message-id:reply-to;
 bh=viEGyVAOquqVIpMhbQCGnikucIZTTOOoPXYLK+xuQrs=;
 b=Pd0tyx0NPN3m+Aw0rBsENjhy0ErayJytP0eX1pYD5RwK8BMHjfE6UKsZxlVRopNgdN
 S4TMc4pPib8SS3xIr5jmpU8m3TueH5xPwOIWjVw6eg0i6i8m4TdNtnjJCe+JBLMeBpFn
 tPH/sGC8DIZxlW51/tSTev40GxCektIXDubgQ=
X-Google-DKIM-Signature: v=1; a=rsa-sha256; c=relaxed/relaxed;
 d=1e100.net; s=20230601; t=1710143235; x=1710748035;
 h=references:in-reply-to:cc:to:from:subject:message-id:date
 :x-gm-message-state:from:to:cc:subject:date:message-id:reply-to;
 bh=viEGyVAOquqVIpMhbQCGnikucIZTTOOoPXYLK+xuQrs=;
 b=aLwGLPF/IJ5pePQD0injOFjVsngdn0jNwxncxe5DcrvaLInXLHgStr/H32cS9sj8d0
 TVFj23mpqMAmlRlMh+yaD7GFiiXxJQsPk7Wm/srJNWKgnVrm69Z1Ju91nGciHh5Hca6m
 CuJV991JI6k7eti8KjJiWLDE+Kg91F4QuLEgzgs38MZLtimoNH0m/G3CBrPlBEg00JYa
 FnXqfUNBS02jmWjzJBIaAGnG3qfAqIzoMRneEkSrQyCnPxKUzwcT63lCz0KtrMojXKKt
 cEic0yeUjaqLTiuEaCRufu/WnD7AQGlTskeo3YFv9bhS+/xO1RpEz1S1g7xe0eQZZ9aP
 3I8g==
X-Gm-Message-State: AOJu0YwVjoxBkpZc5xx8NEoaMmunsRQzPiBZTwbWbfnDpk4eqe2T7/7k
 p7hmEHcIo0Xn6DDAMcd5prsv/ROvAETOGZA3ew/063WZy/7b96S7bnXnFC3NbuTvBjSdQGpZzfv
 gXiHlTebBL7x/5woohkxRfoHjxjYEN5yFV8yI1wgI
X-Google-Smtp-Source: AGHT+IFNCPYmWeCkZg2N3wwXghUKndRYOH0pIBKAWGZ7ixo3gzYejt3yRsAVX99dRlZXXdry9RWpAli6msxe
X-Received: by 2002:a17:902:c3c6:b0:1dd:7b1d:af7f with SMTP id
 j6-20020a170902c3c600b001dd7b1daf7fmr6749888plj.58.1710143235064; 
 Mon, 11 Mar 2024 00:47:15 -0700 (PDT)
Received: from postal.iol.unh.edu (postal.iol.unh.edu. [132.177.123.84])
 by smtp-relay.gmail.com with ESMTPS id
 jy8-20020a17090342c800b001d93f276ca7sm67351plb.24.2024.03.11.00.47.14
 (version=TLS1_2 cipher=ECDHE-ECDSA-AES128-GCM-SHA256 bits=128/128);
 Mon, 11 Mar 2024 00:47:15 -0700 (PDT)
X-Relaying-Domain: iol.unh.edu
Date: Mon, 11 Mar 2024 00:47:15 -0700 (PDT)
Message-ID: <65eeb703.170a0220.77da5.4639SMTPIN_ADDED_MISSING@mx.google.com>
Received: from [172.17.0.6] (unknown [172.18.0.217])
 by postal.iol.unh.edu (Postfix) with ESMTP id 3D1F36052471;
 Mon, 11 Mar 2024 03:47:14 -0400 (EDT)
Subject: |SUCCESS| pw138146-138147 [PATCH] [2/2] net/nfp: fix data endianness
From: dpdklab@iol.unh.edu
To: Test Report <test-report@dpdk.org>
Cc: dpdk-test-reports@iol.unh.edu
In-Reply-To: <20240311024939.2523778-3-chaoyong.he@corigine.com>
References: <20240311024939.2523778-3-chaoyong.he@corigine.com>
Content-Type: text/plain
X-BeenThere: test-report@dpdk.org
X-Mailman-Version: 2.1.29
Precedence: list
List-Id: automatic DPDK test reports <test-report.dpdk.org>
List-Unsubscribe: <https://mails.dpdk.org/options/test-report>,
 <mailto:test-report-request@dpdk.org?subject=unsubscribe>
List-Archive: <http://mails.dpdk.org/archives/test-report/>
List-Post: <mailto:test-report@dpdk.org>
List-Help: <mailto:test-report-request@dpdk.org?subject=help>
List-Subscribe: <https://mails.dpdk.org/listinfo/test-report>,
 <mailto:test-report-request@dpdk.org?subject=subscribe>
Errors-To: test-report-bounces@dpdk.org

Test-Label: iol-abi-testing
Test-Status: SUCCESS
http://dpdk.org/patch/138147

_Testing PASS_

Submitter: Chaoyong He <chaoyong.he@corigine.com>
Date: Monday, March 11 2024 02:49:39 
DPDK git baseline: Repo:dpdk
  Branch: master
  CommitID:a2a2ce171d00b8f27c8c43c37d5dd8505d8f2e89

138146-138147 --> testing pass

Test environment and result as below:

+------------------+----------+
|   Environment    | abi_test |
+==================+==========+
| Debian 12 (arm)  | PASS     |
+------------------+----------+
| CentOS Stream 9  | PASS     |
+------------------+----------+
| Debian Bullseye  | PASS     |
+------------------+----------+
| CentOS Stream 8  | PASS     |
+------------------+----------+
| RHEL8            | PASS     |
+------------------+----------+
| Fedora 37        | PASS     |
+------------------+----------+
| Fedora 38        | PASS     |
+------------------+----------+
| openSUSE Leap 15 | PASS     |
+------------------+----------+
| Ubuntu 22.04     | PASS     |
+------------------+----------+


Debian 12 (arm)
	Kernel: Container Host Kernel
	Compiler: gcc 11

CentOS Stream 9
	Kernel: 4.18.0-240.10.1.el8_3.x86_64
	Compiler: gcc 11.3.1 20220421

Debian Bullseye
	Kernel: 5.4.0-122-generic
	Compiler: gcc 10.2.1-6

CentOS Stream 8
	Kernel: 4.18.0-240.10.1.el8_3.x86_64
	Compiler: gcc 8.4.1 20200928

RHEL8
	Kernel: 4.18.0-240.10.1.el8_3.x86_64
	Compiler: gcc 8.3.1 20191121 (Red Hat 8.3.1-5)

Fedora 37
	Kernel: Depends on container host system
	Compiler: gcc 12.3.1

Fedora 38
	Kernel: Depends on container host
	Compiler: clang 16.0.3

openSUSE Leap 15
	Kernel: 4.18.0-240.10.1.el8_3.x86_64
	Compiler: gcc 7.5.0

Ubuntu 22.04
	Kernel: 4.18.0-240.10.1.el8_3.x86_64
	Compiler: gcc 11.3.0

To view detailed results, visit:
https://lab.dpdk.org/results/dashboard/patchsets/29494/

UNH-IOL DPDK Community Lab

To manage your email subscriptions, visit: 
https://lab.dpdk.org/results/dashboard/preferences/subscriptions/