From mboxrd@z Thu Jan  1 00:00:00 1970
Return-Path: <test-report-bounces@dpdk.org>
Received: from mails.dpdk.org (mails.dpdk.org [217.70.189.124])
	by inbox.dpdk.org (Postfix) with ESMTP id B616543C84
	for <public@inbox.dpdk.org>; Mon, 11 Mar 2024 09:06:46 +0100 (CET)
Received: from mails.dpdk.org (localhost [127.0.0.1])
	by mails.dpdk.org (Postfix) with ESMTP id B1005402AE;
	Mon, 11 Mar 2024 09:06:46 +0100 (CET)
Received: from mail-pf1-f228.google.com (mail-pf1-f228.google.com
 [209.85.210.228])
 by mails.dpdk.org (Postfix) with ESMTP id 125F340269
 for <test-report@dpdk.org>; Mon, 11 Mar 2024 09:06:46 +0100 (CET)
Received: by mail-pf1-f228.google.com with SMTP id
 d2e1a72fcca58-6e56787e691so3337054b3a.0
 for <test-report@dpdk.org>; Mon, 11 Mar 2024 01:06:46 -0700 (PDT)
DKIM-Signature: v=1; a=rsa-sha256; c=relaxed/relaxed;
 d=iol.unh.edu; s=unh-iol; t=1710144405; x=1710749205; darn=dpdk.org;
 h=references:in-reply-to:cc:to:from:subject:message-id:date:from:to
 :cc:subject:date:message-id:reply-to;
 bh=zwvQ/vW8TSAzBBc05V9xPXXQnLmBGA0UY8JXfWpV+lw=;
 b=MWnoByyaFOkUckXIFeTYazWoPryzaYn+iu1k8guAJRJkiaL6xarKhG0uNqcsjbQMr9
 smpLXYC8LpbtWflfWwwV9m+gS+HeZC7RiIeT7FWXjkw27E2cZ7WIaI/jLhFrVqH9A8nZ
 3vA/fFvJVO6iarfGhHr1SaquJv1vczhtaOcsU=
X-Google-DKIM-Signature: v=1; a=rsa-sha256; c=relaxed/relaxed;
 d=1e100.net; s=20230601; t=1710144405; x=1710749205;
 h=references:in-reply-to:cc:to:from:subject:message-id:date
 :x-gm-message-state:from:to:cc:subject:date:message-id:reply-to;
 bh=zwvQ/vW8TSAzBBc05V9xPXXQnLmBGA0UY8JXfWpV+lw=;
 b=xGeKmZ1KI3foQBnmoKiHziGlRgFKKc/HctEB7JoErJ/mjx/ggLwPd22+ZAUkABAxZz
 mdvRQYVOZrmmFKusf76XPhsO0HJk5Wih4a6xmZu/tKw1wDqIWizX/cCNQD2KyUGIJ1WJ
 nLAswWGDF5gRyIcfLmXH1FBce2XeYvupYX6xbEM2YcRLmJS4BlsdYHRGMq1xWcQ0pszh
 No6LviuE82VHVBRS9fAmLXG1BiTNae3srC7Oy7zGjhfrMWiZkrdSHAYjBvdoteem8peJ
 YL+trPYC0lK2CbbbZ/tNVQ08Qbc12cD86zzpjQC9JvVsKroGBHc0JoSJ7GrXQ+gmdruA
 +Yvg==
X-Gm-Message-State: AOJu0Ywn7vemQpTVfdbn0NIHqSF9pqOC12q/jZ3o0xz2qprUngFBWfWi
 Kc17iRnZwgfkK5h6GdJYxyv58XD+ArE2e3AKDG9Zrn9wddrR70IaftV6CWst1MfBv3hKD+qUmhu
 ukNnvkpenC7c76YA9HLxgmzen615vEPyluYj9DhtV24GjOLlywEJON1cH
X-Google-Smtp-Source: AGHT+IGWJfz+ICY8seXdNpIh+JpmBXgCdj10q8m/cdTLEQ/4ElJJ60EE0bpuxDN1xkev0Pgv1hvyhYqe1tzT
X-Received: by 2002:a17:903:230b:b0:1dd:8d25:f8a0 with SMTP id
 d11-20020a170903230b00b001dd8d25f8a0mr5633027plh.24.1710144405185; 
 Mon, 11 Mar 2024 01:06:45 -0700 (PDT)
Received: from postal.iol.unh.edu (postal.iol.unh.edu.
 [2606:4100:3880:1234::84]) by smtp-relay.gmail.com with ESMTPS id
 jw19-20020a170903279300b001dd66720013sm60809plb.136.2024.03.11.01.06.45
 (version=TLS1_2 cipher=ECDHE-ECDSA-AES128-GCM-SHA256 bits=128/128);
 Mon, 11 Mar 2024 01:06:45 -0700 (PDT)
X-Relaying-Domain: iol.unh.edu
Date: Mon, 11 Mar 2024 01:06:45 -0700 (PDT)
Message-ID: <65eebb95.170a0220.57e46.465fSMTPIN_ADDED_MISSING@mx.google.com>
Received: from [172.17.0.8] (unknown [172.18.0.217])
 by postal.iol.unh.edu (Postfix) with ESMTP id 60F826052471;
 Mon, 11 Mar 2024 04:06:44 -0400 (EDT)
Subject: |SUCCESS| pw138146-138147 [PATCH] [2/2] net/nfp: fix data endianness
From: dpdklab@iol.unh.edu
To: Test Report <test-report@dpdk.org>
Cc: dpdk-test-reports@iol.unh.edu
In-Reply-To: <20240311024939.2523778-3-chaoyong.he@corigine.com>
References: <20240311024939.2523778-3-chaoyong.he@corigine.com>
Content-Type: text/plain
X-BeenThere: test-report@dpdk.org
X-Mailman-Version: 2.1.29
Precedence: list
List-Id: automatic DPDK test reports <test-report.dpdk.org>
List-Unsubscribe: <https://mails.dpdk.org/options/test-report>,
 <mailto:test-report-request@dpdk.org?subject=unsubscribe>
List-Archive: <http://mails.dpdk.org/archives/test-report/>
List-Post: <mailto:test-report@dpdk.org>
List-Help: <mailto:test-report-request@dpdk.org?subject=help>
List-Subscribe: <https://mails.dpdk.org/listinfo/test-report>,
 <mailto:test-report-request@dpdk.org?subject=subscribe>
Errors-To: test-report-bounces@dpdk.org

Test-Label: iol-unit-arm64-testing
Test-Status: SUCCESS
http://dpdk.org/patch/138147

_Testing PASS_

Submitter: Chaoyong He <chaoyong.he@corigine.com>
Date: Monday, March 11 2024 02:49:39 
DPDK git baseline: Repo:dpdk
  Branch: master
  CommitID:a2a2ce171d00b8f27c8c43c37d5dd8505d8f2e89

138146-138147 --> testing pass

Test environment and result as below:

+--------------------------+----------------+------------------------------+---------------------------+
|       Environment        | dpdk_unit_test | cryptodev_sw_snow3g_autotest | cryptodev_sw_zuc_autotest |
+==========================+================+==============================+===========================+
| Debian 12 (arm)          | PASS           | PASS                         | PASS                      |
+--------------------------+----------------+------------------------------+---------------------------+
| Debian 11 (Buster) (ARM) | PASS           | SKIPPED                      | SKIPPED                   |
+--------------------------+----------------+------------------------------+---------------------------+
| CentOS Stream 9 (ARM)    | PASS           | SKIPPED                      | SKIPPED                   |
+--------------------------+----------------+------------------------------+---------------------------+
| Fedora 38 (ARM)          | PASS           | SKIPPED                      | SKIPPED                   |
+--------------------------+----------------+------------------------------+---------------------------+
| Fedora 37 (ARM)          | PASS           | SKIPPED                      | SKIPPED                   |
+--------------------------+----------------+------------------------------+---------------------------+
| Ubuntu 20.04 (ARM)       | PASS           | SKIPPED                      | SKIPPED                   |
+--------------------------+----------------+------------------------------+---------------------------+
| Fedora 38 (ARM Clang)    | PASS           | SKIPPED                      | SKIPPED                   |
+--------------------------+----------------+------------------------------+---------------------------+


Debian 12 (arm)
	Kernel: Container Host Kernel
	Compiler: gcc 11

Debian 11 (Buster) (ARM)
	Kernel: Container Host Kernel
	Compiler: gcc 10.2.1

CentOS Stream 9 (ARM)
	Kernel: Container Host Kernel
	Compiler: gcc 11.3.1

Fedora 38 (ARM)
	Kernel: Depends on container host
	Compiler: gcc 13.1.1

Fedora 37 (ARM)
	Kernel: Depends on container host
	Compiler: gcc 12.3.1

Ubuntu 20.04 (ARM)
	Kernel: Container Host Kernel
	Compiler: gcc 9.4.0

Fedora 38 (ARM Clang)
	Kernel: Depends on container host
	Compiler: clang 16.0.3

To view detailed results, visit:
https://lab.dpdk.org/results/dashboard/patchsets/29494/

UNH-IOL DPDK Community Lab

To manage your email subscriptions, visit: 
https://lab.dpdk.org/results/dashboard/preferences/subscriptions/