From mboxrd@z Thu Jan  1 00:00:00 1970
Return-Path: <test-report-bounces@dpdk.org>
Received: from mails.dpdk.org (mails.dpdk.org [217.70.189.124])
	by inbox.dpdk.org (Postfix) with ESMTP id DF4B543C84
	for <public@inbox.dpdk.org>; Mon, 11 Mar 2024 09:07:07 +0100 (CET)
Received: from mails.dpdk.org (localhost [127.0.0.1])
	by mails.dpdk.org (Postfix) with ESMTP id D6EF2402AE;
	Mon, 11 Mar 2024 09:07:07 +0100 (CET)
Received: from mail-vs1-f99.google.com (mail-vs1-f99.google.com
 [209.85.217.99]) by mails.dpdk.org (Postfix) with ESMTP id BEC2340269
 for <test-report@dpdk.org>; Mon, 11 Mar 2024 09:07:05 +0100 (CET)
Received: by mail-vs1-f99.google.com with SMTP id
 ada2fe7eead31-4731e483ab9so213039137.3
 for <test-report@dpdk.org>; Mon, 11 Mar 2024 01:07:05 -0700 (PDT)
DKIM-Signature: v=1; a=rsa-sha256; c=relaxed/relaxed;
 d=iol.unh.edu; s=unh-iol; t=1710144425; x=1710749225; darn=dpdk.org;
 h=references:in-reply-to:cc:to:from:subject:message-id:date:from:to
 :cc:subject:date:message-id:reply-to;
 bh=0sj8N797YgAbYits/sCM15nPBPdewGuCTtrTtBCOUH0=;
 b=K2I5mqV6KvgZaZbjVqINBdcdPvgRPKxrYTUOmR0ZP6FxrKrKEdb2SQROzjv0xIzFeW
 V7YJ1KM3mq+yKM6XEomqWjleb9Q6bqLBfHcuLw8qxW8t1JKh5ymCJfr+OeSKxngx+hnU
 1aDyTzp3QM02C+GSO9aM73QcS0tET/gdPrmno=
X-Google-DKIM-Signature: v=1; a=rsa-sha256; c=relaxed/relaxed;
 d=1e100.net; s=20230601; t=1710144425; x=1710749225;
 h=references:in-reply-to:cc:to:from:subject:message-id:date
 :x-gm-message-state:from:to:cc:subject:date:message-id:reply-to;
 bh=0sj8N797YgAbYits/sCM15nPBPdewGuCTtrTtBCOUH0=;
 b=bcLv+em8sr9LHaJub+Qsh564PBlA9PdPWjpWfdzkusfVp1zCnsnP39TiauGRZLZZU1
 jDgyOsFrfi80v3cmPUhXBuXGZ0JvHyMEPclzp30oPjhanQgton1m71Jz5C4kyahm4oJS
 LfSlR/kxkGdjkJhWf93Fly+ZwziWHf41TKMycKhjjdRJiMWvH60zGQc+ktR9kp+1uhfs
 6cl2Hv/ZdxeZpL5W60mP9Xgj6YnBc8FsQmXPmjdJwP9tYJpl46L8Vl0YSrJDPEqf+3xU
 5/zzfQUhMse3kiWNvsP9Ny6MO9tKkH9Kyn3IKYbtrtMDDL6GWpZELMR30CFNiq3klztZ
 iVkA==
X-Gm-Message-State: AOJu0YwfIKSBEvcvmt5NWTWCReEJcbKooHS8oIffElqL1TWgo9wM5UU5
 0PAm75AwZdg31VoxKIv8xRdRVVAX3sXnYGV2lqVp0+wLsWLSYKc0g+obVJDil7vBl6J942+igc9
 kgQUT7iDp8aL+VbJfEUTpVWHUnv1roAG6qjIlqsQJ
X-Google-Smtp-Source: AGHT+IE1eOqxdOx0xdG/velHPpCApY7smPIYqri+/W4y++aZ+7eRtuyy5aF6NCC6drf0Y+I11YaPesitNRLZ
X-Received: by 2002:a67:c495:0:b0:473:1937:910d with SMTP id
 d21-20020a67c495000000b004731937910dmr2905977vsk.8.1710144425120; 
 Mon, 11 Mar 2024 01:07:05 -0700 (PDT)
Received: from postal.iol.unh.edu (postal.iol.unh.edu. [132.177.123.84])
 by smtp-relay.gmail.com with ESMTPS id
 o11-20020ab0544b000000b007db5e772bb9sm325496uaa.6.2024.03.11.01.07.05
 (version=TLS1_2 cipher=ECDHE-ECDSA-AES128-GCM-SHA256 bits=128/128);
 Mon, 11 Mar 2024 01:07:05 -0700 (PDT)
X-Relaying-Domain: iol.unh.edu
Date: Mon, 11 Mar 2024 01:07:05 -0700 (PDT)
Message-ID: <65eebba9.b00a0220.27f8e.4b93SMTPIN_ADDED_MISSING@mx.google.com>
Received: from [172.21.0.6] (unknown [172.18.0.240])
 by postal.iol.unh.edu (Postfix) with ESMTP id B25106052471;
 Mon, 11 Mar 2024 04:07:04 -0400 (EDT)
Subject: |SUCCESS| pw138146-138147 [PATCH] [2/2] net/nfp: fix data endianness
From: dpdklab@iol.unh.edu
To: Test Report <test-report@dpdk.org>
Cc: dpdk-test-reports@iol.unh.edu
In-Reply-To: <20240311024939.2523778-3-chaoyong.he@corigine.com>
References: <20240311024939.2523778-3-chaoyong.he@corigine.com>
Content-Type: text/plain
X-BeenThere: test-report@dpdk.org
X-Mailman-Version: 2.1.29
Precedence: list
List-Id: automatic DPDK test reports <test-report.dpdk.org>
List-Unsubscribe: <https://mails.dpdk.org/options/test-report>,
 <mailto:test-report-request@dpdk.org?subject=unsubscribe>
List-Archive: <http://mails.dpdk.org/archives/test-report/>
List-Post: <mailto:test-report@dpdk.org>
List-Help: <mailto:test-report-request@dpdk.org?subject=help>
List-Subscribe: <https://mails.dpdk.org/listinfo/test-report>,
 <mailto:test-report-request@dpdk.org?subject=subscribe>
Errors-To: test-report-bounces@dpdk.org

Test-Label: iol-unit-amd64-testing
Test-Status: SUCCESS
http://dpdk.org/patch/138147

_Testing PASS_

Submitter: Chaoyong He <chaoyong.he@corigine.com>
Date: Monday, March 11 2024 02:49:39 
DPDK git baseline: Repo:dpdk
  Branch: master
  CommitID:a2a2ce171d00b8f27c8c43c37d5dd8505d8f2e89

138146-138147 --> testing pass

Test environment and result as below:

+---------------------+----------------+
|     Environment     | dpdk_unit_test |
+=====================+================+
| Windows Server 2019 | PASS           |
+---------------------+----------------+
| CentOS Stream 8     | PASS           |
+---------------------+----------------+
| CentOS Stream 9     | PASS           |
+---------------------+----------------+
| Debian Bullseye     | PASS           |
+---------------------+----------------+
| Fedora 38           | PASS           |
+---------------------+----------------+
| Debian 12 (arm)     | PASS           |
+---------------------+----------------+
| openSUSE Leap 15    | PASS           |
+---------------------+----------------+
| RHEL8               | PASS           |
+---------------------+----------------+
| Ubuntu 22.04        | PASS           |
+---------------------+----------------+
| Ubuntu 20.04        | PASS           |
+---------------------+----------------+
| Fedora 37           | PASS           |
+---------------------+----------------+


Windows Server 2019
	Kernel: 10.0
	Compiler: clang 14.0 and gcc 8.1.0 (MinGW)

CentOS Stream 8
	Kernel: 4.18.0-240.10.1.el8_3.x86_64
	Compiler: gcc 8.4.1 20200928

CentOS Stream 9
	Kernel: 4.18.0-240.10.1.el8_3.x86_64
	Compiler: gcc 11.3.1 20220421

Debian Bullseye
	Kernel: 5.4.0-122-generic
	Compiler: gcc 10.2.1-6

Fedora 38
	Kernel: Depends on container host
	Compiler: gcc 13.1.1

Debian 12 (arm)
	Kernel: Container Host Kernel
	Compiler: gcc 11

openSUSE Leap 15
	Kernel: 4.18.0-240.10.1.el8_3.x86_64
	Compiler: gcc 7.5.0

RHEL8
	Kernel: 4.18.0-240.10.1.el8_3.x86_64
	Compiler: gcc 8.3.1 20191121 (Red Hat 8.3.1-5)

Ubuntu 22.04
	Kernel: 4.18.0-240.10.1.el8_3.x86_64
	Compiler: gcc 11.3.0

Ubuntu 20.04
	Kernel: 5.4.0-153-generic
	Compiler: gcc 9.4.0-1ubuntu1~20.04.1

Fedora 37
	Kernel: Depends on container host system
	Compiler: gcc 12.3.1

To view detailed results, visit:
https://lab.dpdk.org/results/dashboard/patchsets/29494/

UNH-IOL DPDK Community Lab

To manage your email subscriptions, visit: 
https://lab.dpdk.org/results/dashboard/preferences/subscriptions/