From mboxrd@z Thu Jan  1 00:00:00 1970
Return-Path: <test-report-bounces@dpdk.org>
Received: from mails.dpdk.org (mails.dpdk.org [217.70.189.124])
	by inbox.dpdk.org (Postfix) with ESMTP id 070C143C84
	for <public@inbox.dpdk.org>; Mon, 11 Mar 2024 09:07:26 +0100 (CET)
Received: from mails.dpdk.org (localhost [127.0.0.1])
	by mails.dpdk.org (Postfix) with ESMTP id 02AF1402AE;
	Mon, 11 Mar 2024 09:07:26 +0100 (CET)
Received: from mail-yw1-f225.google.com (mail-yw1-f225.google.com
 [209.85.128.225])
 by mails.dpdk.org (Postfix) with ESMTP id EFBAF40269
 for <test-report@dpdk.org>; Mon, 11 Mar 2024 09:07:23 +0100 (CET)
Received: by mail-yw1-f225.google.com with SMTP id
 00721157ae682-609f24f447cso30498737b3.2
 for <test-report@dpdk.org>; Mon, 11 Mar 2024 01:07:23 -0700 (PDT)
DKIM-Signature: v=1; a=rsa-sha256; c=relaxed/relaxed;
 d=iol.unh.edu; s=unh-iol; t=1710144443; x=1710749243; darn=dpdk.org;
 h=references:in-reply-to:cc:to:from:subject:message-id:date:from:to
 :cc:subject:date:message-id:reply-to;
 bh=ZzpupkdwYM3KsfqdKX6Z9P/QKxmaYaJ5Px5zGe0JRvw=;
 b=GEUz29vYIigShetUgNMU/GToO1tZ0GXaIaMnlOXWjPR6mQxp3Ho55TQOdCAPUbiGWh
 5iS/8nEZ8hpsiwAytQeHLzg9ZBpNigszmxGYl4Ci7Zv9Xl7ZBsiK1an4kkwaeDYaVnQR
 rgQCPLa0htnq+Y64RFCtTeyPuxxzvVVBP7Mxs=
X-Google-DKIM-Signature: v=1; a=rsa-sha256; c=relaxed/relaxed;
 d=1e100.net; s=20230601; t=1710144443; x=1710749243;
 h=references:in-reply-to:cc:to:from:subject:message-id:date
 :x-gm-message-state:from:to:cc:subject:date:message-id:reply-to;
 bh=ZzpupkdwYM3KsfqdKX6Z9P/QKxmaYaJ5Px5zGe0JRvw=;
 b=pC+1WSm5MQ09JLWWG85k9Jt++n2QCep/vNhY6Jhb+8UHST6M3vIV61tb5EULskmGF9
 M6BH3L1zpKIJU6YBBc9pknfeHAdl7IFkhXQBZDDYl+qnKl97YZbA3BLc+qfd+/osioaW
 urjeAl+XA/7+EzvUqKPJLSMt93nK8yFAGzWZPzDEI5mgrbe/houzge9KlNJ0GZSgxUce
 DJdSBrNmmwpNJJeqSmDEUEbsU1AJlDDMP2b2yQ7DCK9crH7vPQMbkPGFU6XmPlN7+dc9
 LUnlgiJOEWNzbktsFIUKG+Buy1U+IKvogclqzKywO4TPglW/E2iPHVsD09RBB6SCS0w9
 P5Ig==
X-Gm-Message-State: AOJu0YyhuwhEVg44gPfbsUJoKNACGuDtDfpC6ypr9kJRUyAt6Nuc884/
 ARI5DVSVognsBNx0EZc+zIh94Bb3vk2s2V9cri5Oxs7GaEnjFkvpuBBczE+00cGHkG57TJDuYrj
 MX1uc5b6O8xGMsRNqnbCXDYy8w0tL+mIlTZtwCHwzCHpmOm+RJDm8rlVh
X-Google-Smtp-Source: AGHT+IHoaJzI1NkWAbUfjdVr68k9edys3ww3yOUDu+f4zV/u9UUiVG3KJfVEwAmuTDLdDLsPGYzZwwFVbQY0
X-Received: by 2002:a81:84ce:0:b0:60a:747:3bfe with SMTP id
 u197-20020a8184ce000000b0060a07473bfemr5617201ywf.8.1710144443453; 
 Mon, 11 Mar 2024 01:07:23 -0700 (PDT)
Received: from postal.iol.unh.edu (postal.iol.unh.edu.
 [2606:4100:3880:1234::84]) by smtp-relay.gmail.com with ESMTPS id
 y78-20020a81a151000000b0060965c6c7bfsm251986ywg.31.2024.03.11.01.07.23
 (version=TLS1_2 cipher=ECDHE-ECDSA-AES128-GCM-SHA256 bits=128/128);
 Mon, 11 Mar 2024 01:07:23 -0700 (PDT)
X-Relaying-Domain: iol.unh.edu
Date: Mon, 11 Mar 2024 01:07:23 -0700 (PDT)
Message-ID: <65eebbbb.810a0220.dc2e3.1c07SMTPIN_ADDED_MISSING@mx.google.com>
Received: from [172.17.0.8] (unknown [172.18.0.217])
 by postal.iol.unh.edu (Postfix) with ESMTP id 1F3FC6052471;
 Mon, 11 Mar 2024 04:07:23 -0400 (EDT)
Subject: |SUCCESS| pw138146-138147 [PATCH] [2/2] net/nfp: fix data endianness
From: dpdklab@iol.unh.edu
To: Test Report <test-report@dpdk.org>
Cc: dpdk-test-reports@iol.unh.edu
In-Reply-To: <20240311024939.2523778-3-chaoyong.he@corigine.com>
References: <20240311024939.2523778-3-chaoyong.he@corigine.com>
Content-Type: text/plain
X-BeenThere: test-report@dpdk.org
X-Mailman-Version: 2.1.29
Precedence: list
List-Id: automatic DPDK test reports <test-report.dpdk.org>
List-Unsubscribe: <https://mails.dpdk.org/options/test-report>,
 <mailto:test-report-request@dpdk.org?subject=unsubscribe>
List-Archive: <http://mails.dpdk.org/archives/test-report/>
List-Post: <mailto:test-report@dpdk.org>
List-Help: <mailto:test-report-request@dpdk.org?subject=help>
List-Subscribe: <https://mails.dpdk.org/listinfo/test-report>,
 <mailto:test-report-request@dpdk.org?subject=subscribe>
Errors-To: test-report-bounces@dpdk.org

Test-Label: iol-compile-arm64-testing
Test-Status: SUCCESS
http://dpdk.org/patch/138147

_Testing PASS_

Submitter: Chaoyong He <chaoyong.he@corigine.com>
Date: Monday, March 11 2024 02:49:39 
DPDK git baseline: Repo:dpdk
  Branch: master
  CommitID:a2a2ce171d00b8f27c8c43c37d5dd8505d8f2e89

138146-138147 --> testing pass

Test environment and result as below:

+----------------------------------------+--------------------+
|              Environment               | dpdk_meson_compile |
+========================================+====================+
| Debian 12 with MUSDK                   | PASS               |
+----------------------------------------+--------------------+
| Ubuntu 20.04 ARM SVE                   | PASS               |
+----------------------------------------+--------------------+
| Ubuntu 20.04 (ARM)                     | PASS               |
+----------------------------------------+--------------------+
| Fedora 38 (ARM)                        | PASS               |
+----------------------------------------+--------------------+
| Fedora 37 (ARM)                        | PASS               |
+----------------------------------------+--------------------+
| Debian 12 (arm)                        | PASS               |
+----------------------------------------+--------------------+
| Debian 11 (Buster) (ARM)               | PASS               |
+----------------------------------------+--------------------+
| CentOS Stream 9 (ARM)                  | PASS               |
+----------------------------------------+--------------------+
| Ubuntu 20.04 ARM GCC Cross Compile     | PASS               |
+----------------------------------------+--------------------+
| Ubuntu 20.04 ARM Clang Cross Compile   | PASS               |
+----------------------------------------+--------------------+
| Ubuntu 20.04 aarch32 GCC Cross Compile | PASS               |
+----------------------------------------+--------------------+


Debian 12 with MUSDK
	Kernel: Container Host Kernel
	Compiler: gcc 12

Ubuntu 20.04 ARM SVE
	Kernel: 5.4.0-80-generic
	Compiler: gcc 10.3.0 (Ubuntu 10.3.0-1ubuntu1~20.04)

Ubuntu 20.04 (ARM)
	Kernel: Container Host Kernel
	Compiler: gcc 9.4.0

Fedora 38 (ARM)
	Kernel: Depends on container host
	Compiler: gcc 13.1.1

Fedora 37 (ARM)
	Kernel: Depends on container host
	Compiler: gcc 12.3.1

Debian 12 (arm)
	Kernel: Container Host Kernel
	Compiler: gcc 11

Debian 11 (Buster) (ARM)
	Kernel: Container Host Kernel
	Compiler: gcc 10.2.1

CentOS Stream 9 (ARM)
	Kernel: Container Host Kernel
	Compiler: gcc 11.3.1

Ubuntu 20.04 ARM GCC Cross Compile
	Kernel: 5.4.0-72-generic
	Compiler: aarch64-linux-gnu-gcc (Ubuntu 9.3.0-17ubuntu1~20.04) 9.3.0

Ubuntu 20.04 ARM Clang Cross Compile
	Kernel: 5.4.0-72-generic
	Compiler: clang version 10.0.0-4ubuntu1

Ubuntu 20.04 aarch32 GCC Cross Compile
	Kernel: 5.4.0-72-generic
	Compiler: gcc 9.3.0

To view detailed results, visit:
https://lab.dpdk.org/results/dashboard/patchsets/29494/

UNH-IOL DPDK Community Lab

To manage your email subscriptions, visit: 
https://lab.dpdk.org/results/dashboard/preferences/subscriptions/