From mboxrd@z Thu Jan  1 00:00:00 1970
Return-Path: <test-report-bounces@dpdk.org>
Received: from mails.dpdk.org (mails.dpdk.org [217.70.189.124])
	by inbox.dpdk.org (Postfix) with ESMTP id 20EC043C84
	for <public@inbox.dpdk.org>; Mon, 11 Mar 2024 09:18:30 +0100 (CET)
Received: from mails.dpdk.org (localhost [127.0.0.1])
	by mails.dpdk.org (Postfix) with ESMTP id 1BF1B402D8;
	Mon, 11 Mar 2024 09:18:30 +0100 (CET)
Received: from mail-pj1-f100.google.com (mail-pj1-f100.google.com
 [209.85.216.100])
 by mails.dpdk.org (Postfix) with ESMTP id 5F9FE402AE
 for <test-report@dpdk.org>; Mon, 11 Mar 2024 09:18:28 +0100 (CET)
Received: by mail-pj1-f100.google.com with SMTP id
 98e67ed59e1d1-29bb5bec0e4so1770834a91.1
 for <test-report@dpdk.org>; Mon, 11 Mar 2024 01:18:28 -0700 (PDT)
DKIM-Signature: v=1; a=rsa-sha256; c=relaxed/relaxed;
 d=iol.unh.edu; s=unh-iol; t=1710145107; x=1710749907; darn=dpdk.org;
 h=references:in-reply-to:cc:to:from:subject:message-id:date:from:to
 :cc:subject:date:message-id:reply-to;
 bh=DudEzKoDxAhXLcDwKu26MYzjWV1kVROvWF1sdyLh8jw=;
 b=SgcxauQjsKVwCx2yF/nv94YZ3VyC9xBS3ej2AC+70owqb1AK3gz8BnZ5uSICkWdP8l
 HxaJ+6aFCvDmErGdWQyJWFpFTEZ6ENkjOoIGN5OJARynLMWl5yy1Msr6Luf4GCmzlVH+
 SNK1QkIgNb7Npy8vGsUFColg46b2+98xTxa9Q=
X-Google-DKIM-Signature: v=1; a=rsa-sha256; c=relaxed/relaxed;
 d=1e100.net; s=20230601; t=1710145107; x=1710749907;
 h=references:in-reply-to:cc:to:from:subject:message-id:date
 :x-gm-message-state:from:to:cc:subject:date:message-id:reply-to;
 bh=DudEzKoDxAhXLcDwKu26MYzjWV1kVROvWF1sdyLh8jw=;
 b=BtHEdgJIhKPwISTOvEZqrTN2jDZXHm2ph/43Cl+1dht93MJkqLKbW+lZccMI8IUkRc
 xi+y2TKK1sqR6L+ox7d4RUgMWPI6Wu4fjwDuCkcyU+oWfDSGzGZ+jOQb8PrDAo6XK8Fm
 nK+Ue0pCqBgHhu7x14bPiNsZf5WcDU6QPx13Ucv/UhfA/hWo0PjCIBIFY5MrkLxaW0o7
 U3oYvNJu9+saUC+jW2mRR5WVt4GSBJuaHM5tzSjsVO1UZTOKC5vpegvXTkapowl6RqUd
 EMSdGrCdLwoi8obHSyFRIwz4zkfile/qyFEjlhLoOJgtMAM9ukYWVgQXBznZKXFpvH16
 s88g==
X-Gm-Message-State: AOJu0YwsOumWC254/OUFjUa4NZFVtoGPsN6qCp2FdMqSgYSv1dH8lpk/
 xuEwLLDZjB6AP4XMDwWCZ4ax3zUVcEasHDI06ri0nTUM+JAcf0wLhsrApwALDesB3tEqKlIhCpr
 voR3AFGjC2/MgO8z6MThos35eiopP3RCwKbn5xJREMmXN7EV8xFhyvq7C
X-Google-Smtp-Source: AGHT+IHvF9/0kVP44n1wwIEa0YpHnwMkVjvg0nDFznq3GRRaoOtm4d9BE1NHlzrm3DggIHC8rptWrV0OFOa4
X-Received: by 2002:a17:90a:1f86:b0:29b:bd37:34f2 with SMTP id
 x6-20020a17090a1f8600b0029bbd3734f2mr3784455pja.14.1710145107572; 
 Mon, 11 Mar 2024 01:18:27 -0700 (PDT)
Received: from postal.iol.unh.edu (postal.iol.unh.edu.
 [2606:4100:3880:1234::84]) by smtp-relay.gmail.com with ESMTPS id
 a1-20020a17090a8c0100b0029b61786c0esm217958pjo.9.2024.03.11.01.18.27
 (version=TLS1_2 cipher=ECDHE-ECDSA-AES128-GCM-SHA256 bits=128/128);
 Mon, 11 Mar 2024 01:18:27 -0700 (PDT)
X-Relaying-Domain: iol.unh.edu
Date: Mon, 11 Mar 2024 01:18:27 -0700 (PDT)
Message-ID: <65eebe53.170a0220.56310.f14bSMTPIN_ADDED_MISSING@mx.google.com>
Received: from [172.17.0.7] (unknown [172.18.0.217])
 by postal.iol.unh.edu (Postfix) with ESMTP id C1D7B6052471;
 Mon, 11 Mar 2024 04:18:26 -0400 (EDT)
Subject: |SUCCESS| pw138146-138147 [PATCH] [2/2] net/nfp: fix data endianness
From: dpdklab@iol.unh.edu
To: Test Report <test-report@dpdk.org>
Cc: dpdk-test-reports@iol.unh.edu
In-Reply-To: <20240311024939.2523778-3-chaoyong.he@corigine.com>
References: <20240311024939.2523778-3-chaoyong.he@corigine.com>
Content-Type: text/plain
X-BeenThere: test-report@dpdk.org
X-Mailman-Version: 2.1.29
Precedence: list
List-Id: automatic DPDK test reports <test-report.dpdk.org>
List-Unsubscribe: <https://mails.dpdk.org/options/test-report>,
 <mailto:test-report-request@dpdk.org?subject=unsubscribe>
List-Archive: <http://mails.dpdk.org/archives/test-report/>
List-Post: <mailto:test-report@dpdk.org>
List-Help: <mailto:test-report-request@dpdk.org?subject=help>
List-Subscribe: <https://mails.dpdk.org/listinfo/test-report>,
 <mailto:test-report-request@dpdk.org?subject=subscribe>
Errors-To: test-report-bounces@dpdk.org

Test-Label: iol-compile-amd64-testing
Test-Status: SUCCESS
http://dpdk.org/patch/138147

_Testing PASS_

Submitter: Chaoyong He <chaoyong.he@corigine.com>
Date: Monday, March 11 2024 02:49:39 
DPDK git baseline: Repo:dpdk
  Branch: master
  CommitID:a2a2ce171d00b8f27c8c43c37d5dd8505d8f2e89

138146-138147 --> testing pass

Test environment and result as below:

+---------------------+--------------------+----------------------+
|     Environment     | dpdk_meson_compile | dpdk_mingw64_compile |
+=====================+====================+======================+
| Windows Server 2022 | PASS               | SKIPPED              |
+---------------------+--------------------+----------------------+
| CentOS Stream 8     | PASS               | SKIPPED              |
+---------------------+--------------------+----------------------+
| FreeBSD 13.2        | PASS               | SKIPPED              |
+---------------------+--------------------+----------------------+
| Ubuntu 22.04        | PASS               | SKIPPED              |
+---------------------+--------------------+----------------------+
| Fedora 37           | PASS               | SKIPPED              |
+---------------------+--------------------+----------------------+
| Windows Server 2019 | PASS               | PASS                 |
+---------------------+--------------------+----------------------+
| Ubuntu 20.04        | PASS               | SKIPPED              |
+---------------------+--------------------+----------------------+
| Debian 12 (arm)     | PASS               | SKIPPED              |
+---------------------+--------------------+----------------------+
| Fedora 38           | PASS               | SKIPPED              |
+---------------------+--------------------+----------------------+
| RHEL8               | PASS               | SKIPPED              |
+---------------------+--------------------+----------------------+
| openSUSE Leap 15    | PASS               | SKIPPED              |
+---------------------+--------------------+----------------------+
| CentOS Stream 9     | PASS               | SKIPPED              |
+---------------------+--------------------+----------------------+
| Debian Bullseye     | PASS               | SKIPPED              |
+---------------------+--------------------+----------------------+
| Alpine              | PASS               | SKIPPED              |
+---------------------+--------------------+----------------------+


Windows Server 2022
	Kernel: OS Build 20348.2031
	Compiler: MSVC VS-Preview

CentOS Stream 8
	Kernel: 4.18.0-240.10.1.el8_3.x86_64
	Compiler: gcc 8.4.1 20200928

FreeBSD 13.2
	Kernel: 13.2
	Compiler: clang 11.3.0

Ubuntu 22.04
	Kernel: 4.18.0-240.10.1.el8_3.x86_64
	Compiler: gcc 11.3.0

Fedora 37
	Kernel: Depends on container host system
	Compiler: gcc 12.3.1

Windows Server 2019
	Kernel: 10.0
	Compiler: clang 14.0 and gcc 8.1.0 (MinGW)

Ubuntu 20.04
	Kernel: 5.4.0-153-generic
	Compiler: gcc 9.4.0-1ubuntu1~20.04.1

Debian 12 (arm)
	Kernel: Container Host Kernel
	Compiler: gcc 11

Fedora 38
	Kernel: Depends on container host
	Compiler: gcc 13.1.1

RHEL8
	Kernel: 4.18.0-240.10.1.el8_3.x86_64
	Compiler: gcc 8.3.1 20191121 (Red Hat 8.3.1-5)

openSUSE Leap 15
	Kernel: 4.18.0-240.10.1.el8_3.x86_64
	Compiler: gcc 7.5.0

CentOS Stream 9
	Kernel: 4.18.0-240.10.1.el8_3.x86_64
	Compiler: gcc 11.3.1 20220421

Debian Bullseye
	Kernel: 5.4.0-122-generic
	Compiler: gcc 10.2.1-6

Alpine
	Kernel: 5.4.0-73-generic
	Compiler: gcc (Alpine 10.3.1_git20210424) 10.3.1 20210424

To view detailed results, visit:
https://lab.dpdk.org/results/dashboard/patchsets/29494/

UNH-IOL DPDK Community Lab

To manage your email subscriptions, visit: 
https://lab.dpdk.org/results/dashboard/preferences/subscriptions/