From mboxrd@z Thu Jan  1 00:00:00 1970
Return-Path: <test-report-bounces@dpdk.org>
Received: from mails.dpdk.org (mails.dpdk.org [217.70.189.124])
	by inbox.dpdk.org (Postfix) with ESMTP id A95DD43C84
	for <public@inbox.dpdk.org>; Mon, 11 Mar 2024 09:26:05 +0100 (CET)
Received: from mails.dpdk.org (localhost [127.0.0.1])
	by mails.dpdk.org (Postfix) with ESMTP id A538B402D8;
	Mon, 11 Mar 2024 09:26:05 +0100 (CET)
Received: from mail-ua1-f99.google.com (mail-ua1-f99.google.com
 [209.85.222.99]) by mails.dpdk.org (Postfix) with ESMTP id A0C16402AE
 for <test-report@dpdk.org>; Mon, 11 Mar 2024 09:26:04 +0100 (CET)
Received: by mail-ua1-f99.google.com with SMTP id
 a1e0cc1a2514c-7dba8bc7d7cso1548428241.0
 for <test-report@dpdk.org>; Mon, 11 Mar 2024 01:26:04 -0700 (PDT)
DKIM-Signature: v=1; a=rsa-sha256; c=relaxed/relaxed;
 d=iol.unh.edu; s=unh-iol; t=1710145564; x=1710750364; darn=dpdk.org;
 h=references:in-reply-to:cc:to:from:subject:message-id:date:from:to
 :cc:subject:date:message-id:reply-to;
 bh=0sj8N797YgAbYits/sCM15nPBPdewGuCTtrTtBCOUH0=;
 b=ijFLQ25/4n1/Ip+X0qE23nrH3NUVb78yHqJPGqFU4166xE1+1TLJGGRZ5+yDhyE/wv
 wqd5FT+PxgtDfsIxAUdG8nS1MYoNpH+VYVIJCV/PbqEi/QnVWuUnX7Rw5HTQzYka0u0o
 gq0+2eDHxV5g2Zrd8gfst+dSDvq/FbGDPDnx4=
X-Google-DKIM-Signature: v=1; a=rsa-sha256; c=relaxed/relaxed;
 d=1e100.net; s=20230601; t=1710145564; x=1710750364;
 h=references:in-reply-to:cc:to:from:subject:message-id:date
 :x-gm-message-state:from:to:cc:subject:date:message-id:reply-to;
 bh=0sj8N797YgAbYits/sCM15nPBPdewGuCTtrTtBCOUH0=;
 b=dP22dr9tAtEIbV1ilTG7dXVIvB9fZ6NnMNW94BhtLLZtIWR2qymbzY+q5huZtDnGQk
 g0cmTWopWUVV4gJ0zfHzDaYqlhhOWmL2M+NsGzMMjFkuV5e4OSgnUO2+zWGXRncSBpav
 /XrqGTcWIco1+1Khml/KZ0ZTZAOqA3cEMPzjNknTpZ5A2qgnPOZ0Z++4+hx9gKsJ7v2N
 WCdpY61z6sIDK0W/F6zWfShEd5MCD+jdOyRDtIjV4YksToWDua+hQxp84O9Qdi4eK79n
 PW6lg04RareXGDA6//WQBew7vADa/qv+MbzH0WIA0WoJ9gc/XcQsP8WYQZuR8F4mwynS
 U71g==
X-Gm-Message-State: AOJu0YyQ7od//8RI2GcBF/hAXZyVc3qDkIUvlf7AJXLzQavsFVtk/u/T
 ck4dkYBLkW9XIaAAD5DXMZqGsdavZIeyqeC6egBstodkvHuI2GoGpZsvrvtHJ+sclVbWVKNxX24
 hAmg3qzKSHviHdrr/XNqnBPMSciSrzh62Uqfd600xYa4oG6ALNj/ELFeq
X-Google-Smtp-Source: AGHT+IFdySwA6b8Fbegu3bokJxxsAZmDUoMLL0jRre2d6ua7Cfltg1IRIYI0Rb/Xz6Fym9zlruIq75jggh+x
X-Received: by 2002:a67:be08:0:b0:473:159b:6d42 with SMTP id
 x8-20020a67be08000000b00473159b6d42mr4111842vsq.6.1710145564115; 
 Mon, 11 Mar 2024 01:26:04 -0700 (PDT)
Received: from postal.iol.unh.edu (postal.iol.unh.edu.
 [2606:4100:3880:1234::84]) by smtp-relay.gmail.com with ESMTPS id
 l10-20020ab053ca000000b007dba72e0c8fsm315716uaa.7.2024.03.11.01.26.04
 (version=TLS1_2 cipher=ECDHE-ECDSA-AES128-GCM-SHA256 bits=128/128);
 Mon, 11 Mar 2024 01:26:04 -0700 (PDT)
X-Relaying-Domain: iol.unh.edu
Date: Mon, 11 Mar 2024 01:26:04 -0700 (PDT)
Message-ID: <65eec01c.b00a0220.2a05a.3f73SMTPIN_ADDED_MISSING@mx.google.com>
Received: from [172.17.0.6] (unknown [172.18.0.217])
 by postal.iol.unh.edu (Postfix) with ESMTP id C323B6052471;
 Mon, 11 Mar 2024 04:26:03 -0400 (EDT)
Subject: |SUCCESS| pw138146-138147 [PATCH] [2/2] net/nfp: fix data endianness
From: dpdklab@iol.unh.edu
To: Test Report <test-report@dpdk.org>
Cc: dpdk-test-reports@iol.unh.edu
In-Reply-To: <20240311024939.2523778-3-chaoyong.he@corigine.com>
References: <20240311024939.2523778-3-chaoyong.he@corigine.com>
Content-Type: text/plain
X-BeenThere: test-report@dpdk.org
X-Mailman-Version: 2.1.29
Precedence: list
List-Id: automatic DPDK test reports <test-report.dpdk.org>
List-Unsubscribe: <https://mails.dpdk.org/options/test-report>,
 <mailto:test-report-request@dpdk.org?subject=unsubscribe>
List-Archive: <http://mails.dpdk.org/archives/test-report/>
List-Post: <mailto:test-report@dpdk.org>
List-Help: <mailto:test-report-request@dpdk.org?subject=help>
List-Subscribe: <https://mails.dpdk.org/listinfo/test-report>,
 <mailto:test-report-request@dpdk.org?subject=subscribe>
Errors-To: test-report-bounces@dpdk.org

Test-Label: iol-unit-amd64-testing
Test-Status: SUCCESS
http://dpdk.org/patch/138147

_Testing PASS_

Submitter: Chaoyong He <chaoyong.he@corigine.com>
Date: Monday, March 11 2024 02:49:39 
DPDK git baseline: Repo:dpdk
  Branch: master
  CommitID:a2a2ce171d00b8f27c8c43c37d5dd8505d8f2e89

138146-138147 --> testing pass

Test environment and result as below:

+---------------------+----------------+
|     Environment     | dpdk_unit_test |
+=====================+================+
| Windows Server 2019 | PASS           |
+---------------------+----------------+
| CentOS Stream 8     | PASS           |
+---------------------+----------------+
| CentOS Stream 9     | PASS           |
+---------------------+----------------+
| Debian Bullseye     | PASS           |
+---------------------+----------------+
| Fedora 38           | PASS           |
+---------------------+----------------+
| Debian 12 (arm)     | PASS           |
+---------------------+----------------+
| openSUSE Leap 15    | PASS           |
+---------------------+----------------+
| RHEL8               | PASS           |
+---------------------+----------------+
| Ubuntu 22.04        | PASS           |
+---------------------+----------------+
| Ubuntu 20.04        | PASS           |
+---------------------+----------------+
| Fedora 37           | PASS           |
+---------------------+----------------+


Windows Server 2019
	Kernel: 10.0
	Compiler: clang 14.0 and gcc 8.1.0 (MinGW)

CentOS Stream 8
	Kernel: 4.18.0-240.10.1.el8_3.x86_64
	Compiler: gcc 8.4.1 20200928

CentOS Stream 9
	Kernel: 4.18.0-240.10.1.el8_3.x86_64
	Compiler: gcc 11.3.1 20220421

Debian Bullseye
	Kernel: 5.4.0-122-generic
	Compiler: gcc 10.2.1-6

Fedora 38
	Kernel: Depends on container host
	Compiler: gcc 13.1.1

Debian 12 (arm)
	Kernel: Container Host Kernel
	Compiler: gcc 11

openSUSE Leap 15
	Kernel: 4.18.0-240.10.1.el8_3.x86_64
	Compiler: gcc 7.5.0

RHEL8
	Kernel: 4.18.0-240.10.1.el8_3.x86_64
	Compiler: gcc 8.3.1 20191121 (Red Hat 8.3.1-5)

Ubuntu 22.04
	Kernel: 4.18.0-240.10.1.el8_3.x86_64
	Compiler: gcc 11.3.0

Ubuntu 20.04
	Kernel: 5.4.0-153-generic
	Compiler: gcc 9.4.0-1ubuntu1~20.04.1

Fedora 37
	Kernel: Depends on container host system
	Compiler: gcc 12.3.1

To view detailed results, visit:
https://lab.dpdk.org/results/dashboard/patchsets/29494/

UNH-IOL DPDK Community Lab

To manage your email subscriptions, visit: 
https://lab.dpdk.org/results/dashboard/preferences/subscriptions/