From mboxrd@z Thu Jan  1 00:00:00 1970
Return-Path: <test-report-bounces@dpdk.org>
Received: from mails.dpdk.org (mails.dpdk.org [217.70.189.124])
	by inbox.dpdk.org (Postfix) with ESMTP id 3F91A43C88
	for <public@inbox.dpdk.org>; Mon, 11 Mar 2024 15:00:41 +0100 (CET)
Received: from mails.dpdk.org (localhost [127.0.0.1])
	by mails.dpdk.org (Postfix) with ESMTP id 39EF34027C;
	Mon, 11 Mar 2024 15:00:41 +0100 (CET)
Received: from mail-qv1-f98.google.com (mail-qv1-f98.google.com
 [209.85.219.98]) by mails.dpdk.org (Postfix) with ESMTP id 8A06A4026B
 for <test-report@dpdk.org>; Mon, 11 Mar 2024 15:00:40 +0100 (CET)
Received: by mail-qv1-f98.google.com with SMTP id
 6a1803df08f44-690ddcd97dbso1571456d6.2
 for <test-report@dpdk.org>; Mon, 11 Mar 2024 07:00:40 -0700 (PDT)
DKIM-Signature: v=1; a=rsa-sha256; c=relaxed/relaxed;
 d=iol.unh.edu; s=unh-iol; t=1710165640; x=1710770440; darn=dpdk.org;
 h=references:in-reply-to:cc:to:from:subject:message-id:date:from:to
 :cc:subject:date:message-id:reply-to;
 bh=51sPYZuy5f5JmkOPAxWWvmFp03dXUxLkTd3E9kA1TgE=;
 b=jAdlzk4JcyqK6IUr1kV8wghvwwPxCu4q3xYVrzeEsH1KIaLWCmQs5tCiv9H4OtR82U
 h8+VFKu4XZmfAM9sTNq/t+YLnTsKD6ISWjvH/0hgC+1t/qAoawR1r/q+NrXFdh1szbtd
 1AHfEn2cxvn4jlRqyagNvvM5EmOjY8jPKp1Ug=
X-Google-DKIM-Signature: v=1; a=rsa-sha256; c=relaxed/relaxed;
 d=1e100.net; s=20230601; t=1710165640; x=1710770440;
 h=references:in-reply-to:cc:to:from:subject:message-id:date
 :x-gm-message-state:from:to:cc:subject:date:message-id:reply-to;
 bh=51sPYZuy5f5JmkOPAxWWvmFp03dXUxLkTd3E9kA1TgE=;
 b=eU+KMGPgBm75HlzqzyNOelB3Qq14INUEjYHFPN29xjVh5i6aPe7RD1HRFhKoc08e3c
 4xHdyylf56g1UBth12MEuoHD/ZCfV+8NX5DGBfIUwipO2sYuDiiOvRVlQwTryHm15KOl
 Wa4clS8yPACpFUUnIdUE1gM5umn6WWxo27MuRWP+teLyb2Fm8OSmdJEQubEhHZNNy/6p
 pmJg4ciD3Zw7J8IQBu9CjI9ngK7w2p9pWTCJdXDkmLwCt72D4jqPGuAHYBXDFuh7siuR
 GBNAO6hRbcvnYKSRQDkjtGT6sVDlU5dm1+6ynYaz8eJIdZCZVc97v93VoPmDUaMWwE1r
 MChw==
X-Gm-Message-State: AOJu0Yx3GyoWrfiuboDOGJVs/YkVNDG8WL3MoyMxj32i93GDaEIIak75
 NDiPVCE/y4t4wWZmeL9Z4wX5Qjl4By4gj7QoAHSnislQgBJsadY6knwPvsnAg32CLlKRFsXb6Az
 69OOuxDDOT+a+P3HFOEDiKGXbTpvOGIzZH31JqBMJ
X-Google-Smtp-Source: AGHT+IF+lUeu8QI82Y9B5aCtRWpTYS2Kf2gJsQG8KzmZM9lsmjF5qT/4VE7lRnToTVKtg3GS2Z93WfvTD/qk
X-Received: by 2002:a0c:f64c:0:b0:690:bde1:ab85 with SMTP id
 s12-20020a0cf64c000000b00690bde1ab85mr6934062qvm.50.1710165639882; 
 Mon, 11 Mar 2024 07:00:39 -0700 (PDT)
Received: from postal.iol.unh.edu (postal.iol.unh.edu. [132.177.123.84])
 by smtp-relay.gmail.com with ESMTPS id
 dz17-20020ad45891000000b0068ffe7fab09sm278490qvb.40.2024.03.11.07.00.39
 (version=TLS1_2 cipher=ECDHE-ECDSA-AES128-GCM-SHA256 bits=128/128);
 Mon, 11 Mar 2024 07:00:39 -0700 (PDT)
X-Relaying-Domain: iol.unh.edu
Date: Mon, 11 Mar 2024 07:00:39 -0700 (PDT)
Message-ID: <65ef0e87.d40a0220.d3369.2a3cSMTPIN_ADDED_MISSING@mx.google.com>
Received: from [172.21.0.6] (unknown [172.18.0.240])
 by postal.iol.unh.edu (Postfix) with ESMTP id 3B0146052471;
 Mon, 11 Mar 2024 10:00:39 -0400 (EDT)
Subject: |SUCCESS| pw138151 [PATCH] [V3] ethdev: restore eth_devargs init at 
From: dpdklab@iol.unh.edu
To: Test Report <test-report@dpdk.org>
Cc: dpdk-test-reports@iol.unh.edu
In-Reply-To: <20240311115722.2708497-1-thierry.herbelot@6wind.com>
References: <20240311115722.2708497-1-thierry.herbelot@6wind.com>
Content-Type: text/plain
X-BeenThere: test-report@dpdk.org
X-Mailman-Version: 2.1.29
Precedence: list
List-Id: automatic DPDK test reports <test-report.dpdk.org>
List-Unsubscribe: <https://mails.dpdk.org/options/test-report>,
 <mailto:test-report-request@dpdk.org?subject=unsubscribe>
List-Archive: <http://mails.dpdk.org/archives/test-report/>
List-Post: <mailto:test-report@dpdk.org>
List-Help: <mailto:test-report-request@dpdk.org?subject=help>
List-Subscribe: <https://mails.dpdk.org/listinfo/test-report>,
 <mailto:test-report-request@dpdk.org?subject=subscribe>
Errors-To: test-report-bounces@dpdk.org

Test-Label: iol-abi-testing
Test-Status: SUCCESS
http://dpdk.org/patch/138151

_Testing PASS_

Submitter: Thierry Herbelot <thierry.herbelot@6wind.com>
Date: Monday, March 11 2024 11:57:22 
DPDK git baseline: Repo:dpdk
  Branch: master
  CommitID:a2a2ce171d00b8f27c8c43c37d5dd8505d8f2e89

138151 --> testing pass

Test environment and result as below:

+------------------+----------+
|   Environment    | abi_test |
+==================+==========+
| Fedora 37        | PASS     |
+------------------+----------+
| CentOS Stream 8  | PASS     |
+------------------+----------+
| openSUSE Leap 15 | PASS     |
+------------------+----------+
| CentOS Stream 9  | PASS     |
+------------------+----------+
| Debian Bullseye  | PASS     |
+------------------+----------+
| Fedora 38        | PASS     |
+------------------+----------+


Fedora 37
	Kernel: Depends on container host system
	Compiler: gcc 12.3.1

CentOS Stream 8
	Kernel: 4.18.0-240.10.1.el8_3.x86_64
	Compiler: gcc 8.4.1 20200928

openSUSE Leap 15
	Kernel: 4.18.0-240.10.1.el8_3.x86_64
	Compiler: gcc 7.5.0

CentOS Stream 9
	Kernel: 4.18.0-240.10.1.el8_3.x86_64
	Compiler: gcc 11.3.1 20220421

Debian Bullseye
	Kernel: 5.4.0-122-generic
	Compiler: gcc 10.2.1-6

Fedora 38
	Kernel: Depends on container host
	Compiler: gcc 13.1.1

To view detailed results, visit:
https://lab.dpdk.org/results/dashboard/patchsets/29498/

UNH-IOL DPDK Community Lab

To manage your email subscriptions, visit: 
https://lab.dpdk.org/results/dashboard/preferences/subscriptions/