From mboxrd@z Thu Jan  1 00:00:00 1970
Return-Path: <test-report-bounces@dpdk.org>
Received: from mails.dpdk.org (mails.dpdk.org [217.70.189.124])
	by inbox.dpdk.org (Postfix) with ESMTP id 7226343C88
	for <public@inbox.dpdk.org>; Mon, 11 Mar 2024 15:01:22 +0100 (CET)
Received: from mails.dpdk.org (localhost [127.0.0.1])
	by mails.dpdk.org (Postfix) with ESMTP id 6D15A4027C;
	Mon, 11 Mar 2024 15:01:22 +0100 (CET)
Received: from mail-pf1-f227.google.com (mail-pf1-f227.google.com
 [209.85.210.227])
 by mails.dpdk.org (Postfix) with ESMTP id A5A9E4026B
 for <test-report@dpdk.org>; Mon, 11 Mar 2024 15:01:16 +0100 (CET)
Received: by mail-pf1-f227.google.com with SMTP id
 d2e1a72fcca58-6e56d594b31so2442162b3a.1
 for <test-report@dpdk.org>; Mon, 11 Mar 2024 07:01:16 -0700 (PDT)
DKIM-Signature: v=1; a=rsa-sha256; c=relaxed/relaxed;
 d=iol.unh.edu; s=unh-iol; t=1710165676; x=1710770476; darn=dpdk.org;
 h=references:in-reply-to:cc:to:from:subject:message-id:date:from:to
 :cc:subject:date:message-id:reply-to;
 bh=q4Us2XVtaWJJhF2z3+XjypLrOPJubObSV/amlaR1opk=;
 b=h4Jbwv8w0E4ZCw2C7zAIvCmj0uGa8osjJJMyfYWu5VVz/XIpVtgFyt7dNGUJVspHxE
 3ZXLUhqpelwghqRZ3CPkxpaoU5oik0jpmzvxt8ql46Qak/pCsoZR8ZbIjRR75/oiHNuU
 eVStOVsdqP+GuBGhLF0n+YiqLlWGhj53VEjKE=
X-Google-DKIM-Signature: v=1; a=rsa-sha256; c=relaxed/relaxed;
 d=1e100.net; s=20230601; t=1710165676; x=1710770476;
 h=references:in-reply-to:cc:to:from:subject:message-id:date
 :x-gm-message-state:from:to:cc:subject:date:message-id:reply-to;
 bh=q4Us2XVtaWJJhF2z3+XjypLrOPJubObSV/amlaR1opk=;
 b=ejPyJCzINu9U/lavgHV3P89eIoHpAOYNlmk2kbx+PmobKaNr+9jYI+5rtInaRJFfI1
 9EnJzxnGb7jq8OQOfpn9YeROKkFZ7mG4G3xZ9k3UNA+uUR30R+N19mff1diiI4VzyM7K
 z8QkzRIaKPBc0dQR6rDPxgKh5/YSS/3PGYG4ZI2LJ2DMm5/+yBSos2uzl4OJIiBANlJa
 o8jWq0PgTXofDA0+QwQjE8L5Jub/S8mdsdvpQN2vietZ784pESbZC3XznEaydAIipgFX
 QgvsSFJQVG0hK9cgHEXfcsxzbWmt+ZksLulEcSv0x3wOUhHCP6A9NArxIp4mvciW0ImP
 +yJA==
X-Gm-Message-State: AOJu0Yw6lDguYLV4uH5C/496zAnQxSv2a68G9fvYG1/3VkKJpdw0owEz
 U5M3T0GUbAUsW6UZ4KtWDMDz2j+kMo3yroMeC2+rIOJzB2DRvAgGBgf0HrtDzo7LE+k9br5wDuN
 VredXxQjGcj74a3CGirTKuDLTrPb+LOZkZrgbuGNSWX6wolo22RvAX7aL
X-Google-Smtp-Source: AGHT+IGpJLohiB7/9CmswCG1LmfaZvQWrRr2wgOqeKn6VLxd/UISKanPjNs/9omrAOv3/jaK5p9cdF/Vh2Hc
X-Received: by 2002:a05:6a00:a86:b0:6e6:5a97:f3bb with SMTP id
 b6-20020a056a000a8600b006e65a97f3bbmr7259894pfl.16.1710165675464; 
 Mon, 11 Mar 2024 07:01:15 -0700 (PDT)
Received: from postal.iol.unh.edu (postal.iol.unh.edu.
 [2606:4100:3880:1234::84]) by smtp-relay.gmail.com with ESMTPS id
 c2-20020a056a000ac200b006e4751890c5sm329287pfl.13.2024.03.11.07.01.15
 (version=TLS1_2 cipher=ECDHE-ECDSA-AES128-GCM-SHA256 bits=128/128);
 Mon, 11 Mar 2024 07:01:15 -0700 (PDT)
X-Relaying-Domain: iol.unh.edu
Date: Mon, 11 Mar 2024 07:01:15 -0700 (PDT)
Message-ID: <65ef0eab.050a0220.5814f.686aSMTPIN_ADDED_MISSING@mx.google.com>
Received: from [172.21.0.8] (unknown [172.18.0.240])
 by postal.iol.unh.edu (Postfix) with ESMTP id 425866052471;
 Mon, 11 Mar 2024 10:01:14 -0400 (EDT)
Subject: |SUCCESS| pw138151 [PATCH] [V3] ethdev: restore eth_devargs init at 
From: dpdklab@iol.unh.edu
To: Test Report <test-report@dpdk.org>
Cc: dpdk-test-reports@iol.unh.edu
In-Reply-To: <20240311115722.2708497-1-thierry.herbelot@6wind.com>
References: <20240311115722.2708497-1-thierry.herbelot@6wind.com>
Content-Type: text/plain
X-BeenThere: test-report@dpdk.org
X-Mailman-Version: 2.1.29
Precedence: list
List-Id: automatic DPDK test reports <test-report.dpdk.org>
List-Unsubscribe: <https://mails.dpdk.org/options/test-report>,
 <mailto:test-report-request@dpdk.org?subject=unsubscribe>
List-Archive: <http://mails.dpdk.org/archives/test-report/>
List-Post: <mailto:test-report@dpdk.org>
List-Help: <mailto:test-report-request@dpdk.org?subject=help>
List-Subscribe: <https://mails.dpdk.org/listinfo/test-report>,
 <mailto:test-report-request@dpdk.org?subject=subscribe>
Errors-To: test-report-bounces@dpdk.org

Test-Label: iol-compile-amd64-testing
Test-Status: SUCCESS
http://dpdk.org/patch/138151

_Testing PASS_

Submitter: Thierry Herbelot <thierry.herbelot@6wind.com>
Date: Monday, March 11 2024 11:57:22 
DPDK git baseline: Repo:dpdk
  Branch: master
  CommitID:a2a2ce171d00b8f27c8c43c37d5dd8505d8f2e89

138151 --> testing pass

Test environment and result as below:

+---------------------+--------------------+----------------------+
|     Environment     | dpdk_meson_compile | dpdk_mingw64_compile |
+=====================+====================+======================+
| FreeBSD 13.2        | PASS               | SKIPPED              |
+---------------------+--------------------+----------------------+
| Windows Server 2022 | PASS               | SKIPPED              |
+---------------------+--------------------+----------------------+
| Debian 12 (arm)     | PASS               | SKIPPED              |
+---------------------+--------------------+----------------------+
| CentOS Stream 9     | PASS               | SKIPPED              |
+---------------------+--------------------+----------------------+
| Debian Bullseye     | PASS               | SKIPPED              |
+---------------------+--------------------+----------------------+
| CentOS Stream 8     | PASS               | SKIPPED              |
+---------------------+--------------------+----------------------+
| Fedora 37           | PASS               | SKIPPED              |
+---------------------+--------------------+----------------------+
| Windows Server 2019 | PASS               | PASS                 |
+---------------------+--------------------+----------------------+
| Fedora 38           | PASS               | SKIPPED              |
+---------------------+--------------------+----------------------+
| Ubuntu 20.04        | PASS               | SKIPPED              |
+---------------------+--------------------+----------------------+
| openSUSE Leap 15    | PASS               | SKIPPED              |
+---------------------+--------------------+----------------------+
| Alpine              | PASS               | SKIPPED              |
+---------------------+--------------------+----------------------+
| RHEL8               | PASS               | SKIPPED              |
+---------------------+--------------------+----------------------+


FreeBSD 13.2
	Kernel: 13.2
	Compiler: clang 11.3.0

Windows Server 2022
	Kernel: OS Build 20348.2031
	Compiler: MSVC VS-Preview

Debian 12 (arm)
	Kernel: Container Host Kernel
	Compiler: gcc 11

CentOS Stream 9
	Kernel: 4.18.0-240.10.1.el8_3.x86_64
	Compiler: gcc 11.3.1 20220421

Debian Bullseye
	Kernel: 5.4.0-122-generic
	Compiler: gcc 10.2.1-6

CentOS Stream 8
	Kernel: 4.18.0-240.10.1.el8_3.x86_64
	Compiler: gcc 8.4.1 20200928

Fedora 37
	Kernel: Depends on container host system
	Compiler: gcc 12.3.1

Windows Server 2019
	Kernel: 10.0
	Compiler: clang 14.0 and gcc 8.1.0 (MinGW)

Fedora 38
	Kernel: Depends on container host
	Compiler: gcc 13.1.1

Ubuntu 20.04
	Kernel: 5.4.0-153-generic
	Compiler: gcc 9.4.0-1ubuntu1~20.04.1

openSUSE Leap 15
	Kernel: 4.18.0-240.10.1.el8_3.x86_64
	Compiler: gcc 7.5.0

Alpine
	Kernel: 5.4.0-73-generic
	Compiler: gcc (Alpine 10.3.1_git20210424) 10.3.1 20210424

RHEL8
	Kernel: 4.18.0-240.10.1.el8_3.x86_64
	Compiler: gcc 8.3.1 20191121 (Red Hat 8.3.1-5)

To view detailed results, visit:
https://lab.dpdk.org/results/dashboard/patchsets/29498/

UNH-IOL DPDK Community Lab

To manage your email subscriptions, visit: 
https://lab.dpdk.org/results/dashboard/preferences/subscriptions/