From mboxrd@z Thu Jan  1 00:00:00 1970
Return-Path: <test-report-bounces@dpdk.org>
Received: from mails.dpdk.org (mails.dpdk.org [217.70.189.124])
	by inbox.dpdk.org (Postfix) with ESMTP id E51AB43C88
	for <public@inbox.dpdk.org>; Mon, 11 Mar 2024 15:06:12 +0100 (CET)
Received: from mails.dpdk.org (localhost [127.0.0.1])
	by mails.dpdk.org (Postfix) with ESMTP id D88EC40691;
	Mon, 11 Mar 2024 15:06:12 +0100 (CET)
Received: from mail-io1-f99.google.com (mail-io1-f99.google.com
 [209.85.166.99]) by mails.dpdk.org (Postfix) with ESMTP id F34614026B
 for <test-report@dpdk.org>; Mon, 11 Mar 2024 15:06:11 +0100 (CET)
Received: by mail-io1-f99.google.com with SMTP id
 ca18e2360f4ac-7c890915cccso47677239f.3
 for <test-report@dpdk.org>; Mon, 11 Mar 2024 07:06:11 -0700 (PDT)
DKIM-Signature: v=1; a=rsa-sha256; c=relaxed/relaxed;
 d=iol.unh.edu; s=unh-iol; t=1710165971; x=1710770771; darn=dpdk.org;
 h=references:in-reply-to:cc:to:from:subject:message-id:date:from:to
 :cc:subject:date:message-id:reply-to;
 bh=2X8BrdkDjXu2g12qvL6fVHB0LItu8fWYqg9avNlZ1Oc=;
 b=HyHn7WM0y0X29LwOMrwZ8x1N/z5SFWByIStwaxnIe1sWJyXuDXejNAgbmHD8BcWK+I
 dFbTbgtgESYLTSdhp6Ewn5RyFgQwDCAxrcjr7CLxTZ+hHuZq10bgTua8Ns7MIP7wWKDZ
 jey2ANH4MVHvKCoHgTw6EgrpWih80WTApZ1m0=
X-Google-DKIM-Signature: v=1; a=rsa-sha256; c=relaxed/relaxed;
 d=1e100.net; s=20230601; t=1710165971; x=1710770771;
 h=references:in-reply-to:cc:to:from:subject:message-id:date
 :x-gm-message-state:from:to:cc:subject:date:message-id:reply-to;
 bh=2X8BrdkDjXu2g12qvL6fVHB0LItu8fWYqg9avNlZ1Oc=;
 b=AsKeaxZ9o91PP0TWyQNQ+zGGDmO28Wm/UjzfCFptXVC1DrkCr8Z2ti9ZxEaTNx/PdK
 vC+qM/afErCqpnVfmEb03kJ8e4xOaxtTlijvI6hb1yU+6jhDmkOa2pMfqLLmvOD5VOMm
 cOdOs9+OIVt/+3KsYCABTwyOfSLtCuXDcB1a7jRAmvweJD2bLAUb162/Z9M5frLY+vzr
 /wzkEtZgBGofm8AEGA+9Maj7CBfdudxzbqeH6hQRnfssbZUZnCB05h/6GtKyV6HRvBPi
 7r0X7HeEPszDzZmxz1TDq/Vmb8ANmhy2rSeHEAca1qu6Uj/KDPMzaoLRZJMrcp5JOzt9
 3CRQ==
X-Gm-Message-State: AOJu0YzsF26vmD4O6QXG0xip19Z73wLjGHz7Jh59a3PDyDy1BVi0KYqT
 Ye3syMfvHBDutV9kg3Odk1diNFFPL152R7lhsX3XgPwbwHCSsFEM4Yw03FFbnEKSep0WzMwn5ni
 r6RnOkXFt6iVCfsdE0PBY6dBE3yt0argGos6fun3q
X-Google-Smtp-Source: AGHT+IFdNjJ9vxjxAdlEcNy8Ti0yD1D1dsfCCvvKBQNZxE1N9uFTRVdbRZgWp2jNlXbXNcYNLu/nsdR1uJv+
X-Received: by 2002:a6b:5008:0:b0:7c8:ba87:7310 with SMTP id
 e8-20020a6b5008000000b007c8ba877310mr3215897iob.11.1710165969874; 
 Mon, 11 Mar 2024 07:06:09 -0700 (PDT)
Received: from postal.iol.unh.edu (postal.iol.unh.edu. [132.177.123.84])
 by smtp-relay.gmail.com with ESMTPS id
 a25-20020a029f99000000b00476f2063d29sm22760jam.77.2024.03.11.07.06.09
 (version=TLS1_2 cipher=ECDHE-ECDSA-AES128-GCM-SHA256 bits=128/128);
 Mon, 11 Mar 2024 07:06:09 -0700 (PDT)
X-Relaying-Domain: iol.unh.edu
Date: Mon, 11 Mar 2024 07:06:09 -0700 (PDT)
Message-ID: <65ef0fd1.020a0220.4e046.1168SMTPIN_ADDED_MISSING@mx.google.com>
Received: from [172.21.0.7] (unknown [172.18.0.240])
 by postal.iol.unh.edu (Postfix) with ESMTP id 2B7356052471;
 Mon, 11 Mar 2024 10:06:09 -0400 (EDT)
Subject: |SUCCESS| pw138151 [PATCH] [V3] ethdev: restore eth_devargs init at 
From: dpdklab@iol.unh.edu
To: Test Report <test-report@dpdk.org>
Cc: dpdk-test-reports@iol.unh.edu
In-Reply-To: <20240311115722.2708497-1-thierry.herbelot@6wind.com>
References: <20240311115722.2708497-1-thierry.herbelot@6wind.com>
Content-Type: text/plain
X-BeenThere: test-report@dpdk.org
X-Mailman-Version: 2.1.29
Precedence: list
List-Id: automatic DPDK test reports <test-report.dpdk.org>
List-Unsubscribe: <https://mails.dpdk.org/options/test-report>,
 <mailto:test-report-request@dpdk.org?subject=unsubscribe>
List-Archive: <http://mails.dpdk.org/archives/test-report/>
List-Post: <mailto:test-report@dpdk.org>
List-Help: <mailto:test-report-request@dpdk.org?subject=help>
List-Subscribe: <https://mails.dpdk.org/listinfo/test-report>,
 <mailto:test-report-request@dpdk.org?subject=subscribe>
Errors-To: test-report-bounces@dpdk.org

Test-Label: iol-unit-amd64-testing
Test-Status: SUCCESS
http://dpdk.org/patch/138151

_Testing PASS_

Submitter: Thierry Herbelot <thierry.herbelot@6wind.com>
Date: Monday, March 11 2024 11:57:22 
DPDK git baseline: Repo:dpdk
  Branch: master
  CommitID:a2a2ce171d00b8f27c8c43c37d5dd8505d8f2e89

138151 --> testing pass

Test environment and result as below:

+------------------+----------------+
|   Environment    | dpdk_unit_test |
+==================+================+
| CentOS Stream 8  | PASS           |
+------------------+----------------+
| CentOS Stream 9  | PASS           |
+------------------+----------------+
| Debian 12 (arm)  | PASS           |
+------------------+----------------+
| Fedora 37        | PASS           |
+------------------+----------------+
| Fedora 38        | PASS           |
+------------------+----------------+
| openSUSE Leap 15 | PASS           |
+------------------+----------------+


CentOS Stream 8
	Kernel: 4.18.0-240.10.1.el8_3.x86_64
	Compiler: gcc 8.4.1 20200928

CentOS Stream 9
	Kernel: 4.18.0-240.10.1.el8_3.x86_64
	Compiler: gcc 11.3.1 20220421

Debian 12 (arm)
	Kernel: Container Host Kernel
	Compiler: gcc 11

Fedora 37
	Kernel: Depends on container host system
	Compiler: gcc 12.3.1

Fedora 38
	Kernel: Depends on container host
	Compiler: gcc 13.1.1

openSUSE Leap 15
	Kernel: 4.18.0-240.10.1.el8_3.x86_64
	Compiler: gcc 7.5.0

To view detailed results, visit:
https://lab.dpdk.org/results/dashboard/patchsets/29498/

UNH-IOL DPDK Community Lab

To manage your email subscriptions, visit: 
https://lab.dpdk.org/results/dashboard/preferences/subscriptions/