From mboxrd@z Thu Jan  1 00:00:00 1970
Return-Path: <test-report-bounces@dpdk.org>
Received: from mails.dpdk.org (mails.dpdk.org [217.70.189.124])
	by inbox.dpdk.org (Postfix) with ESMTP id 0AA6043C88
	for <public@inbox.dpdk.org>; Mon, 11 Mar 2024 15:08:18 +0100 (CET)
Received: from mails.dpdk.org (localhost [127.0.0.1])
	by mails.dpdk.org (Postfix) with ESMTP id 04F4E4027C;
	Mon, 11 Mar 2024 15:08:18 +0100 (CET)
Received: from mail-qv1-f99.google.com (mail-qv1-f99.google.com
 [209.85.219.99]) by mails.dpdk.org (Postfix) with ESMTP id 85BCD4026B
 for <test-report@dpdk.org>; Mon, 11 Mar 2024 15:08:12 +0100 (CET)
Received: by mail-qv1-f99.google.com with SMTP id
 6a1803df08f44-690c5d7851dso10904106d6.0
 for <test-report@dpdk.org>; Mon, 11 Mar 2024 07:08:12 -0700 (PDT)
DKIM-Signature: v=1; a=rsa-sha256; c=relaxed/relaxed;
 d=iol.unh.edu; s=unh-iol; t=1710166092; x=1710770892; darn=dpdk.org;
 h=references:in-reply-to:cc:to:from:subject:message-id:date:from:to
 :cc:subject:date:message-id:reply-to;
 bh=z9Dp/tX/MXY1J2h7E9f2Kke3MN59Du1724cTcL9YnX4=;
 b=C9O/NbDCkiYN6YwxZEnlu4NpE7UgRLbOD8mRLGhXzy0Bzbw9KUm37HrsIOA5i4IQuF
 cMTCXwFR+lwoESxFVLRqoqPDcmggI3lv9GTK7f7fAuQZMFzpWwucjquo6OpSzjuCb8IP
 n2eW68gAVXv8oNzFAKi0N573P4C8lTnXwdr3E=
X-Google-DKIM-Signature: v=1; a=rsa-sha256; c=relaxed/relaxed;
 d=1e100.net; s=20230601; t=1710166092; x=1710770892;
 h=references:in-reply-to:cc:to:from:subject:message-id:date
 :x-gm-message-state:from:to:cc:subject:date:message-id:reply-to;
 bh=z9Dp/tX/MXY1J2h7E9f2Kke3MN59Du1724cTcL9YnX4=;
 b=oiYBwGwmKp3TDxuw+z22LluWWZ7tHgeSfNZGHzE5KJZntptUSkyxSld+M/pyhyJTOe
 PS8g8z+j5t6QMsniBnzWkpB+dJ3wR/N3AtvUACqzebv676mO8R70ACn0wnsPV8kUnsLj
 9F0mFNLsqKEcDyZzygcwzC1zkejMkyDgJmjQSCtJJXEt6IyklbG8JSwhzsE1fx6h+c1s
 XKXkQA62Hizy4SdsLTqC4ycOImHaTYlQHKbFHTlw2Lza7PzOB7RG0myowCn3IH+4sSAU
 sK/MftwdJ3kAQEkP8Mecvcv/eqtHOFRrWgEYl2ilgditJrZeMWyKUnIPxm3UySMYr40I
 uO9Q==
X-Gm-Message-State: AOJu0Yy24WsbKt7rf3aSrXRlb3V8VQl7T71+oywwEO6CLLhiLG9D9CKk
 ZVpIvP36OnveGOAojKqON4tN/rUxhbE6VLtWfP56m+UVzSWQbjUP6ayMifRw5pnxnh3E+X4MSVc
 TJG9GKl3XyCoIx4CSGxmjLk1pP9GFXbrHOtbeVscI
X-Google-Smtp-Source: AGHT+IHtHnMVHaWph5Q70NsOE8qp5TBGZAsgx1pNeQc38nyX8rXIElrLSQgFGfo4UYd6a9vhddb0BoCv5wwg
X-Received: by 2002:a0c:e845:0:b0:690:b3a4:10a6 with SMTP id
 l5-20020a0ce845000000b00690b3a410a6mr7153883qvo.32.1710166092039; 
 Mon, 11 Mar 2024 07:08:12 -0700 (PDT)
Received: from postal.iol.unh.edu (postal.iol.unh.edu. [132.177.123.84])
 by smtp-relay.gmail.com with ESMTPS id
 a14-20020a0562140c2e00b0068ff60ae6casm247720qvd.32.2024.03.11.07.08.11
 (version=TLS1_2 cipher=ECDHE-ECDSA-AES128-GCM-SHA256 bits=128/128);
 Mon, 11 Mar 2024 07:08:12 -0700 (PDT)
X-Relaying-Domain: iol.unh.edu
Date: Mon, 11 Mar 2024 07:08:12 -0700 (PDT)
Message-ID: <65ef104c.050a0220.9a7d.05c0SMTPIN_ADDED_MISSING@mx.google.com>
Received: from [172.17.0.8] (unknown [172.18.0.217])
 by postal.iol.unh.edu (Postfix) with ESMTP id 71CA56052471;
 Mon, 11 Mar 2024 10:08:11 -0400 (EDT)
Subject: |SUCCESS| pw138151 [PATCH] [V3] ethdev: restore eth_devargs init at 
From: dpdklab@iol.unh.edu
To: Test Report <test-report@dpdk.org>
Cc: dpdk-test-reports@iol.unh.edu
In-Reply-To: <20240311115722.2708497-1-thierry.herbelot@6wind.com>
References: <20240311115722.2708497-1-thierry.herbelot@6wind.com>
Content-Type: text/plain
X-BeenThere: test-report@dpdk.org
X-Mailman-Version: 2.1.29
Precedence: list
List-Id: automatic DPDK test reports <test-report.dpdk.org>
List-Unsubscribe: <https://mails.dpdk.org/options/test-report>,
 <mailto:test-report-request@dpdk.org?subject=unsubscribe>
List-Archive: <http://mails.dpdk.org/archives/test-report/>
List-Post: <mailto:test-report@dpdk.org>
List-Help: <mailto:test-report-request@dpdk.org?subject=help>
List-Subscribe: <https://mails.dpdk.org/listinfo/test-report>,
 <mailto:test-report-request@dpdk.org?subject=subscribe>
Errors-To: test-report-bounces@dpdk.org

Test-Label: iol-unit-arm64-testing
Test-Status: SUCCESS
http://dpdk.org/patch/138151

_Testing PASS_

Submitter: Thierry Herbelot <thierry.herbelot@6wind.com>
Date: Monday, March 11 2024 11:57:22 
DPDK git baseline: Repo:dpdk
  Branch: master
  CommitID:a2a2ce171d00b8f27c8c43c37d5dd8505d8f2e89

138151 --> testing pass

Test environment and result as below:

+--------------------------+----------------+------------------------------+---------------------------+
|       Environment        | dpdk_unit_test | cryptodev_sw_snow3g_autotest | cryptodev_sw_zuc_autotest |
+==========================+================+==============================+===========================+
| Debian 11 (Buster) (ARM) | PASS           | SKIPPED                      | SKIPPED                   |
+--------------------------+----------------+------------------------------+---------------------------+
| CentOS Stream 9 (ARM)    | PASS           | SKIPPED                      | SKIPPED                   |
+--------------------------+----------------+------------------------------+---------------------------+
| Debian 12 (arm)          | PASS           | PASS                         | PASS                      |
+--------------------------+----------------+------------------------------+---------------------------+
| Fedora 37 (ARM)          | PASS           | SKIPPED                      | SKIPPED                   |
+--------------------------+----------------+------------------------------+---------------------------+
| Fedora 38 (ARM)          | PASS           | SKIPPED                      | SKIPPED                   |
+--------------------------+----------------+------------------------------+---------------------------+


Debian 11 (Buster) (ARM)
	Kernel: Container Host Kernel
	Compiler: gcc 10.2.1

CentOS Stream 9 (ARM)
	Kernel: Container Host Kernel
	Compiler: gcc 11.3.1

Debian 12 (arm)
	Kernel: Container Host Kernel
	Compiler: gcc 11

Fedora 37 (ARM)
	Kernel: Depends on container host
	Compiler: gcc 12.3.1

Fedora 38 (ARM)
	Kernel: Depends on container host
	Compiler: gcc 13.1.1

To view detailed results, visit:
https://lab.dpdk.org/results/dashboard/patchsets/29498/

UNH-IOL DPDK Community Lab

To manage your email subscriptions, visit: 
https://lab.dpdk.org/results/dashboard/preferences/subscriptions/