From mboxrd@z Thu Jan  1 00:00:00 1970
Return-Path: <test-report-bounces@dpdk.org>
Received: from mails.dpdk.org (mails.dpdk.org [217.70.189.124])
	by inbox.dpdk.org (Postfix) with ESMTP id 35D7043C88
	for <public@inbox.dpdk.org>; Mon, 11 Mar 2024 15:08:31 +0100 (CET)
Received: from mails.dpdk.org (localhost [127.0.0.1])
	by mails.dpdk.org (Postfix) with ESMTP id 31DF04027C;
	Mon, 11 Mar 2024 15:08:31 +0100 (CET)
Received: from mail-il1-f226.google.com (mail-il1-f226.google.com
 [209.85.166.226])
 by mails.dpdk.org (Postfix) with ESMTP id D0EC24026B
 for <test-report@dpdk.org>; Mon, 11 Mar 2024 15:08:29 +0100 (CET)
Received: by mail-il1-f226.google.com with SMTP id
 e9e14a558f8ab-366349042f5so14437545ab.2
 for <test-report@dpdk.org>; Mon, 11 Mar 2024 07:08:29 -0700 (PDT)
DKIM-Signature: v=1; a=rsa-sha256; c=relaxed/relaxed;
 d=iol.unh.edu; s=unh-iol; t=1710166109; x=1710770909; darn=dpdk.org;
 h=references:in-reply-to:cc:to:from:subject:message-id:date:from:to
 :cc:subject:date:message-id:reply-to;
 bh=gm+O6ZSRlnsRLqdHIycAV/XdQzDlSea7LHGCTaGsHTI=;
 b=RMdubNS/7AL7oFV4+qLjEyQqnDLOZE2sh33wkqWrU+/yShN13HDLsB2fbUDVVaZcRj
 ys/bUJR9uNIDx8ni2sZ96ewSMsyLNqT5NFUfCtT3X0a2n4tNJ5IRtQCfoJ+v2OLRP5V0
 aXObv92GB0g5CdYdPuDbKtJVfXDN44XH9kOGA=
X-Google-DKIM-Signature: v=1; a=rsa-sha256; c=relaxed/relaxed;
 d=1e100.net; s=20230601; t=1710166109; x=1710770909;
 h=references:in-reply-to:cc:to:from:subject:message-id:date
 :x-gm-message-state:from:to:cc:subject:date:message-id:reply-to;
 bh=gm+O6ZSRlnsRLqdHIycAV/XdQzDlSea7LHGCTaGsHTI=;
 b=RZuSYyK/H9MUoetdnAEeOFyj5+udBhx7+7ckxYeKPyH2fZl7dHWx6EMiKiebiP57Vu
 cs+WeAKd1KyUecZN4kKBwBbOEKO0rhJEUigbFUgC15MYFvit01T6IwaX2ed4W5CvLVPa
 40okgs6LlvQoubD1Ct81JtxDHIO0I/h6sU3D2JERpHS31lKIM5JNNuyowRNB/lpiD6s+
 2SqZhhqnaM/nqzVTNXj38fJZjsxlg94m46fE81je/lCUhmlbsiUtwLHbxWDarQVQI/io
 a5+KFNILV3XlIA6HTv0EbNZ3TfODlmb1S1+cI7E5XgHtmJ9+O0sWpYJCUeD/z2J8o5UE
 3j2A==
X-Gm-Message-State: AOJu0Ywfpu+ZGz9O4y72vke70h1eBXMKYirKzk47gXMbcbnoAeopsM2t
 QVJCfpQF4VmAnPdfJ6YZuWV0qUQbTPt9Vdix+8RlsCfJkUDx8EUrqX2C6F/4tWdASmu2aUtGbjg
 8o6aeZ5nF0W80rNFnJuK9PMwSCp4YyciWMXwnVVg42uOTPI/8XyT50W2k
X-Google-Smtp-Source: AGHT+IG/dYPU38DWCbCwbrebyiYEryk/QufrdVK6GFhRnZNDfHq8PJE3xPkG5/W4lgVuzF5oh9RwOwFUQNvu
X-Received: by 2002:a92:c249:0:b0:366:5662:a44f with SMTP id
 k9-20020a92c249000000b003665662a44fmr1886423ilo.32.1710166109274; 
 Mon, 11 Mar 2024 07:08:29 -0700 (PDT)
Received: from postal.iol.unh.edu (postal.iol.unh.edu.
 [2606:4100:3880:1234::84]) by smtp-relay.gmail.com with ESMTPS id
 br5-20020a056e0223c500b00365ad4015d4sm128125ilb.50.2024.03.11.07.08.29
 (version=TLS1_2 cipher=ECDHE-ECDSA-AES128-GCM-SHA256 bits=128/128);
 Mon, 11 Mar 2024 07:08:29 -0700 (PDT)
X-Relaying-Domain: iol.unh.edu
Date: Mon, 11 Mar 2024 07:08:29 -0700 (PDT)
Message-ID: <65ef105d.050a0220.ba5a4.7eeeSMTPIN_ADDED_MISSING@mx.google.com>
Received: from [172.21.0.7] (unknown [172.18.0.240])
 by postal.iol.unh.edu (Postfix) with ESMTP id 7B1776052471;
 Mon, 11 Mar 2024 10:08:28 -0400 (EDT)
Subject: |SUCCESS| pw138151 [PATCH] [V3] ethdev: restore eth_devargs init at 
From: dpdklab@iol.unh.edu
To: Test Report <test-report@dpdk.org>
Cc: dpdk-test-reports@iol.unh.edu
In-Reply-To: <20240311115722.2708497-1-thierry.herbelot@6wind.com>
References: <20240311115722.2708497-1-thierry.herbelot@6wind.com>
Content-Type: text/plain
X-BeenThere: test-report@dpdk.org
X-Mailman-Version: 2.1.29
Precedence: list
List-Id: automatic DPDK test reports <test-report.dpdk.org>
List-Unsubscribe: <https://mails.dpdk.org/options/test-report>,
 <mailto:test-report-request@dpdk.org?subject=unsubscribe>
List-Archive: <http://mails.dpdk.org/archives/test-report/>
List-Post: <mailto:test-report@dpdk.org>
List-Help: <mailto:test-report-request@dpdk.org?subject=help>
List-Subscribe: <https://mails.dpdk.org/listinfo/test-report>,
 <mailto:test-report-request@dpdk.org?subject=subscribe>
Errors-To: test-report-bounces@dpdk.org

Test-Label: iol-compile-arm64-testing
Test-Status: SUCCESS
http://dpdk.org/patch/138151

_Testing PASS_

Submitter: Thierry Herbelot <thierry.herbelot@6wind.com>
Date: Monday, March 11 2024 11:57:22 
DPDK git baseline: Repo:dpdk
  Branch: master
  CommitID:a2a2ce171d00b8f27c8c43c37d5dd8505d8f2e89

138151 --> testing pass

Test environment and result as below:

+----------------------------------------+--------------------+
|              Environment               | dpdk_meson_compile |
+========================================+====================+
| Ubuntu 20.04 ARM SVE                   | PASS               |
+----------------------------------------+--------------------+
| Debian 12 with MUSDK                   | PASS               |
+----------------------------------------+--------------------+
| Ubuntu 20.04 aarch32 GCC Cross Compile | PASS               |
+----------------------------------------+--------------------+
| Fedora 38 (ARM)                        | PASS               |
+----------------------------------------+--------------------+
| Fedora 37 (ARM)                        | PASS               |
+----------------------------------------+--------------------+
| Debian 11 (Buster) (ARM)               | PASS               |
+----------------------------------------+--------------------+
| Ubuntu 20.04 (ARM)                     | PASS               |
+----------------------------------------+--------------------+
| CentOS Stream 9 (ARM)                  | PASS               |
+----------------------------------------+--------------------+
| Ubuntu 20.04 ARM Clang Cross Compile   | PASS               |
+----------------------------------------+--------------------+
| Debian 12 (arm)                        | PASS               |
+----------------------------------------+--------------------+


Ubuntu 20.04 ARM SVE
	Kernel: 5.4.0-80-generic
	Compiler: gcc 10.3.0 (Ubuntu 10.3.0-1ubuntu1~20.04)

Debian 12 with MUSDK
	Kernel: Container Host Kernel
	Compiler: gcc 12

Ubuntu 20.04 aarch32 GCC Cross Compile
	Kernel: 5.4.0-72-generic
	Compiler: gcc 9.3.0

Fedora 38 (ARM)
	Kernel: Depends on container host
	Compiler: gcc 13.1.1

Fedora 37 (ARM)
	Kernel: Depends on container host
	Compiler: gcc 12.3.1

Debian 11 (Buster) (ARM)
	Kernel: Container Host Kernel
	Compiler: gcc 10.2.1

Ubuntu 20.04 (ARM)
	Kernel: Container Host Kernel
	Compiler: gcc 9.4.0

CentOS Stream 9 (ARM)
	Kernel: Container Host Kernel
	Compiler: gcc 11.3.1

Ubuntu 20.04 ARM Clang Cross Compile
	Kernel: 5.4.0-72-generic
	Compiler: clang version 10.0.0-4ubuntu1

Debian 12 (arm)
	Kernel: Container Host Kernel
	Compiler: gcc 11

To view detailed results, visit:
https://lab.dpdk.org/results/dashboard/patchsets/29498/

UNH-IOL DPDK Community Lab

To manage your email subscriptions, visit: 
https://lab.dpdk.org/results/dashboard/preferences/subscriptions/