From mboxrd@z Thu Jan  1 00:00:00 1970
Return-Path: <test-report-bounces@dpdk.org>
Received: from mails.dpdk.org (mails.dpdk.org [217.70.189.124])
	by inbox.dpdk.org (Postfix) with ESMTP id AB52743C88
	for <public@inbox.dpdk.org>; Mon, 11 Mar 2024 15:09:29 +0100 (CET)
Received: from mails.dpdk.org (localhost [127.0.0.1])
	by mails.dpdk.org (Postfix) with ESMTP id A707D4027C;
	Mon, 11 Mar 2024 15:09:29 +0100 (CET)
Received: from mail-oo1-f97.google.com (mail-oo1-f97.google.com
 [209.85.161.97]) by mails.dpdk.org (Postfix) with ESMTP id E0C9E4026B
 for <test-report@dpdk.org>; Mon, 11 Mar 2024 15:09:28 +0100 (CET)
Received: by mail-oo1-f97.google.com with SMTP id
 006d021491bc7-5a1f24cc010so795676eaf.1
 for <test-report@dpdk.org>; Mon, 11 Mar 2024 07:09:28 -0700 (PDT)
DKIM-Signature: v=1; a=rsa-sha256; c=relaxed/relaxed;
 d=iol.unh.edu; s=unh-iol; t=1710166168; x=1710770968; darn=dpdk.org;
 h=references:in-reply-to:cc:to:from:subject:message-id:date:from:to
 :cc:subject:date:message-id:reply-to;
 bh=gm+O6ZSRlnsRLqdHIycAV/XdQzDlSea7LHGCTaGsHTI=;
 b=cY1DlNvKBdWsnxRlnnjIjhdDao0V6DPUOHt7SaLcAjcVlupHK36Ox0BcA3FfrgjVzI
 +xcPgPkbrKHwCcVx93Li9CTU86ELNAY+Xk0v3r5rI2BnK+kf3fUfEaYzUWcJlGYc/Q1f
 W20B5Ztf6STOXehDDHUMn/gj5/GzRbDVcq8QM=
X-Google-DKIM-Signature: v=1; a=rsa-sha256; c=relaxed/relaxed;
 d=1e100.net; s=20230601; t=1710166168; x=1710770968;
 h=references:in-reply-to:cc:to:from:subject:message-id:date
 :x-gm-message-state:from:to:cc:subject:date:message-id:reply-to;
 bh=gm+O6ZSRlnsRLqdHIycAV/XdQzDlSea7LHGCTaGsHTI=;
 b=UeLXtqF318jcqpwvXESSrv1a5h48Ez8nVps3idGyRFPoLGQc+BeThXdGOj8LnWO2OT
 IBdkSj/m3hxYiR+nHtdUlk0YUe6N4V3ZwKiwOLlQOVJE5wBu8xOEJiyzbPBaukRIlGy6
 6e2R6aoroW/KdTx3FFxGB914heCRIoXZZEptt9jpyNfi+SE1pQckozqt5meKBH37f7gV
 n4G4vcMlvyrrgRZ2s2YA4p0NpCF1W9qFVSH0YleM0/RXgnjWFESNBoFZZ2hA/eBsdWWR
 NCWSNXC03SgevP6QLm+pqw9pBN8ZvVlLlWKVdWI+NHJ7G5ALhxjITbEt2uVkcGLmcZBq
 ZQRw==
X-Gm-Message-State: AOJu0Yyad0kkNzPnOhI0anK2IbV1Sb1KxYPhh+tfpXhILMisQY4RvLkz
 8krKym0fMIB3zsJqKx6CAXmKRNdrgYtGK6Et6XYiXe6m5o2wydIxnWzLTkdnmi02a+imhPa9T+W
 qlRW/y3yUuCQlJJMrG9yeL1BS/xJw04fIMXB9j/SB
X-Google-Smtp-Source: AGHT+IEiKlxCML/ZJZzW6luun97mg5j646ZaTw9UAXTFBsrE0GQ8sh22loTLcBqEKE/O/Zcif7FnycbEzpYD
X-Received: by 2002:a4a:3444:0:b0:5a2:edd:659b with SMTP id
 n4-20020a4a3444000000b005a20edd659bmr1503810oof.8.1710166168163; 
 Mon, 11 Mar 2024 07:09:28 -0700 (PDT)
Received: from postal.iol.unh.edu (postal.iol.unh.edu. [132.177.123.84])
 by smtp-relay.gmail.com with ESMTPS id
 b23-20020ab00857000000b007daf6e3e292sm300765uaf.17.2024.03.11.07.09.28
 (version=TLS1_2 cipher=ECDHE-ECDSA-AES128-GCM-SHA256 bits=128/128);
 Mon, 11 Mar 2024 07:09:28 -0700 (PDT)
X-Relaying-Domain: iol.unh.edu
Date: Mon, 11 Mar 2024 07:09:28 -0700 (PDT)
Message-ID: <65ef1098.b00a0220.6ab4d.26caSMTPIN_ADDED_MISSING@mx.google.com>
Received: from [172.21.0.8] (unknown [172.18.0.240])
 by postal.iol.unh.edu (Postfix) with ESMTP id 0BAB06052471;
 Mon, 11 Mar 2024 10:09:27 -0400 (EDT)
Subject: |SUCCESS| pw138151 [PATCH] [V3] ethdev: restore eth_devargs init at 
From: dpdklab@iol.unh.edu
To: Test Report <test-report@dpdk.org>
Cc: dpdk-test-reports@iol.unh.edu
In-Reply-To: <20240311115722.2708497-1-thierry.herbelot@6wind.com>
References: <20240311115722.2708497-1-thierry.herbelot@6wind.com>
Content-Type: text/plain
X-BeenThere: test-report@dpdk.org
X-Mailman-Version: 2.1.29
Precedence: list
List-Id: automatic DPDK test reports <test-report.dpdk.org>
List-Unsubscribe: <https://mails.dpdk.org/options/test-report>,
 <mailto:test-report-request@dpdk.org?subject=unsubscribe>
List-Archive: <http://mails.dpdk.org/archives/test-report/>
List-Post: <mailto:test-report@dpdk.org>
List-Help: <mailto:test-report-request@dpdk.org?subject=help>
List-Subscribe: <https://mails.dpdk.org/listinfo/test-report>,
 <mailto:test-report-request@dpdk.org?subject=subscribe>
Errors-To: test-report-bounces@dpdk.org

Test-Label: iol-compile-arm64-testing
Test-Status: SUCCESS
http://dpdk.org/patch/138151

_Testing PASS_

Submitter: Thierry Herbelot <thierry.herbelot@6wind.com>
Date: Monday, March 11 2024 11:57:22 
DPDK git baseline: Repo:dpdk
  Branch: master
  CommitID:a2a2ce171d00b8f27c8c43c37d5dd8505d8f2e89

138151 --> testing pass

Test environment and result as below:

+----------------------------------------+--------------------+
|              Environment               | dpdk_meson_compile |
+========================================+====================+
| Ubuntu 20.04 ARM SVE                   | PASS               |
+----------------------------------------+--------------------+
| Debian 12 with MUSDK                   | PASS               |
+----------------------------------------+--------------------+
| Ubuntu 20.04 aarch32 GCC Cross Compile | PASS               |
+----------------------------------------+--------------------+
| Fedora 38 (ARM)                        | PASS               |
+----------------------------------------+--------------------+
| Fedora 37 (ARM)                        | PASS               |
+----------------------------------------+--------------------+
| Debian 11 (Buster) (ARM)               | PASS               |
+----------------------------------------+--------------------+
| Ubuntu 20.04 (ARM)                     | PASS               |
+----------------------------------------+--------------------+
| CentOS Stream 9 (ARM)                  | PASS               |
+----------------------------------------+--------------------+
| Ubuntu 20.04 ARM Clang Cross Compile   | PASS               |
+----------------------------------------+--------------------+
| Debian 12 (arm)                        | PASS               |
+----------------------------------------+--------------------+


Ubuntu 20.04 ARM SVE
	Kernel: 5.4.0-80-generic
	Compiler: gcc 10.3.0 (Ubuntu 10.3.0-1ubuntu1~20.04)

Debian 12 with MUSDK
	Kernel: Container Host Kernel
	Compiler: gcc 12

Ubuntu 20.04 aarch32 GCC Cross Compile
	Kernel: 5.4.0-72-generic
	Compiler: gcc 9.3.0

Fedora 38 (ARM)
	Kernel: Depends on container host
	Compiler: gcc 13.1.1

Fedora 37 (ARM)
	Kernel: Depends on container host
	Compiler: gcc 12.3.1

Debian 11 (Buster) (ARM)
	Kernel: Container Host Kernel
	Compiler: gcc 10.2.1

Ubuntu 20.04 (ARM)
	Kernel: Container Host Kernel
	Compiler: gcc 9.4.0

CentOS Stream 9 (ARM)
	Kernel: Container Host Kernel
	Compiler: gcc 11.3.1

Ubuntu 20.04 ARM Clang Cross Compile
	Kernel: 5.4.0-72-generic
	Compiler: clang version 10.0.0-4ubuntu1

Debian 12 (arm)
	Kernel: Container Host Kernel
	Compiler: gcc 11

To view detailed results, visit:
https://lab.dpdk.org/results/dashboard/patchsets/29498/

UNH-IOL DPDK Community Lab

To manage your email subscriptions, visit: 
https://lab.dpdk.org/results/dashboard/preferences/subscriptions/