From mboxrd@z Thu Jan  1 00:00:00 1970
Return-Path: <test-report-bounces@dpdk.org>
Received: from mails.dpdk.org (mails.dpdk.org [217.70.189.124])
	by inbox.dpdk.org (Postfix) with ESMTP id 33BED43C89
	for <public@inbox.dpdk.org>; Mon, 11 Mar 2024 16:34:34 +0100 (CET)
Received: from mails.dpdk.org (localhost [127.0.0.1])
	by mails.dpdk.org (Postfix) with ESMTP id 2BF224027C;
	Mon, 11 Mar 2024 16:34:34 +0100 (CET)
Received: from mail-qv1-f100.google.com (mail-qv1-f100.google.com
 [209.85.219.100])
 by mails.dpdk.org (Postfix) with ESMTP id EABC14026B
 for <test-report@dpdk.org>; Mon, 11 Mar 2024 16:34:32 +0100 (CET)
Received: by mail-qv1-f100.google.com with SMTP id
 6a1803df08f44-690db6edb2bso3196056d6.2
 for <test-report@dpdk.org>; Mon, 11 Mar 2024 08:34:32 -0700 (PDT)
DKIM-Signature: v=1; a=rsa-sha256; c=relaxed/relaxed;
 d=iol.unh.edu; s=unh-iol; t=1710171272; x=1710776072; darn=dpdk.org;
 h=references:in-reply-to:cc:to:from:subject:message-id:date:from:to
 :cc:subject:date:message-id:reply-to;
 bh=QYgEBd5Vgt5rEbWBehzgLZtk/NUbGxMx3guwQX3QcbY=;
 b=bQuEN8YGiKIoL1dTlOrjxQbD62WK5vHQEfQyXTSNnK5VvBrmjAvjR5gbbCHQfXiKIr
 kZRfNiPXmh1fT6dsnEw7DMCoxzLIcYlCzDvkuTKCfccc0m2hLu+lk7r9VIrcqJBdjMWy
 zjHcIGDFqfC/J7pdYVBK/BmSwirhK/lkFTB1Q=
X-Google-DKIM-Signature: v=1; a=rsa-sha256; c=relaxed/relaxed;
 d=1e100.net; s=20230601; t=1710171272; x=1710776072;
 h=references:in-reply-to:cc:to:from:subject:message-id:date
 :x-gm-message-state:from:to:cc:subject:date:message-id:reply-to;
 bh=QYgEBd5Vgt5rEbWBehzgLZtk/NUbGxMx3guwQX3QcbY=;
 b=U7TkDFcHWClauucXXzW7Gw9mDqtjZAyayCFcpfC8q5zB6iglz+t6tOAxcN9Uf3HILW
 wJOHOrXimaHvzGZQbrnh+qyZlW6EOtEuA4Gc6QI2t01FDlmnFgRYJT3k3qm4fTRk3jc4
 ngV88ZRGt6ZMTGqVoQ3XmMVdAcJ/ALKp0ApmfdjaUQK6EwvH8RUHiezUFY6nAvb/LOIX
 84BEFze8Bxd9CbG6nqIIF8SONnSfWs/NLmmkGWx7hGiRdGkEfA5KNbIXqEqZ657n9EJ6
 CE/sNYTgHDr8whIxQoON0Zh+xA7+iNCkRUsGgjuIwmYU1hjQ2OgkvKjY15ndFZhLNBJN
 J+QA==
X-Gm-Message-State: AOJu0YyLbTc5P3ILFOM5oStOD2f+TOz4biOBExxdalYi6uefCuyYrrRc
 6k6f746RGlm9QWr73mmf55M6mP5EcyaHhNK2nD9cXN2tL9kYsisKYiWZ5w6Q16AVplUzCX8mbBH
 +c4EqDYAdmpAVt67BqQ3IX+PUjCVghWxdvWI/zN1f
X-Google-Smtp-Source: AGHT+IHO6y8V4C2FfYYjOezOZap4/MduT/0ZMVxbdEFpQv/jn1cfnnPe6TDaq6+F0oOp2w+fZEUmHfQNEurn
X-Received: by 2002:a05:6214:528b:b0:690:d98e:e70f with SMTP id
 kj11-20020a056214528b00b00690d98ee70fmr1862092qvb.31.1710171271534; 
 Mon, 11 Mar 2024 08:34:31 -0700 (PDT)
Received: from postal.iol.unh.edu (postal.iol.unh.edu. [132.177.123.84])
 by smtp-relay.gmail.com with ESMTPS id
 im11-20020a056214246b00b0068f65d976b4sm249787qvb.1.2024.03.11.08.34.31
 (version=TLS1_2 cipher=ECDHE-ECDSA-AES128-GCM-SHA256 bits=128/128);
 Mon, 11 Mar 2024 08:34:31 -0700 (PDT)
X-Relaying-Domain: iol.unh.edu
Date: Mon, 11 Mar 2024 08:34:31 -0700 (PDT)
Message-ID: <65ef2487.050a0220.5159f.01d2SMTPIN_ADDED_MISSING@mx.google.com>
Received: from [172.17.0.7] (unknown [172.18.0.217])
 by postal.iol.unh.edu (Postfix) with ESMTP id 3A8E06052471;
 Mon, 11 Mar 2024 11:34:31 -0400 (EDT)
Subject: |SUCCESS| pw138153-138157 [PATCH] [v9,5/5] test: add unit test for p
From: dpdklab@iol.unh.edu
To: Test Report <test-report@dpdk.org>
Cc: dpdk-test-reports@iol.unh.edu
In-Reply-To: <20240311144706.204831-6-paul.szczepanek@arm.com>
References: <20240311144706.204831-6-paul.szczepanek@arm.com>
Content-Type: text/plain
X-BeenThere: test-report@dpdk.org
X-Mailman-Version: 2.1.29
Precedence: list
List-Id: automatic DPDK test reports <test-report.dpdk.org>
List-Unsubscribe: <https://mails.dpdk.org/options/test-report>,
 <mailto:test-report-request@dpdk.org?subject=unsubscribe>
List-Archive: <http://mails.dpdk.org/archives/test-report/>
List-Post: <mailto:test-report@dpdk.org>
List-Help: <mailto:test-report-request@dpdk.org?subject=help>
List-Subscribe: <https://mails.dpdk.org/listinfo/test-report>,
 <mailto:test-report-request@dpdk.org?subject=subscribe>
Errors-To: test-report-bounces@dpdk.org

Test-Label: iol-compile-amd64-testing
Test-Status: SUCCESS
http://dpdk.org/patch/138157

_Testing PASS_

Submitter: Paul Szczepanek <paul.szczepanek@arm.com>
Date: Monday, March 11 2024 14:47:06 
DPDK git baseline: Repo:dpdk
  Branch: master
  CommitID:a86f381b826660e88794754c41d3aec79ce9b87c

138153-138157 --> testing pass

Test environment and result as below:

+---------------------+--------------------+----------------------+
|     Environment     | dpdk_meson_compile | dpdk_mingw64_compile |
+=====================+====================+======================+
| Windows Server 2022 | PASS               | SKIPPED              |
+---------------------+--------------------+----------------------+
| FreeBSD 13.2        | PASS               | SKIPPED              |
+---------------------+--------------------+----------------------+
| CentOS Stream 8     | PASS               | SKIPPED              |
+---------------------+--------------------+----------------------+
| Debian Bullseye     | PASS               | SKIPPED              |
+---------------------+--------------------+----------------------+
| CentOS Stream 9     | PASS               | SKIPPED              |
+---------------------+--------------------+----------------------+
| Debian 12 (arm)     | PASS               | SKIPPED              |
+---------------------+--------------------+----------------------+
| Windows Server 2019 | PASS               | PASS                 |
+---------------------+--------------------+----------------------+
| Fedora 37           | PASS               | SKIPPED              |
+---------------------+--------------------+----------------------+
| Ubuntu 22.04        | PASS               | SKIPPED              |
+---------------------+--------------------+----------------------+
| RHEL8               | PASS               | SKIPPED              |
+---------------------+--------------------+----------------------+
| Fedora 38           | PASS               | SKIPPED              |
+---------------------+--------------------+----------------------+
| openSUSE Leap 15    | PASS               | SKIPPED              |
+---------------------+--------------------+----------------------+
| Ubuntu 20.04        | PASS               | SKIPPED              |
+---------------------+--------------------+----------------------+


Windows Server 2022
	Kernel: OS Build 20348.2031
	Compiler: MSVC VS-Preview

FreeBSD 13.2
	Kernel: 13.2
	Compiler: clang 11.3.0

CentOS Stream 8
	Kernel: 4.18.0-240.10.1.el8_3.x86_64
	Compiler: gcc 8.4.1 20200928

Debian Bullseye
	Kernel: 5.4.0-122-generic
	Compiler: gcc 10.2.1-6

CentOS Stream 9
	Kernel: 4.18.0-240.10.1.el8_3.x86_64
	Compiler: gcc 11.3.1 20220421

Debian 12 (arm)
	Kernel: Container Host Kernel
	Compiler: gcc 11

Windows Server 2019
	Kernel: 10.0
	Compiler: clang 14.0 and gcc 8.1.0 (MinGW)

Fedora 37
	Kernel: Depends on container host system
	Compiler: gcc 12.3.1

Ubuntu 22.04
	Kernel: 4.18.0-240.10.1.el8_3.x86_64
	Compiler: gcc 11.3.0

RHEL8
	Kernel: 4.18.0-240.10.1.el8_3.x86_64
	Compiler: gcc 8.3.1 20191121 (Red Hat 8.3.1-5)

Fedora 38
	Kernel: Depends on container host
	Compiler: gcc 13.1.1

openSUSE Leap 15
	Kernel: 4.18.0-240.10.1.el8_3.x86_64
	Compiler: gcc 7.5.0

Ubuntu 20.04
	Kernel: 5.4.0-153-generic
	Compiler: gcc 9.4.0-1ubuntu1~20.04.1

To view detailed results, visit:
https://lab.dpdk.org/results/dashboard/patchsets/29500/

UNH-IOL DPDK Community Lab

To manage your email subscriptions, visit: 
https://lab.dpdk.org/results/dashboard/preferences/subscriptions/