From mboxrd@z Thu Jan  1 00:00:00 1970
Return-Path: <test-report-bounces@dpdk.org>
Received: from mails.dpdk.org (mails.dpdk.org [217.70.189.124])
	by inbox.dpdk.org (Postfix) with ESMTP id 66E4F43C89
	for <public@inbox.dpdk.org>; Mon, 11 Mar 2024 16:39:43 +0100 (CET)
Received: from mails.dpdk.org (localhost [127.0.0.1])
	by mails.dpdk.org (Postfix) with ESMTP id 60FD34027C;
	Mon, 11 Mar 2024 16:39:43 +0100 (CET)
Received: from mail-ot1-f98.google.com (mail-ot1-f98.google.com
 [209.85.210.98]) by mails.dpdk.org (Postfix) with ESMTP id 012614026B
 for <test-report@dpdk.org>; Mon, 11 Mar 2024 16:39:41 +0100 (CET)
Received: by mail-ot1-f98.google.com with SMTP id
 46e09a7af769-6e5343b915fso131591a34.1
 for <test-report@dpdk.org>; Mon, 11 Mar 2024 08:39:41 -0700 (PDT)
DKIM-Signature: v=1; a=rsa-sha256; c=relaxed/relaxed;
 d=iol.unh.edu; s=unh-iol; t=1710171581; x=1710776381; darn=dpdk.org;
 h=references:in-reply-to:cc:to:from:subject:message-id:date:from:to
 :cc:subject:date:message-id:reply-to;
 bh=L89pKuLZCXnVsqSRUvqRDrSPO3vFS2nrSZeMG+DInaM=;
 b=Y+Mu0coqNaMKpfhbklQ03bxO96P4/aDRKKuiI+6nqAyS6VyvhR/vFTtjpT5Vsde0xi
 yL2oSONNFd0P+waBL3gDK84rVCeQkqtyD7zY8bSVizeAUzLkrE7xeultPVgC8qiZ9SCr
 fdQxQYgOawySGi26XDa00I6QhWiVGF6VlKbYA=
X-Google-DKIM-Signature: v=1; a=rsa-sha256; c=relaxed/relaxed;
 d=1e100.net; s=20230601; t=1710171581; x=1710776381;
 h=references:in-reply-to:cc:to:from:subject:message-id:date
 :x-gm-message-state:from:to:cc:subject:date:message-id:reply-to;
 bh=L89pKuLZCXnVsqSRUvqRDrSPO3vFS2nrSZeMG+DInaM=;
 b=VSGrSSpbVs5TC/y03nw/F23UTMuRHxAQyYPa5FgOsB9kGLEvjJnkTLhGuXl7nzNNYo
 Vb4/cZSAmfjEAdndH+KIvyzAdF3SpEpKD59Uw6humOo/g9fS2R1WhVlO98R5YMsVNgmd
 9WehRjBRepVtnlkNMvyiS/agwdfUh21bIvwR+Uyk/lHZNcRaz5LjOAtWHJu1wH0qxB3K
 6ELP4W9GpLmtRK7xLme5Pzgl5xQHoDDc0tqdpUYQT3eiUHoNEyPEP0/dRp9ITdH6Qp6i
 8mlX9wabcX4gtjuzsPl8XKsuCzBFglT6aGdUSCC2vWsWUq1rV47CVI4QPqXBji2ZdkRT
 V22Q==
X-Gm-Message-State: AOJu0YzrsBZrxr80K57oq6Yzm8biAvA0y6Do4FrzvUmnWje6/T25Mp8i
 wxoP1B/esDUxrngQzSka9LQccj0UNY7AGkqc8Iqq6FAI9dy9CNo9Om3R1l2Wgbfuy1VqyIXiLB1
 9MJxdJkpxUbnyhlh0TTnW9zyXtN9xFxncM6CfFDOeF+SN7pGMEWC7Jb+X
X-Google-Smtp-Source: AGHT+IGqQMtvs6e+OP125hnxP0KoKWxUHJ41/d1PKAcnolkTqCUVVjp5u7SfR7YQArIeKa9lHXBhl3d2hWxR
X-Received: by 2002:a05:6870:1e8c:b0:221:21ca:1523 with SMTP id
 pb12-20020a0568701e8c00b0022121ca1523mr894122oab.17.1710171581241; 
 Mon, 11 Mar 2024 08:39:41 -0700 (PDT)
Received: from postal.iol.unh.edu (postal.iol.unh.edu.
 [2606:4100:3880:1234::84]) by smtp-relay.gmail.com with ESMTPS id
 bp32-20020a05620a45a000b0078845fafa9esm174834qkb.9.2024.03.11.08.39.41
 (version=TLS1_2 cipher=ECDHE-ECDSA-AES128-GCM-SHA256 bits=128/128);
 Mon, 11 Mar 2024 08:39:41 -0700 (PDT)
X-Relaying-Domain: iol.unh.edu
Date: Mon, 11 Mar 2024 08:39:41 -0700 (PDT)
Message-ID: <65ef25bd.050a0220.83bd1.833eSMTPIN_ADDED_MISSING@mx.google.com>
Received: from [172.17.0.7] (unknown [172.18.0.217])
 by postal.iol.unh.edu (Postfix) with ESMTP id EFED96052471;
 Mon, 11 Mar 2024 11:39:40 -0400 (EDT)
Subject: |SUCCESS| pw138153-138157 [PATCH] [v9,5/5] test: add unit test for p
From: dpdklab@iol.unh.edu
To: Test Report <test-report@dpdk.org>
Cc: dpdk-test-reports@iol.unh.edu
In-Reply-To: <20240311144706.204831-6-paul.szczepanek@arm.com>
References: <20240311144706.204831-6-paul.szczepanek@arm.com>
Content-Type: text/plain
X-BeenThere: test-report@dpdk.org
X-Mailman-Version: 2.1.29
Precedence: list
List-Id: automatic DPDK test reports <test-report.dpdk.org>
List-Unsubscribe: <https://mails.dpdk.org/options/test-report>,
 <mailto:test-report-request@dpdk.org?subject=unsubscribe>
List-Archive: <http://mails.dpdk.org/archives/test-report/>
List-Post: <mailto:test-report@dpdk.org>
List-Help: <mailto:test-report-request@dpdk.org?subject=help>
List-Subscribe: <https://mails.dpdk.org/listinfo/test-report>,
 <mailto:test-report-request@dpdk.org?subject=subscribe>
Errors-To: test-report-bounces@dpdk.org

Test-Label: iol-compile-arm64-testing
Test-Status: SUCCESS
http://dpdk.org/patch/138157

_Testing PASS_

Submitter: Paul Szczepanek <paul.szczepanek@arm.com>
Date: Monday, March 11 2024 14:47:06 
DPDK git baseline: Repo:dpdk
  Branch: master
  CommitID:a86f381b826660e88794754c41d3aec79ce9b87c

138153-138157 --> testing pass

Test environment and result as below:

+----------------------------------------+--------------------+
|              Environment               | dpdk_meson_compile |
+========================================+====================+
| Ubuntu 20.04 ARM SVE                   | PASS               |
+----------------------------------------+--------------------+
| Debian 12 with MUSDK                   | PASS               |
+----------------------------------------+--------------------+
| Ubuntu 20.04 aarch32 GCC Cross Compile | PASS               |
+----------------------------------------+--------------------+
| Ubuntu 20.04 ARM GCC Cross Compile     | PASS               |
+----------------------------------------+--------------------+
| Ubuntu 20.04 ARM Clang Cross Compile   | PASS               |
+----------------------------------------+--------------------+
| Fedora 38 (ARM)                        | PASS               |
+----------------------------------------+--------------------+
| Fedora 37 (ARM)                        | PASS               |
+----------------------------------------+--------------------+


Ubuntu 20.04 ARM SVE
	Kernel: 5.4.0-80-generic
	Compiler: gcc 10.3.0 (Ubuntu 10.3.0-1ubuntu1~20.04)

Debian 12 with MUSDK
	Kernel: Container Host Kernel
	Compiler: gcc 12

Ubuntu 20.04 aarch32 GCC Cross Compile
	Kernel: 5.4.0-72-generic
	Compiler: gcc 9.3.0

Ubuntu 20.04 ARM GCC Cross Compile
	Kernel: 5.4.0-72-generic
	Compiler: aarch64-linux-gnu-gcc (Ubuntu 9.3.0-17ubuntu1~20.04) 9.3.0

Ubuntu 20.04 ARM Clang Cross Compile
	Kernel: 5.4.0-72-generic
	Compiler: clang version 10.0.0-4ubuntu1

Fedora 38 (ARM)
	Kernel: Depends on container host
	Compiler: gcc 13.1.1

Fedora 37 (ARM)
	Kernel: Depends on container host
	Compiler: gcc 12.3.1

To view detailed results, visit:
https://lab.dpdk.org/results/dashboard/patchsets/29500/

UNH-IOL DPDK Community Lab

To manage your email subscriptions, visit: 
https://lab.dpdk.org/results/dashboard/preferences/subscriptions/