From mboxrd@z Thu Jan  1 00:00:00 1970
Return-Path: <test-report-bounces@dpdk.org>
Received: from mails.dpdk.org (mails.dpdk.org [217.70.189.124])
	by inbox.dpdk.org (Postfix) with ESMTP id D555E43C89
	for <public@inbox.dpdk.org>; Mon, 11 Mar 2024 16:40:31 +0100 (CET)
Received: from mails.dpdk.org (localhost [127.0.0.1])
	by mails.dpdk.org (Postfix) with ESMTP id CEDFE4027C;
	Mon, 11 Mar 2024 16:40:31 +0100 (CET)
Received: from mail-pf1-f226.google.com (mail-pf1-f226.google.com
 [209.85.210.226])
 by mails.dpdk.org (Postfix) with ESMTP id 632AD4026B
 for <test-report@dpdk.org>; Mon, 11 Mar 2024 16:40:30 +0100 (CET)
Received: by mail-pf1-f226.google.com with SMTP id
 d2e1a72fcca58-6e6082eab17so4124120b3a.1
 for <test-report@dpdk.org>; Mon, 11 Mar 2024 08:40:30 -0700 (PDT)
DKIM-Signature: v=1; a=rsa-sha256; c=relaxed/relaxed;
 d=iol.unh.edu; s=unh-iol; t=1710171629; x=1710776429; darn=dpdk.org;
 h=references:in-reply-to:cc:to:from:subject:message-id:date:from:to
 :cc:subject:date:message-id:reply-to;
 bh=Em06YdyjoWu0iZZ8CdimnGCJh+jU7L2jXxZoGfICKpw=;
 b=GkMBH4p/6G9t/WPJiZAqyDGLx2u2Z3wFnF8eMTv/7M17sTPAeBWHjuQR+N49/iYFPt
 PatbOTvYOxP0cKMVq2BVuA3M2bmgw3o7tHLquOEcI5x+4a6cM64jWAb53+nFdiEEqs2M
 I4SKTbAHOaLmTNUuUaLAYySaur4s9q7KVaPs8=
X-Google-DKIM-Signature: v=1; a=rsa-sha256; c=relaxed/relaxed;
 d=1e100.net; s=20230601; t=1710171629; x=1710776429;
 h=references:in-reply-to:cc:to:from:subject:message-id:date
 :x-gm-message-state:from:to:cc:subject:date:message-id:reply-to;
 bh=Em06YdyjoWu0iZZ8CdimnGCJh+jU7L2jXxZoGfICKpw=;
 b=blGwPm+CTfQ+MQUGrxIcNdr2L/VJgW3DGqYQjBiCLcTCO/VzJxkJFF6WTmR4EmmVfi
 9OHL0zBSFlFBjtkjqB2/9xROFIY1kXgFHxpvtmtK2rzhHNYYxBWNUSYxjCp/StrzO2M1
 QyJMt8ne0QMobZmEClRmUnZXi9cHf2jOnQUyXt7ceSoBiZCj8Gj55w+RWdeqJmezgOa4
 4RQEwC7J5+FdFIpb2O931xahKOsdIRtF9UOmuxSVHs25OyPYje7ZyGSHm5oADpeZMJ/u
 Xn+sjXR25WGnZ9V5bwq6M+K9dCaDaNuJ/k9J3iaE78idApgw7SuHAy/ilFsTwTweI0RU
 Q8uA==
X-Gm-Message-State: AOJu0YxsxrWW56Io1NRJh+5PbmwHTWge/V+DGUXkLN1L7NxwrW4CAkT4
 d6MMJxuZZktGtUiFeOdsbzEzh5suGdxPdAr9FZuSOPF6IYnlghKEe1QXPEgx9QcxL9KsdXkpl60
 8PYcvXHbFFUwHvkHa4NKOUxkVmjzU+MN5P7Wi1hylYKLD7fEA
X-Google-Smtp-Source: AGHT+IHK8lHQxHAAQVgz4M4vj/TBLv11Px+yB5IuyhQla1PJqF76r7eDTShdubJuLomZB6ST4wUQP+hWFBAd
X-Received: by 2002:a05:6a20:84a9:b0:1a1:6ee4:1701 with SMTP id
 u41-20020a056a2084a900b001a16ee41701mr648106pzd.27.1710171629518; 
 Mon, 11 Mar 2024 08:40:29 -0700 (PDT)
Received: from postal.iol.unh.edu (postal.iol.unh.edu.
 [2606:4100:3880:1234::84]) by smtp-relay.gmail.com with ESMTPS id
 jw18-20020a056a00929200b006e635f599d2sm358999pfb.21.2024.03.11.08.40.29
 (version=TLS1_2 cipher=ECDHE-ECDSA-AES128-GCM-SHA256 bits=128/128);
 Mon, 11 Mar 2024 08:40:29 -0700 (PDT)
X-Relaying-Domain: iol.unh.edu
Date: Mon, 11 Mar 2024 08:40:29 -0700 (PDT)
Message-ID: <65ef25ed.050a0220.2ea7f.7605SMTPIN_ADDED_MISSING@mx.google.com>
Received: from [172.17.0.7] (unknown [172.18.0.217])
 by postal.iol.unh.edu (Postfix) with ESMTP id B0E9C6052483;
 Mon, 11 Mar 2024 11:40:28 -0400 (EDT)
Subject: |SUCCESS| pw138153-138157 [PATCH] [v9,5/5] test: add unit test for p
From: dpdklab@iol.unh.edu
To: Test Report <test-report@dpdk.org>
Cc: Paul Szczepanek <paul.szczepanek@arm.com>
In-Reply-To: <20240311144706.204831-6-paul.szczepanek@arm.com>
References: <20240311144706.204831-6-paul.szczepanek@arm.com>
Content-Type: text/plain
X-BeenThere: test-report@dpdk.org
X-Mailman-Version: 2.1.29
Precedence: list
List-Id: automatic DPDK test reports <test-report.dpdk.org>
List-Unsubscribe: <https://mails.dpdk.org/options/test-report>,
 <mailto:test-report-request@dpdk.org?subject=unsubscribe>
List-Archive: <http://mails.dpdk.org/archives/test-report/>
List-Post: <mailto:test-report@dpdk.org>
List-Help: <mailto:test-report-request@dpdk.org?subject=help>
List-Subscribe: <https://mails.dpdk.org/listinfo/test-report>,
 <mailto:test-report-request@dpdk.org?subject=subscribe>
Errors-To: test-report-bounces@dpdk.org

Test-Label: iol-abi-testing
Test-Status: SUCCESS
http://dpdk.org/patch/138157

_Testing PASS_

Submitter: Paul Szczepanek <paul.szczepanek@arm.com>
Date: Monday, March 11 2024 14:47:06 
DPDK git baseline: Repo:dpdk
  Branch: master
  CommitID:a86f381b826660e88794754c41d3aec79ce9b87c

138153-138157 --> testing pass

Test environment and result as below:

+------------------+----------+
|   Environment    | abi_test |
+==================+==========+
| openSUSE Leap 15 | PASS     |
+------------------+----------+
| CentOS Stream 8  | PASS     |
+------------------+----------+
| CentOS Stream 9  | PASS     |
+------------------+----------+
| Debian 12 (arm)  | PASS     |
+------------------+----------+
| Fedora 38        | PASS     |
+------------------+----------+
| Ubuntu 22.04     | PASS     |
+------------------+----------+
| RHEL8            | PASS     |
+------------------+----------+
| Debian Bullseye  | PASS     |
+------------------+----------+


openSUSE Leap 15
	Kernel: 4.18.0-240.10.1.el8_3.x86_64
	Compiler: gcc 7.5.0

CentOS Stream 8
	Kernel: 4.18.0-240.10.1.el8_3.x86_64
	Compiler: gcc 8.4.1 20200928

CentOS Stream 9
	Kernel: 4.18.0-240.10.1.el8_3.x86_64
	Compiler: gcc 11.3.1 20220421

Debian 12 (arm)
	Kernel: Container Host Kernel
	Compiler: gcc 11

Fedora 38
	Kernel: Depends on container host
	Compiler: clang 16.0.3

Ubuntu 22.04
	Kernel: 4.18.0-240.10.1.el8_3.x86_64
	Compiler: gcc 11.3.0

RHEL8
	Kernel: 4.18.0-240.10.1.el8_3.x86_64
	Compiler: gcc 8.3.1 20191121 (Red Hat 8.3.1-5)

Debian Bullseye
	Kernel: 5.4.0-122-generic
	Compiler: gcc 10.2.1-6

To view detailed results, visit:
https://lab.dpdk.org/results/dashboard/patchsets/29500/

UNH-IOL DPDK Community Lab

To manage your email subscriptions, visit: 
https://lab.dpdk.org/results/dashboard/preferences/subscriptions/