From mboxrd@z Thu Jan  1 00:00:00 1970
Return-Path: <test-report-bounces@dpdk.org>
Received: from mails.dpdk.org (mails.dpdk.org [217.70.189.124])
	by inbox.dpdk.org (Postfix) with ESMTP id 95D4F43C89
	for <public@inbox.dpdk.org>; Mon, 11 Mar 2024 16:41:48 +0100 (CET)
Received: from mails.dpdk.org (localhost [127.0.0.1])
	by mails.dpdk.org (Postfix) with ESMTP id 902FE4027C;
	Mon, 11 Mar 2024 16:41:48 +0100 (CET)
Received: from mail-qt1-f228.google.com (mail-qt1-f228.google.com
 [209.85.160.228])
 by mails.dpdk.org (Postfix) with ESMTP id 179FA4026B
 for <test-report@dpdk.org>; Mon, 11 Mar 2024 16:41:47 +0100 (CET)
Received: by mail-qt1-f228.google.com with SMTP id
 d75a77b69052e-42a35c720b8so20282341cf.3
 for <test-report@dpdk.org>; Mon, 11 Mar 2024 08:41:47 -0700 (PDT)
DKIM-Signature: v=1; a=rsa-sha256; c=relaxed/relaxed;
 d=iol.unh.edu; s=unh-iol; t=1710171706; x=1710776506; darn=dpdk.org;
 h=references:in-reply-to:cc:to:from:subject:message-id:date:from:to
 :cc:subject:date:message-id:reply-to;
 bh=zQi6I/gRy5DYI1wmNIgPzRNURfexl1ZoDNQ7zadCAQs=;
 b=Y2as9Qt/YCH9VghcMtTd10jiKfLtqGCjioryJWqfQM/tcC/GzuTdon1Hu8IzjKRXT6
 0zNxVhjn1dh1xrwXbliVRpg1HKjzQW2gqI1dwjZlHIpD3k1SFGLFNi99jkfIjpKR5Eb+
 kHK2A1E/DrtaC2N2fUTe6cZc/aUY6uwE3t2Co=
X-Google-DKIM-Signature: v=1; a=rsa-sha256; c=relaxed/relaxed;
 d=1e100.net; s=20230601; t=1710171706; x=1710776506;
 h=references:in-reply-to:cc:to:from:subject:message-id:date
 :x-gm-message-state:from:to:cc:subject:date:message-id:reply-to;
 bh=zQi6I/gRy5DYI1wmNIgPzRNURfexl1ZoDNQ7zadCAQs=;
 b=nt5Zd1SCR+9VZxVj9DREmBOAfs2+b2XI/8CjIw/FNKreOXxFIxIiJBLZVYVVf3o02p
 TRr5nWdjiSwuNwZn82yAK8RHunt/431ctCwMPENhsSX2R3RCq5kAvsDS7lveDpxNWQWD
 LAk9Mwx+dqC9lWjlp3Ral++61wD8XNtlwEu7slziX7WF0N6ZuZZqywgi2ZsqrgmCfUS4
 9y+N285/8LnFCzorvuelCPaD8YcztTsrt+jssqeqBzu65v+yfcuJhYgDeMaOAU4RVjHv
 +BkUQ8u1sVGogl8wKuWRCThCGdanHnLJbmaL3etOQJ6Vlwc5B0IVbOOxYTPFPPqNTgVw
 inxQ==
X-Gm-Message-State: AOJu0YwyfSegn1E4jm41k0yheWKwX4SzKpBlb/7Ye6RbzCvpT6PB8O7h
 mxAcq74wnInK4ltOJP8rbJJ6rBPyJyS8TYjdOIrWAt1JYYKoKR8n5a+OFRYXiF4itndCzJGBVKq
 LhJxybQ6cYrKFuLCiBECGxfS0mxHhllkGEfYbdnfc
X-Google-Smtp-Source: AGHT+IEBlHeeS1i0OfaaqlacFl4raF+WZFoGoQ81SH72Ip93b0CsI+Ma0MaPKicybSjE01OVzpRQsr75Wtnq
X-Received: by 2002:a05:622a:4d4d:b0:42e:deb3:5c59 with SMTP id
 fe13-20020a05622a4d4d00b0042edeb35c59mr1246178qtb.13.1710171706494; 
 Mon, 11 Mar 2024 08:41:46 -0700 (PDT)
Received: from postal.iol.unh.edu (postal.iol.unh.edu. [132.177.123.84])
 by smtp-relay.gmail.com with ESMTPS id
 u3-20020a05622a010300b0042ee02f7b97sm273197qtw.7.2024.03.11.08.41.46
 (version=TLS1_2 cipher=ECDHE-ECDSA-AES128-GCM-SHA256 bits=128/128);
 Mon, 11 Mar 2024 08:41:46 -0700 (PDT)
X-Relaying-Domain: iol.unh.edu
Date: Mon, 11 Mar 2024 08:41:46 -0700 (PDT)
Message-ID: <65ef263a.050a0220.8ca6a.0763SMTPIN_ADDED_MISSING@mx.google.com>
Received: from [172.17.0.6] (unknown [172.18.0.217])
 by postal.iol.unh.edu (Postfix) with ESMTP id 2BFE96052471;
 Mon, 11 Mar 2024 11:41:46 -0400 (EDT)
Subject: |SUCCESS| pw138153-138157 [PATCH] [v9,5/5] test: add unit test for p
From: dpdklab@iol.unh.edu
To: Test Report <test-report@dpdk.org>
Cc: dpdk-test-reports@iol.unh.edu
In-Reply-To: <20240311144706.204831-6-paul.szczepanek@arm.com>
References: <20240311144706.204831-6-paul.szczepanek@arm.com>
Content-Type: text/plain
X-BeenThere: test-report@dpdk.org
X-Mailman-Version: 2.1.29
Precedence: list
List-Id: automatic DPDK test reports <test-report.dpdk.org>
List-Unsubscribe: <https://mails.dpdk.org/options/test-report>,
 <mailto:test-report-request@dpdk.org?subject=unsubscribe>
List-Archive: <http://mails.dpdk.org/archives/test-report/>
List-Post: <mailto:test-report@dpdk.org>
List-Help: <mailto:test-report-request@dpdk.org?subject=help>
List-Subscribe: <https://mails.dpdk.org/listinfo/test-report>,
 <mailto:test-report-request@dpdk.org?subject=subscribe>
Errors-To: test-report-bounces@dpdk.org

Test-Label: iol-abi-testing
Test-Status: SUCCESS
http://dpdk.org/patch/138157

_Testing PASS_

Submitter: Paul Szczepanek <paul.szczepanek@arm.com>
Date: Monday, March 11 2024 14:47:06 
DPDK git baseline: Repo:dpdk
  Branch: master
  CommitID:a86f381b826660e88794754c41d3aec79ce9b87c

138153-138157 --> testing pass

Test environment and result as below:

+------------------+----------+
|   Environment    | abi_test |
+==================+==========+
| openSUSE Leap 15 | PASS     |
+------------------+----------+
| CentOS Stream 8  | PASS     |
+------------------+----------+
| CentOS Stream 9  | PASS     |
+------------------+----------+
| Debian 12 (arm)  | PASS     |
+------------------+----------+
| Fedora 38        | PASS     |
+------------------+----------+
| Ubuntu 22.04     | PASS     |
+------------------+----------+
| RHEL8            | PASS     |
+------------------+----------+
| Debian Bullseye  | PASS     |
+------------------+----------+
| Fedora 37        | PASS     |
+------------------+----------+


openSUSE Leap 15
	Kernel: 4.18.0-240.10.1.el8_3.x86_64
	Compiler: gcc 7.5.0

CentOS Stream 8
	Kernel: 4.18.0-240.10.1.el8_3.x86_64
	Compiler: gcc 8.4.1 20200928

CentOS Stream 9
	Kernel: 4.18.0-240.10.1.el8_3.x86_64
	Compiler: gcc 11.3.1 20220421

Debian 12 (arm)
	Kernel: Container Host Kernel
	Compiler: gcc 11

Fedora 38
	Kernel: Depends on container host
	Compiler: clang 16.0.3

Ubuntu 22.04
	Kernel: 4.18.0-240.10.1.el8_3.x86_64
	Compiler: gcc 11.3.0

RHEL8
	Kernel: 4.18.0-240.10.1.el8_3.x86_64
	Compiler: gcc 8.3.1 20191121 (Red Hat 8.3.1-5)

Debian Bullseye
	Kernel: 5.4.0-122-generic
	Compiler: gcc 10.2.1-6

Fedora 37
	Kernel: Depends on container host system
	Compiler: gcc 12.3.1

To view detailed results, visit:
https://lab.dpdk.org/results/dashboard/patchsets/29500/

UNH-IOL DPDK Community Lab

To manage your email subscriptions, visit: 
https://lab.dpdk.org/results/dashboard/preferences/subscriptions/