From mboxrd@z Thu Jan  1 00:00:00 1970
Return-Path: <test-report-bounces@dpdk.org>
Received: from mails.dpdk.org (mails.dpdk.org [217.70.189.124])
	by inbox.dpdk.org (Postfix) with ESMTP id 3E75543C89
	for <public@inbox.dpdk.org>; Mon, 11 Mar 2024 16:49:16 +0100 (CET)
Received: from mails.dpdk.org (localhost [127.0.0.1])
	by mails.dpdk.org (Postfix) with ESMTP id 399144067B;
	Mon, 11 Mar 2024 16:49:16 +0100 (CET)
Received: from mail-il1-f228.google.com (mail-il1-f228.google.com
 [209.85.166.228])
 by mails.dpdk.org (Postfix) with ESMTP id BD2374027C
 for <test-report@dpdk.org>; Mon, 11 Mar 2024 16:49:14 +0100 (CET)
Received: by mail-il1-f228.google.com with SMTP id
 e9e14a558f8ab-3664b08a419so9773705ab.0
 for <test-report@dpdk.org>; Mon, 11 Mar 2024 08:49:14 -0700 (PDT)
DKIM-Signature: v=1; a=rsa-sha256; c=relaxed/relaxed;
 d=iol.unh.edu; s=unh-iol; t=1710172154; x=1710776954; darn=dpdk.org;
 h=references:in-reply-to:cc:to:from:subject:message-id:date:from:to
 :cc:subject:date:message-id:reply-to;
 bh=8YNPjcGt1euQQM+rMS8N8oAP6f7Ud66pAUrINVhkeTA=;
 b=O/qPsfjzmY7+iy4gcWUPJ2+g2TQAK/xmen0rGMtKsJRdIGBOwyL5ik6tYCxgEG6kmF
 QzP2CoUb4TijPKH5te1jHZDzwrh3cFsx6qMBv6ZlANi4ROxDlhj1DFHzR4cDDQehGRjW
 qWDVuUL10HKVG3ow74DZMRiZYFVkg8IbJz+0c=
X-Google-DKIM-Signature: v=1; a=rsa-sha256; c=relaxed/relaxed;
 d=1e100.net; s=20230601; t=1710172154; x=1710776954;
 h=references:in-reply-to:cc:to:from:subject:message-id:date
 :x-gm-message-state:from:to:cc:subject:date:message-id:reply-to;
 bh=8YNPjcGt1euQQM+rMS8N8oAP6f7Ud66pAUrINVhkeTA=;
 b=u52LJHFe8NKsRwHQ4ehsGlS8s6VoP1LrWbPuQgBmKrSCDFxDBvbfrJI3KMBpVJY+9x
 77TifE64ucKjEN1BvAfI47V8sGm5kAP5mNyY0nbGfU89ckmAaFCEeWXYrMg/4YJBqIdi
 F2tRqVlf7Rc7tVjTDFDNYtBiiYuLzWxjwewBK5PypmnHEdTX2f6q9SN1M1gnLQN/VZn9
 r5YXr/1UYDxLL591PK/P4dKB0sN6Wljp+DhoUPa1ZozyJAeKh6GGi8iDSsMFfy/Wt8XO
 fXtUxvNF6d0t1AWqIO6ta+KQQ+j7O9VaO76lQ+Msrn4OJDYVd6bfGe6ON+0e3tp1bZ7R
 x9cA==
X-Gm-Message-State: AOJu0YzNH+EO9RbcP9SuUyEUEBZtF6k+BDBOAXgm54QyO3kFckc793VU
 eiGj4NXVdRqQbHtFMz7pqN1JvC8B+a1g2GSQL2B5xcf3NIlHNqshxBGlfer90teSy6+8qt9C/XL
 lrkkKlS3acsyaakyrGpmRWdMr42zYTQTGwQrKLMml
X-Google-Smtp-Source: AGHT+IEkne9V0/L/oVHwhfO0SN50xMgN+KRoL6SB8YOxhhXzpI09buJvDP4bfjmiRn+DM676StQzvZxD3lmG
X-Received: by 2002:a05:6602:3b97:b0:7c8:c3ec:a84c with SMTP id
 dm23-20020a0566023b9700b007c8c3eca84cmr1750322iob.10.1710172154145; 
 Mon, 11 Mar 2024 08:49:14 -0700 (PDT)
Received: from postal.iol.unh.edu (postal.iol.unh.edu. [132.177.123.84])
 by smtp-relay.gmail.com with ESMTPS id
 x4-20020a056602160400b007c8a1f0ac64sm199947iow.9.2024.03.11.08.49.14
 (version=TLS1_2 cipher=ECDHE-ECDSA-AES128-GCM-SHA256 bits=128/128);
 Mon, 11 Mar 2024 08:49:14 -0700 (PDT)
X-Relaying-Domain: iol.unh.edu
Date: Mon, 11 Mar 2024 08:49:14 -0700 (PDT)
Message-ID: <65ef27fa.050a0220.b56b.d16aSMTPIN_ADDED_MISSING@mx.google.com>
Received: from [172.17.0.6] (unknown [172.18.0.217])
 by postal.iol.unh.edu (Postfix) with ESMTP id A45AE6052471;
 Mon, 11 Mar 2024 11:49:13 -0400 (EDT)
Subject: |SUCCESS| pw138153-138157 [PATCH] [v9,5/5] test: add unit test for p
From: dpdklab@iol.unh.edu
To: Test Report <test-report@dpdk.org>
Cc: dpdk-test-reports@iol.unh.edu
In-Reply-To: <20240311144706.204831-6-paul.szczepanek@arm.com>
References: <20240311144706.204831-6-paul.szczepanek@arm.com>
Content-Type: text/plain
X-BeenThere: test-report@dpdk.org
X-Mailman-Version: 2.1.29
Precedence: list
List-Id: automatic DPDK test reports <test-report.dpdk.org>
List-Unsubscribe: <https://mails.dpdk.org/options/test-report>,
 <mailto:test-report-request@dpdk.org?subject=unsubscribe>
List-Archive: <http://mails.dpdk.org/archives/test-report/>
List-Post: <mailto:test-report@dpdk.org>
List-Help: <mailto:test-report-request@dpdk.org?subject=help>
List-Subscribe: <https://mails.dpdk.org/listinfo/test-report>,
 <mailto:test-report-request@dpdk.org?subject=subscribe>
Errors-To: test-report-bounces@dpdk.org

Test-Label: iol-compile-arm64-testing
Test-Status: SUCCESS
http://dpdk.org/patch/138157

_Testing PASS_

Submitter: Paul Szczepanek <paul.szczepanek@arm.com>
Date: Monday, March 11 2024 14:47:06 
DPDK git baseline: Repo:dpdk
  Branch: master
  CommitID:a86f381b826660e88794754c41d3aec79ce9b87c

138153-138157 --> testing pass

Test environment and result as below:

+----------------------------------------+--------------------+
|              Environment               | dpdk_meson_compile |
+========================================+====================+
| Ubuntu 20.04 ARM SVE                   | PASS               |
+----------------------------------------+--------------------+
| Debian 12 with MUSDK                   | PASS               |
+----------------------------------------+--------------------+
| Ubuntu 20.04 aarch32 GCC Cross Compile | PASS               |
+----------------------------------------+--------------------+
| Ubuntu 20.04 ARM GCC Cross Compile     | PASS               |
+----------------------------------------+--------------------+
| Ubuntu 20.04 ARM Clang Cross Compile   | PASS               |
+----------------------------------------+--------------------+
| Fedora 38 (ARM)                        | PASS               |
+----------------------------------------+--------------------+
| Fedora 37 (ARM)                        | PASS               |
+----------------------------------------+--------------------+
| CentOS Stream 9 (ARM)                  | PASS               |
+----------------------------------------+--------------------+
| Debian 11 (Buster) (ARM)               | PASS               |
+----------------------------------------+--------------------+
| Ubuntu 20.04 (ARM)                     | PASS               |
+----------------------------------------+--------------------+


Ubuntu 20.04 ARM SVE
	Kernel: 5.4.0-80-generic
	Compiler: gcc 10.3.0 (Ubuntu 10.3.0-1ubuntu1~20.04)

Debian 12 with MUSDK
	Kernel: Container Host Kernel
	Compiler: gcc 12

Ubuntu 20.04 aarch32 GCC Cross Compile
	Kernel: 5.4.0-72-generic
	Compiler: gcc 9.3.0

Ubuntu 20.04 ARM GCC Cross Compile
	Kernel: 5.4.0-72-generic
	Compiler: aarch64-linux-gnu-gcc (Ubuntu 9.3.0-17ubuntu1~20.04) 9.3.0

Ubuntu 20.04 ARM Clang Cross Compile
	Kernel: 5.4.0-72-generic
	Compiler: clang version 10.0.0-4ubuntu1

Fedora 38 (ARM)
	Kernel: Depends on container host
	Compiler: gcc 13.1.1

Fedora 37 (ARM)
	Kernel: Depends on container host
	Compiler: gcc 12.3.1

CentOS Stream 9 (ARM)
	Kernel: Container Host Kernel
	Compiler: gcc 11.3.1

Debian 11 (Buster) (ARM)
	Kernel: Container Host Kernel
	Compiler: gcc 10.2.1

Ubuntu 20.04 (ARM)
	Kernel: Container Host Kernel
	Compiler: gcc 9.4.0

To view detailed results, visit:
https://lab.dpdk.org/results/dashboard/patchsets/29500/

UNH-IOL DPDK Community Lab

To manage your email subscriptions, visit: 
https://lab.dpdk.org/results/dashboard/preferences/subscriptions/