From mboxrd@z Thu Jan  1 00:00:00 1970
Return-Path: <test-report-bounces@dpdk.org>
Received: from mails.dpdk.org (mails.dpdk.org [217.70.189.124])
	by inbox.dpdk.org (Postfix) with ESMTP id DFCB543C8A
	for <public@inbox.dpdk.org>; Mon, 11 Mar 2024 18:42:38 +0100 (CET)
Received: from mails.dpdk.org (localhost [127.0.0.1])
	by mails.dpdk.org (Postfix) with ESMTP id D7E0B40687;
	Mon, 11 Mar 2024 18:42:38 +0100 (CET)
Received: from mail-pl1-f225.google.com (mail-pl1-f225.google.com
 [209.85.214.225])
 by mails.dpdk.org (Postfix) with ESMTP id 21C624027C
 for <test-report@dpdk.org>; Mon, 11 Mar 2024 18:42:37 +0100 (CET)
Received: by mail-pl1-f225.google.com with SMTP id
 d9443c01a7336-1dd68d4cff1so23342515ad.2
 for <test-report@dpdk.org>; Mon, 11 Mar 2024 10:42:37 -0700 (PDT)
DKIM-Signature: v=1; a=rsa-sha256; c=relaxed/relaxed;
 d=iol.unh.edu; s=unh-iol; t=1710178956; x=1710783756; darn=dpdk.org;
 h=references:in-reply-to:cc:to:from:subject:message-id:date:from:to
 :cc:subject:date:message-id:reply-to;
 bh=dKSF8XBvY/NDNwt77EHcr7+47CASlV2HLN4jBHwfWnw=;
 b=H/5T7KnXIU+qjZfZFewJg73WGQDgmQcz8U0FskFIJzxeKcNTVu+1ugYNyQt8OtGb0g
 odR3WuAjkZBTZEwS9sDDecrvv+LDWquCyf27zZ5tJ13OQMVGb2k6elzP+TsG9NCHnUXS
 IIeU/Ew+Sg5c97ctOAk4uQflAawXg6Rzwuc1Y=
X-Google-DKIM-Signature: v=1; a=rsa-sha256; c=relaxed/relaxed;
 d=1e100.net; s=20230601; t=1710178956; x=1710783756;
 h=references:in-reply-to:cc:to:from:subject:message-id:date
 :x-gm-message-state:from:to:cc:subject:date:message-id:reply-to;
 bh=dKSF8XBvY/NDNwt77EHcr7+47CASlV2HLN4jBHwfWnw=;
 b=mHi6Fos4jdJOZzZ/tJLYvz9lfesCqghFB6a6opaqPHH5uF92jgvTwlPy/5tJu2vAdG
 0aBLtZPliy5utG5an+ONH9MwBniDv839UDU+WiUENrbIaLCo9pPcfK6nNi+1nXre070o
 36ckdMr98MdkB0Pjrt0C6aNQqnm8Gf/wH8ueYRuHAY1cfuJoJj+hyH0lHtsEnzepAw1y
 HLq+EXOW1GYshHhydPn8Ht2Z5Jy3tRynchbXuvcYAHsG081jCIO2NTbXcZWZMo1a+0B7
 c+qvPYDAMfXKJJlecbqV1KoZOsktIqaopR0/1c1W4ovNxhiDoH0ZNat3i6aAfwzpaqIf
 AGew==
X-Gm-Message-State: AOJu0YzhQKr/bqdPyCQa6Phug8BhiqVqDrnilUdYtX2u3JUjURcWOEq9
 AiSfy9wM1DZxIh88N+bZQnt9fPLOtBqCJK8uopDQflY4uTkLdwoUhg/gTLcoobWRYgv0IePxcz4
 /n0ptQ7bYzlqHOT1xox3+v0SA6IZAEk/nc7nsMY58
X-Google-Smtp-Source: AGHT+IF517Zto2s/oLgxmEFzZdZTl7HsRpV40fI0ugezdJkegeEeKbj11FJ4TQY7YIWUdh5z12TbC113+rt6
X-Received: by 2002:a17:902:cece:b0:1dd:abb1:e1a with SMTP id
 d14-20020a170902cece00b001ddabb10e1amr1835396plg.45.1710178956319; 
 Mon, 11 Mar 2024 10:42:36 -0700 (PDT)
Received: from postal.iol.unh.edu (postal.iol.unh.edu. [132.177.123.84])
 by smtp-relay.gmail.com with ESMTPS id
 12-20020a170902e9cc00b001d91e6848c7sm103523plk.7.2024.03.11.10.42.36
 (version=TLS1_2 cipher=ECDHE-ECDSA-AES128-GCM-SHA256 bits=128/128);
 Mon, 11 Mar 2024 10:42:36 -0700 (PDT)
X-Relaying-Domain: iol.unh.edu
Date: Mon, 11 Mar 2024 10:42:36 -0700 (PDT)
Message-ID: <65ef428c.170a0220.e11b0.6426SMTPIN_ADDED_MISSING@mx.google.com>
Received: from [172.17.0.7] (unknown [172.18.0.217])
 by postal.iol.unh.edu (Postfix) with ESMTP id C1A166052471;
 Mon, 11 Mar 2024 13:42:35 -0400 (EDT)
Subject: |SUCCESS| pw138166 [PATCH] net/bnx2x: fix indentation
From: dpdklab@iol.unh.edu
To: Test Report <test-report@dpdk.org>
Cc: dpdk-test-reports@iol.unh.edu
In-Reply-To: <20240311163912.11229-1-stephen@networkplumber.org>
References: <20240311163912.11229-1-stephen@networkplumber.org>
Content-Type: text/plain
X-BeenThere: test-report@dpdk.org
X-Mailman-Version: 2.1.29
Precedence: list
List-Id: automatic DPDK test reports <test-report.dpdk.org>
List-Unsubscribe: <https://mails.dpdk.org/options/test-report>,
 <mailto:test-report-request@dpdk.org?subject=unsubscribe>
List-Archive: <http://mails.dpdk.org/archives/test-report/>
List-Post: <mailto:test-report@dpdk.org>
List-Help: <mailto:test-report-request@dpdk.org?subject=help>
List-Subscribe: <https://mails.dpdk.org/listinfo/test-report>,
 <mailto:test-report-request@dpdk.org?subject=subscribe>
Errors-To: test-report-bounces@dpdk.org

Test-Label: iol-unit-arm64-testing
Test-Status: SUCCESS
http://dpdk.org/patch/138166

_Testing PASS_

Submitter: Stephen Hemminger <stephen@networkplumber.org>
Date: Monday, March 11 2024 16:39:12 
DPDK git baseline: Repo:dpdk
  Branch: master
  CommitID:a86f381b826660e88794754c41d3aec79ce9b87c

138166 --> testing pass

Test environment and result as below:

+--------------------------+---------------------------+------------------------------+--------------+----------------+
|       Environment        | cryptodev_sw_zuc_autotest | cryptodev_sw_snow3g_autotest | lpm_autotest | dpdk_unit_test |
+==========================+===========================+==============================+==============+================+
| Debian 12 (arm)          | PASS                      | PASS                         | SKIPPED      | SKIPPED        |
+--------------------------+---------------------------+------------------------------+--------------+----------------+
| Ubuntu 20.04 ARM SVE     | SKIPPED                   | SKIPPED                      | PASS         | SKIPPED        |
+--------------------------+---------------------------+------------------------------+--------------+----------------+
| Debian 11 (Buster) (ARM) | SKIPPED                   | SKIPPED                      | SKIPPED      | PASS           |
+--------------------------+---------------------------+------------------------------+--------------+----------------+
| Fedora 38 (ARM)          | SKIPPED                   | SKIPPED                      | SKIPPED      | PASS           |
+--------------------------+---------------------------+------------------------------+--------------+----------------+
| CentOS Stream 9 (ARM)    | SKIPPED                   | SKIPPED                      | SKIPPED      | PASS           |
+--------------------------+---------------------------+------------------------------+--------------+----------------+


Debian 12 (arm)
	Kernel: Container Host Kernel
	Compiler: gcc 11

Ubuntu 20.04 ARM SVE
	Kernel: 5.4.0-80-generic
	Compiler: gcc 10.3.0 (Ubuntu 10.3.0-1ubuntu1~20.04)

Debian 11 (Buster) (ARM)
	Kernel: Container Host Kernel
	Compiler: gcc 10.2.1

Fedora 38 (ARM)
	Kernel: Depends on container host
	Compiler: gcc 13.1.1

CentOS Stream 9 (ARM)
	Kernel: Container Host Kernel
	Compiler: gcc 11.3.1

To view detailed results, visit:
https://lab.dpdk.org/results/dashboard/patchsets/29503/

UNH-IOL DPDK Community Lab

To manage your email subscriptions, visit: 
https://lab.dpdk.org/results/dashboard/preferences/subscriptions/