From mboxrd@z Thu Jan  1 00:00:00 1970
Return-Path: <test-report-bounces@dpdk.org>
Received: from mails.dpdk.org (mails.dpdk.org [217.70.189.124])
	by inbox.dpdk.org (Postfix) with ESMTP id 9310543C8A
	for <public@inbox.dpdk.org>; Mon, 11 Mar 2024 18:50:04 +0100 (CET)
Received: from mails.dpdk.org (localhost [127.0.0.1])
	by mails.dpdk.org (Postfix) with ESMTP id 8A40440687;
	Mon, 11 Mar 2024 18:50:04 +0100 (CET)
Received: from mail-io1-f98.google.com (mail-io1-f98.google.com
 [209.85.166.98]) by mails.dpdk.org (Postfix) with ESMTP id 0C4454027C
 for <test-report@dpdk.org>; Mon, 11 Mar 2024 18:49:59 +0100 (CET)
Received: by mail-io1-f98.google.com with SMTP id
 ca18e2360f4ac-7c8c71ebe33so16138739f.3
 for <test-report@dpdk.org>; Mon, 11 Mar 2024 10:49:58 -0700 (PDT)
DKIM-Signature: v=1; a=rsa-sha256; c=relaxed/relaxed;
 d=iol.unh.edu; s=unh-iol; t=1710179398; x=1710784198; darn=dpdk.org;
 h=references:in-reply-to:cc:to:from:subject:message-id:date:from:to
 :cc:subject:date:message-id:reply-to;
 bh=psrQy4PVtQphoKrUOr0B9rkyQkazOwvfqxZX47kkKco=;
 b=grfbCF4JHay0fS5w4R1ktxPKbr+6sFqk91w4XS19QxgdqKFV/QJD8udGHXiwxIfH+E
 jZknx2nymsPcSWFw/+nSFIwFfnN8/2tVMWBkXMzjQILc2kokAV7H5Qm0H/MgXwEpkSFB
 my3Y02Mm3Cyp2p+XxncyyiIdveakBrHSy7wWE=
X-Google-DKIM-Signature: v=1; a=rsa-sha256; c=relaxed/relaxed;
 d=1e100.net; s=20230601; t=1710179398; x=1710784198;
 h=references:in-reply-to:cc:to:from:subject:message-id:date
 :x-gm-message-state:from:to:cc:subject:date:message-id:reply-to;
 bh=psrQy4PVtQphoKrUOr0B9rkyQkazOwvfqxZX47kkKco=;
 b=qDsnUf1LY76XGAapqJ2zD2wvrJ4mJZSsG/x5eYpuhkn9mzopCO06g8/DDN/QWWOHhK
 wadfX7CQkAv17JxeZxgvZJUrZS0driNI6iPzl7A3jP+v4t9eU5sNBT6JoLXSJvTDVUKS
 5bBi1EtSLeyPJiio4a6f5RKhGlOs2Z/tekVfFBbkzdXn9a/kkiJ8544+AE4Z2XcwL9ye
 mPIpgm0yQH+1Zr1POaDv74B+2kR1kqKvAPG3GYrcH8d7yXMEPj4ezhmT92x+EvX3uX6+
 VKDUQCBMQ9g7g4alYDJ7DXd6XApCRRZYbwyg4NLPfL3cZQvIfDhEwZ4e5y1t5MsFBUJ0
 ovyw==
X-Gm-Message-State: AOJu0YwtldZvCxiaMrlpeOBweur4LKhVydovsCyS0Zd1ZpDAbckCAH2x
 owtugAHPCNvW+FOuEEqPJlBTkf29GnsvKyo/bFDYT893M3krD5x0qv2FFcRFCwZl4wVadZCCQ88
 0aA5HknlS2vweP/ukcn/pvDgoC3MFV04VjsjGm7gX
X-Google-Smtp-Source: AGHT+IGYYhKVtfrXfTna87aXhpRqknaeFHbzx+XtxHzbM9wNJzk2yyDVnFUw7anBYxgfjiFmEQXPPrPZqVYN
X-Received: by 2002:a5e:8d16:0:b0:7c8:ba86:2aab with SMTP id
 m22-20020a5e8d16000000b007c8ba862aabmr3952962ioj.3.1710179398417; 
 Mon, 11 Mar 2024 10:49:58 -0700 (PDT)
Received: from postal.iol.unh.edu (postal.iol.unh.edu. [132.177.123.84])
 by smtp-relay.gmail.com with ESMTPS id
 ay26-20020a056638411a00b00476d5a34caasm122849jab.62.2024.03.11.10.49.58
 (version=TLS1_2 cipher=ECDHE-ECDSA-AES128-GCM-SHA256 bits=128/128);
 Mon, 11 Mar 2024 10:49:58 -0700 (PDT)
X-Relaying-Domain: iol.unh.edu
Date: Mon, 11 Mar 2024 10:49:58 -0700 (PDT)
Message-ID: <65ef4446.050a0220.700e.7417SMTPIN_ADDED_MISSING@mx.google.com>
Received: from [172.21.0.7] (unknown [172.18.0.240])
 by postal.iol.unh.edu (Postfix) with ESMTP id DEC2C6052471;
 Mon, 11 Mar 2024 13:49:57 -0400 (EDT)
Subject: |SUCCESS| pw138166 [PATCH] net/bnx2x: fix indentation
From: dpdklab@iol.unh.edu
To: Test Report <test-report@dpdk.org>
Cc: dpdk-test-reports@iol.unh.edu
In-Reply-To: <20240311163912.11229-1-stephen@networkplumber.org>
References: <20240311163912.11229-1-stephen@networkplumber.org>
Content-Type: text/plain
X-BeenThere: test-report@dpdk.org
X-Mailman-Version: 2.1.29
Precedence: list
List-Id: automatic DPDK test reports <test-report.dpdk.org>
List-Unsubscribe: <https://mails.dpdk.org/options/test-report>,
 <mailto:test-report-request@dpdk.org?subject=unsubscribe>
List-Archive: <http://mails.dpdk.org/archives/test-report/>
List-Post: <mailto:test-report@dpdk.org>
List-Help: <mailto:test-report-request@dpdk.org?subject=help>
List-Subscribe: <https://mails.dpdk.org/listinfo/test-report>,
 <mailto:test-report-request@dpdk.org?subject=subscribe>
Errors-To: test-report-bounces@dpdk.org

Test-Label: iol-unit-amd64-testing
Test-Status: SUCCESS
http://dpdk.org/patch/138166

_Testing PASS_

Submitter: Stephen Hemminger <stephen@networkplumber.org>
Date: Monday, March 11 2024 16:39:12 
DPDK git baseline: Repo:dpdk
  Branch: master
  CommitID:a86f381b826660e88794754c41d3aec79ce9b87c

138166 --> testing pass

Test environment and result as below:

+---------------------+----------------+
|     Environment     | dpdk_unit_test |
+=====================+================+
| CentOS Stream 9     | PASS           |
+---------------------+----------------+
| Debian 12 (arm)     | PASS           |
+---------------------+----------------+
| Debian Bullseye     | PASS           |
+---------------------+----------------+
| Windows Server 2019 | PASS           |
+---------------------+----------------+
| Fedora 38           | PASS           |
+---------------------+----------------+
| Fedora 37           | PASS           |
+---------------------+----------------+
| Ubuntu 20.04        | PASS           |
+---------------------+----------------+
| Ubuntu 22.04        | PASS           |
+---------------------+----------------+
| CentOS Stream 8     | PASS           |
+---------------------+----------------+
| openSUSE Leap 15    | PASS           |
+---------------------+----------------+
| RHEL8               | PASS           |
+---------------------+----------------+


CentOS Stream 9
	Kernel: 4.18.0-240.10.1.el8_3.x86_64
	Compiler: gcc 11.3.1 20220421

Debian 12 (arm)
	Kernel: Container Host Kernel
	Compiler: gcc 11

Debian Bullseye
	Kernel: 5.4.0-122-generic
	Compiler: gcc 10.2.1-6

Windows Server 2019
	Kernel: 10.0
	Compiler: clang 14.0 and gcc 8.1.0 (MinGW)

Fedora 38
	Kernel: Depends on container host
	Compiler: gcc 13.1.1

Fedora 37
	Kernel: Depends on container host system
	Compiler: gcc 12.3.1

Ubuntu 20.04
	Kernel: 5.4.0-153-generic
	Compiler: gcc 9.4.0-1ubuntu1~20.04.1

Ubuntu 22.04
	Kernel: 4.18.0-240.10.1.el8_3.x86_64
	Compiler: gcc 11.3.0

CentOS Stream 8
	Kernel: 4.18.0-240.10.1.el8_3.x86_64
	Compiler: gcc 8.4.1 20200928

openSUSE Leap 15
	Kernel: 4.18.0-240.10.1.el8_3.x86_64
	Compiler: gcc 7.5.0

RHEL8
	Kernel: 4.18.0-240.10.1.el8_3.x86_64
	Compiler: gcc 8.3.1 20191121 (Red Hat 8.3.1-5)

To view detailed results, visit:
https://lab.dpdk.org/results/dashboard/patchsets/29503/

UNH-IOL DPDK Community Lab

To manage your email subscriptions, visit: 
https://lab.dpdk.org/results/dashboard/preferences/subscriptions/