From mboxrd@z Thu Jan  1 00:00:00 1970
Return-Path: <test-report-bounces@dpdk.org>
Received: from mails.dpdk.org (mails.dpdk.org [217.70.189.124])
	by inbox.dpdk.org (Postfix) with ESMTP id A9FB743C8A
	for <public@inbox.dpdk.org>; Mon, 11 Mar 2024 18:50:18 +0100 (CET)
Received: from mails.dpdk.org (localhost [127.0.0.1])
	by mails.dpdk.org (Postfix) with ESMTP id A5FE140687;
	Mon, 11 Mar 2024 18:50:18 +0100 (CET)
Received: from mail-ot1-f98.google.com (mail-ot1-f98.google.com
 [209.85.210.98]) by mails.dpdk.org (Postfix) with ESMTP id D647C4027C
 for <test-report@dpdk.org>; Mon, 11 Mar 2024 18:50:17 +0100 (CET)
Received: by mail-ot1-f98.google.com with SMTP id
 46e09a7af769-6e4e835ee5dso1408503a34.0
 for <test-report@dpdk.org>; Mon, 11 Mar 2024 10:50:17 -0700 (PDT)
DKIM-Signature: v=1; a=rsa-sha256; c=relaxed/relaxed;
 d=iol.unh.edu; s=unh-iol; t=1710179417; x=1710784217; darn=dpdk.org;
 h=references:in-reply-to:cc:to:from:subject:message-id:date:from:to
 :cc:subject:date:message-id:reply-to;
 bh=wu/NmGT/2QDd0nqe5TwmGnUlcWbw261cP7N+1Ulyny4=;
 b=b1wlmhGlVu8EsfCj2OI52KCRocX7YZnz+dk9kTSNAymAT6TK7QKuHaWdKcjFDItajk
 lsB2PXkrtFEnNoKQ5sCqF0zupT6WA7QcgV7nL80z0S6wKlfgbwg89nC9TR0zhV0fSEKH
 zLWpEbjGbHGFUlY5RzZnDKivIsi51G53GvE44=
X-Google-DKIM-Signature: v=1; a=rsa-sha256; c=relaxed/relaxed;
 d=1e100.net; s=20230601; t=1710179417; x=1710784217;
 h=references:in-reply-to:cc:to:from:subject:message-id:date
 :x-gm-message-state:from:to:cc:subject:date:message-id:reply-to;
 bh=wu/NmGT/2QDd0nqe5TwmGnUlcWbw261cP7N+1Ulyny4=;
 b=pcWOb6hshFKaijTcGw5sqO7BKyw6yTqE5tmNEMMiNQW9rUHE18MW22axCy2WNig0nV
 zgSsEm5IxEoemeHH8Ru2Vdr39t74Ag16IdoUDABSbpOae99WrNU340J1DrwTWRIToxBd
 bS0ikNC4eUmKF9zWY3DgydEsTGfk7s64hPtCdaKnPy/UBQBimUiaeiwP33+2Hzznzqlq
 T/eyK+5yaLol9D0uZKwAetlqRcCaO7bfGLCoEW57pYTGRDK18gr2loOf+Z+hC7rEGtEs
 4pL/VEN+NmiDy4qFsdnWFGBqSO3+bm4Fc7j3Ud2g/8Wntz/WMWC9BI/PaLYQUl4wRVMy
 5Dgw==
X-Gm-Message-State: AOJu0YxXXXYPDUN6EaAnNHE6V9bveBnx93p0ePI4Io5gn+PsEhRg0NPH
 SHYQXK9Zi480rRcDmopoIlP1VfzszK+F1PAmpKKVVNlV7WsdALvHSWbZUohP92DdaoZnqh/VjF1
 Y/kZftZByhCf4AKT8UwkFZhaZiZ4Jdi5XVxDOCLdB
X-Google-Smtp-Source: AGHT+IFD/LfP2cNQ3E8rENi0xC6InV3CDz/uUEBQIrGHgcWzBHv2YLJxpXWZeVEzI+Awnqg89cU/S/0GC4PI
X-Received: by 2002:a05:6870:8190:b0:220:bd1c:6d48 with SMTP id
 k16-20020a056870819000b00220bd1c6d48mr9075305oae.49.1710179417201; 
 Mon, 11 Mar 2024 10:50:17 -0700 (PDT)
Received: from postal.iol.unh.edu (postal.iol.unh.edu. [132.177.123.84])
 by smtp-relay.gmail.com with ESMTPS id
 23-20020a056870135700b0021e108ed0fcsm89295oac.9.2024.03.11.10.50.17
 (version=TLS1_2 cipher=ECDHE-ECDSA-AES128-GCM-SHA256 bits=128/128);
 Mon, 11 Mar 2024 10:50:17 -0700 (PDT)
X-Relaying-Domain: iol.unh.edu
Date: Mon, 11 Mar 2024 10:50:17 -0700 (PDT)
Message-ID: <65ef4459.050a0220.a593f.521cSMTPIN_ADDED_MISSING@mx.google.com>
Received: from [172.17.0.7] (unknown [172.18.0.217])
 by postal.iol.unh.edu (Postfix) with ESMTP id A7E926052471;
 Mon, 11 Mar 2024 13:50:16 -0400 (EDT)
Subject: |SUCCESS| pw138166 [PATCH] net/bnx2x: fix indentation
From: dpdklab@iol.unh.edu
To: Test Report <test-report@dpdk.org>
Cc: dpdk-test-reports@iol.unh.edu
In-Reply-To: <20240311163912.11229-1-stephen@networkplumber.org>
References: <20240311163912.11229-1-stephen@networkplumber.org>
Content-Type: text/plain
X-BeenThere: test-report@dpdk.org
X-Mailman-Version: 2.1.29
Precedence: list
List-Id: automatic DPDK test reports <test-report.dpdk.org>
List-Unsubscribe: <https://mails.dpdk.org/options/test-report>,
 <mailto:test-report-request@dpdk.org?subject=unsubscribe>
List-Archive: <http://mails.dpdk.org/archives/test-report/>
List-Post: <mailto:test-report@dpdk.org>
List-Help: <mailto:test-report-request@dpdk.org?subject=help>
List-Subscribe: <https://mails.dpdk.org/listinfo/test-report>,
 <mailto:test-report-request@dpdk.org?subject=subscribe>
Errors-To: test-report-bounces@dpdk.org

Test-Label: iol-unit-arm64-testing
Test-Status: SUCCESS
http://dpdk.org/patch/138166

_Testing PASS_

Submitter: Stephen Hemminger <stephen@networkplumber.org>
Date: Monday, March 11 2024 16:39:12 
DPDK git baseline: Repo:dpdk
  Branch: master
  CommitID:a86f381b826660e88794754c41d3aec79ce9b87c

138166 --> testing pass

Test environment and result as below:

+--------------------------+---------------------------+------------------------------+--------------+----------------+
|       Environment        | cryptodev_sw_zuc_autotest | cryptodev_sw_snow3g_autotest | lpm_autotest | dpdk_unit_test |
+==========================+===========================+==============================+==============+================+
| Debian 12 (arm)          | PASS                      | PASS                         | SKIPPED      | PASS           |
+--------------------------+---------------------------+------------------------------+--------------+----------------+
| Ubuntu 20.04 ARM SVE     | SKIPPED                   | SKIPPED                      | PASS         | SKIPPED        |
+--------------------------+---------------------------+------------------------------+--------------+----------------+
| Debian 11 (Buster) (ARM) | SKIPPED                   | SKIPPED                      | SKIPPED      | PASS           |
+--------------------------+---------------------------+------------------------------+--------------+----------------+
| Fedora 38 (ARM)          | SKIPPED                   | SKIPPED                      | SKIPPED      | PASS           |
+--------------------------+---------------------------+------------------------------+--------------+----------------+
| CentOS Stream 9 (ARM)    | SKIPPED                   | SKIPPED                      | SKIPPED      | PASS           |
+--------------------------+---------------------------+------------------------------+--------------+----------------+
| Fedora 37 (ARM)          | SKIPPED                   | SKIPPED                      | SKIPPED      | PASS           |
+--------------------------+---------------------------+------------------------------+--------------+----------------+
| Ubuntu 20.04 (ARM)       | SKIPPED                   | SKIPPED                      | SKIPPED      | PASS           |
+--------------------------+---------------------------+------------------------------+--------------+----------------+


Debian 12 (arm)
	Kernel: Container Host Kernel
	Compiler: gcc 11

Ubuntu 20.04 ARM SVE
	Kernel: 5.4.0-80-generic
	Compiler: gcc 10.3.0 (Ubuntu 10.3.0-1ubuntu1~20.04)

Debian 11 (Buster) (ARM)
	Kernel: Container Host Kernel
	Compiler: gcc 10.2.1

Fedora 38 (ARM)
	Kernel: Depends on container host
	Compiler: gcc 13.1.1

CentOS Stream 9 (ARM)
	Kernel: Container Host Kernel
	Compiler: gcc 11.3.1

Fedora 37 (ARM)
	Kernel: Depends on container host
	Compiler: gcc 12.3.1

Ubuntu 20.04 (ARM)
	Kernel: Container Host Kernel
	Compiler: gcc 9.4.0

To view detailed results, visit:
https://lab.dpdk.org/results/dashboard/patchsets/29503/

UNH-IOL DPDK Community Lab

To manage your email subscriptions, visit: 
https://lab.dpdk.org/results/dashboard/preferences/subscriptions/