From mboxrd@z Thu Jan  1 00:00:00 1970
Return-Path: <test-report-bounces@dpdk.org>
Received: from mails.dpdk.org (mails.dpdk.org [217.70.189.124])
	by inbox.dpdk.org (Postfix) with ESMTP id 723BE43C8A
	for <public@inbox.dpdk.org>; Mon, 11 Mar 2024 18:55:29 +0100 (CET)
Received: from mails.dpdk.org (localhost [127.0.0.1])
	by mails.dpdk.org (Postfix) with ESMTP id 5A7D240687;
	Mon, 11 Mar 2024 18:55:29 +0100 (CET)
Received: from mail-ot1-f97.google.com (mail-ot1-f97.google.com
 [209.85.210.97]) by mails.dpdk.org (Postfix) with ESMTP id CD9C54027C
 for <test-report@dpdk.org>; Mon, 11 Mar 2024 18:55:27 +0100 (CET)
Received: by mail-ot1-f97.google.com with SMTP id
 46e09a7af769-6dc8b280155so3426160a34.0
 for <test-report@dpdk.org>; Mon, 11 Mar 2024 10:55:27 -0700 (PDT)
DKIM-Signature: v=1; a=rsa-sha256; c=relaxed/relaxed;
 d=iol.unh.edu; s=unh-iol; t=1710179727; x=1710784527; darn=dpdk.org;
 h=references:in-reply-to:cc:to:from:subject:message-id:date:from:to
 :cc:subject:date:message-id:reply-to;
 bh=wu/NmGT/2QDd0nqe5TwmGnUlcWbw261cP7N+1Ulyny4=;
 b=OLg5ys4eL9iqYsP3C2tQAvb3ubLUJ3JkvUuS9YCaeRPhsbKhdiP6Qn+PyyLx2Tyc/l
 axtqquPoAUHG2M5gB+tx9pExlBLsWK4WV47B+Dr+MoFV7MWqC8n9+KmELMXc/IGkwbGt
 nYksPrtgpzU127AL2TABthYcxtLRpmBD2hzC8=
X-Google-DKIM-Signature: v=1; a=rsa-sha256; c=relaxed/relaxed;
 d=1e100.net; s=20230601; t=1710179727; x=1710784527;
 h=references:in-reply-to:cc:to:from:subject:message-id:date
 :x-gm-message-state:from:to:cc:subject:date:message-id:reply-to;
 bh=wu/NmGT/2QDd0nqe5TwmGnUlcWbw261cP7N+1Ulyny4=;
 b=nf0SVMFgt3DbxNx4ur56Qp+2r+Haa3VFukFvBa1YjxZ7Gt68owRksdWFCxz3ExS0LL
 1feedMeSk9lYVyrE+Mej1i5/OT03leI+2BhpBUqofkvx4FPsyJ43mB/ZRFii9e12s87N
 zTG9BDbtlJj8QuMJ4K61PkDoHsiQwArNR5YIp8/GGzb9UTxBPRAWWEUTdGaS1qtfShG5
 I2apnMmbvsmDiSiCo3ksFG6oGMlucb6ylg1ZRQoE4kyDrdPsdEElsilOQMxCwxCOFPjG
 3I/gRs3a1iX7HsFOUtApeq3bZofylFDTC2MEucAZDm3ZPrsKC6uqHZEGMxS4mtnnzXST
 CXgQ==
X-Gm-Message-State: AOJu0YwY/PhebQe3YQYAYM1AOPmjoeUbnSPeosxe6nosgbLLo8gyWvs4
 SxEZm2atGAvPFytHS2zQ8f+SY35AisjRIuHYq6eUTnG1gXLEnI8OKSB6SomqxA14Pn4NxUt/uvu
 MA1cMtxoiBGKu3GnkcdTO3GLWupTuY9mkzKS4kpTM
X-Google-Smtp-Source: AGHT+IEZOJh0oJBupgc76ZiNlMEBVokkC2Oa0uAu71PZMAcTxRhUpU7GDJmXgp5akdnKKwaXB023QsIO3vMF
X-Received: by 2002:a05:6870:f10c:b0:221:91dd:6ea6 with SMTP id
 k12-20020a056870f10c00b0022191dd6ea6mr5166086oac.58.1710179727104; 
 Mon, 11 Mar 2024 10:55:27 -0700 (PDT)
Received: from postal.iol.unh.edu (postal.iol.unh.edu. [132.177.123.84])
 by smtp-relay.gmail.com with ESMTPS id
 y14-20020a056638014e00b00474b3f646c5sm151616jao.70.2024.03.11.10.55.27
 (version=TLS1_2 cipher=ECDHE-ECDSA-AES128-GCM-SHA256 bits=128/128);
 Mon, 11 Mar 2024 10:55:27 -0700 (PDT)
X-Relaying-Domain: iol.unh.edu
Date: Mon, 11 Mar 2024 10:55:27 -0700 (PDT)
Message-ID: <65ef458f.050a0220.d1f02.9321SMTPIN_ADDED_MISSING@mx.google.com>
Received: from [172.21.0.6] (unknown [172.18.0.240])
 by postal.iol.unh.edu (Postfix) with ESMTP id B084B6052471;
 Mon, 11 Mar 2024 13:55:26 -0400 (EDT)
Subject: |SUCCESS| pw138166 [PATCH] net/bnx2x: fix indentation
From: dpdklab@iol.unh.edu
To: Test Report <test-report@dpdk.org>
Cc: dpdk-test-reports@iol.unh.edu
In-Reply-To: <20240311163912.11229-1-stephen@networkplumber.org>
References: <20240311163912.11229-1-stephen@networkplumber.org>
Content-Type: text/plain
X-BeenThere: test-report@dpdk.org
X-Mailman-Version: 2.1.29
Precedence: list
List-Id: automatic DPDK test reports <test-report.dpdk.org>
List-Unsubscribe: <https://mails.dpdk.org/options/test-report>,
 <mailto:test-report-request@dpdk.org?subject=unsubscribe>
List-Archive: <http://mails.dpdk.org/archives/test-report/>
List-Post: <mailto:test-report@dpdk.org>
List-Help: <mailto:test-report-request@dpdk.org?subject=help>
List-Subscribe: <https://mails.dpdk.org/listinfo/test-report>,
 <mailto:test-report-request@dpdk.org?subject=subscribe>
Errors-To: test-report-bounces@dpdk.org

Test-Label: iol-unit-arm64-testing
Test-Status: SUCCESS
http://dpdk.org/patch/138166

_Testing PASS_

Submitter: Stephen Hemminger <stephen@networkplumber.org>
Date: Monday, March 11 2024 16:39:12 
DPDK git baseline: Repo:dpdk
  Branch: master
  CommitID:a86f381b826660e88794754c41d3aec79ce9b87c

138166 --> testing pass

Test environment and result as below:

+--------------------------+---------------------------+------------------------------+--------------+----------------+
|       Environment        | cryptodev_sw_zuc_autotest | cryptodev_sw_snow3g_autotest | lpm_autotest | dpdk_unit_test |
+==========================+===========================+==============================+==============+================+
| Debian 12 (arm)          | PASS                      | PASS                         | SKIPPED      | PASS           |
+--------------------------+---------------------------+------------------------------+--------------+----------------+
| Ubuntu 20.04 ARM SVE     | SKIPPED                   | SKIPPED                      | PASS         | SKIPPED        |
+--------------------------+---------------------------+------------------------------+--------------+----------------+
| Debian 11 (Buster) (ARM) | SKIPPED                   | SKIPPED                      | SKIPPED      | PASS           |
+--------------------------+---------------------------+------------------------------+--------------+----------------+
| Fedora 38 (ARM)          | SKIPPED                   | SKIPPED                      | SKIPPED      | PASS           |
+--------------------------+---------------------------+------------------------------+--------------+----------------+
| CentOS Stream 9 (ARM)    | SKIPPED                   | SKIPPED                      | SKIPPED      | PASS           |
+--------------------------+---------------------------+------------------------------+--------------+----------------+
| Fedora 37 (ARM)          | SKIPPED                   | SKIPPED                      | SKIPPED      | PASS           |
+--------------------------+---------------------------+------------------------------+--------------+----------------+
| Ubuntu 20.04 (ARM)       | SKIPPED                   | SKIPPED                      | SKIPPED      | PASS           |
+--------------------------+---------------------------+------------------------------+--------------+----------------+


Debian 12 (arm)
	Kernel: Container Host Kernel
	Compiler: gcc 11

Ubuntu 20.04 ARM SVE
	Kernel: 5.4.0-80-generic
	Compiler: gcc 10.3.0 (Ubuntu 10.3.0-1ubuntu1~20.04)

Debian 11 (Buster) (ARM)
	Kernel: Container Host Kernel
	Compiler: gcc 10.2.1

Fedora 38 (ARM)
	Kernel: Depends on container host
	Compiler: gcc 13.1.1

CentOS Stream 9 (ARM)
	Kernel: Container Host Kernel
	Compiler: gcc 11.3.1

Fedora 37 (ARM)
	Kernel: Depends on container host
	Compiler: gcc 12.3.1

Ubuntu 20.04 (ARM)
	Kernel: Container Host Kernel
	Compiler: gcc 9.4.0

To view detailed results, visit:
https://lab.dpdk.org/results/dashboard/patchsets/29503/

UNH-IOL DPDK Community Lab

To manage your email subscriptions, visit: 
https://lab.dpdk.org/results/dashboard/preferences/subscriptions/