From mboxrd@z Thu Jan  1 00:00:00 1970
Return-Path: <test-report-bounces@dpdk.org>
Received: from mails.dpdk.org (mails.dpdk.org [217.70.189.124])
	by inbox.dpdk.org (Postfix) with ESMTP id 4C31E43C8A
	for <public@inbox.dpdk.org>; Mon, 11 Mar 2024 19:44:33 +0100 (CET)
Received: from mails.dpdk.org (localhost [127.0.0.1])
	by mails.dpdk.org (Postfix) with ESMTP id 46D2940687;
	Mon, 11 Mar 2024 19:44:33 +0100 (CET)
Received: from mail-qv1-f100.google.com (mail-qv1-f100.google.com
 [209.85.219.100])
 by mails.dpdk.org (Postfix) with ESMTP id 5BA3E4027C
 for <test-report@dpdk.org>; Mon, 11 Mar 2024 19:44:32 +0100 (CET)
Received: by mail-qv1-f100.google.com with SMTP id
 6a1803df08f44-690cbf99143so10027376d6.3
 for <test-report@dpdk.org>; Mon, 11 Mar 2024 11:44:32 -0700 (PDT)
DKIM-Signature: v=1; a=rsa-sha256; c=relaxed/relaxed;
 d=iol.unh.edu; s=unh-iol; t=1710182672; x=1710787472; darn=dpdk.org;
 h=references:in-reply-to:cc:to:from:subject:message-id:date:from:to
 :cc:subject:date:message-id:reply-to;
 bh=7EG+TNzW3LppheDR0XhfbxLmprT029a2762yzN8HduQ=;
 b=HIUSbHI+ziDs91vUaWyJZUdBehYcQbvxqmcV+YiVQGoIJIEKtejMB/1lk3DjueN7IQ
 KpvejYzh8KKOxct1NEFN/bTEDiGN+bJbCcg7aWZwinonwC1dE3zccSzc1YVvwd99f9fp
 N9lXiLiA4j+YGTLrBJTXHaD76X7wUyeD0Z918=
X-Google-DKIM-Signature: v=1; a=rsa-sha256; c=relaxed/relaxed;
 d=1e100.net; s=20230601; t=1710182672; x=1710787472;
 h=references:in-reply-to:cc:to:from:subject:message-id:date
 :x-gm-message-state:from:to:cc:subject:date:message-id:reply-to;
 bh=7EG+TNzW3LppheDR0XhfbxLmprT029a2762yzN8HduQ=;
 b=GNeOpLhSYetFSPXAJVSJTeso46PKkckv5GFhtX6wgllS8TWzT67AFYB4yHNIx4VwIp
 eOdT6ggORHwk952zSoUKlRimx667y0sJr3HDgpCijpwx+n4qkNFnEaPcXOPk5E7Mxckz
 Wz27ychuVhlwWoJo1WhJs1jP9rkvVf5hTH0g36+VTI4sG4RMHgF4gpLGg5Kdg6VGwVPC
 zHan2S7B3rZnNBbtMLY5sKpOAIcICOMq5BDwGSzkQOGtNi5ly4SLV1ERW53bLOvewRWF
 x3Z0pOsKqbPwPH5WkGAQYtjT6oZ1KV42D657hRAoPU8dZ5yee/gVsU/PQVdIwiu1qS41
 GFPA==
X-Gm-Message-State: AOJu0YwJejV03RfmjvJTqzy0kRe3UHeBS1SUCpHXw+nmAKOt7qHnmzVK
 q7EHoxN6phqeE0Ss0GDn6fNsvBoPhTmHtXPZ2/QiBtcFG7Fn5YIEdfqPwgexK1UvZAWLSDu6uqD
 ywOkQo1Zus8KBSJDYU2FH+leTjXDdYwHhADlMOYRvP2/0daQEyzkEOXhf
X-Google-Smtp-Source: AGHT+IHAAt81Ya0BdUit790k0eVP3D8Wf1hF857yttJfOLwiqJXdXaK0VhHPQajyua7e8M+kQv/uK05PXe6v
X-Received: by 2002:a0c:e910:0:b0:690:b19c:830d with SMTP id
 a16-20020a0ce910000000b00690b19c830dmr8403746qvo.14.1710182671855; 
 Mon, 11 Mar 2024 11:44:31 -0700 (PDT)
Received: from postal.iol.unh.edu (postal.iol.unh.edu.
 [2606:4100:3880:1234::84]) by smtp-relay.gmail.com with ESMTPS id
 im11-20020a056214246b00b0068f65d976b4sm270767qvb.1.2024.03.11.11.44.31
 (version=TLS1_2 cipher=ECDHE-ECDSA-AES128-GCM-SHA256 bits=128/128);
 Mon, 11 Mar 2024 11:44:31 -0700 (PDT)
X-Relaying-Domain: iol.unh.edu
Date: Mon, 11 Mar 2024 11:44:31 -0700 (PDT)
Message-ID: <65ef510f.050a0220.5159f.11bdSMTPIN_ADDED_MISSING@mx.google.com>
Received: from [172.21.0.6] (unknown [172.18.0.240])
 by postal.iol.unh.edu (Postfix) with ESMTP id 9192D6052471;
 Mon, 11 Mar 2024 14:44:31 -0400 (EDT)
Subject: |SUCCESS| pw138159-138165 [PATCH] [v9,7/7] dts: add pmd_buffer_scatt
From: dpdklab@iol.unh.edu
To: Test Report <test-report@dpdk.org>
Cc: dpdk-test-reports@iol.unh.edu
In-Reply-To: <20240311154405.13269-8-jspewock@iol.unh.edu>
References: <20240311154405.13269-8-jspewock@iol.unh.edu>
Content-Type: text/plain
X-BeenThere: test-report@dpdk.org
X-Mailman-Version: 2.1.29
Precedence: list
List-Id: automatic DPDK test reports <test-report.dpdk.org>
List-Unsubscribe: <https://mails.dpdk.org/options/test-report>,
 <mailto:test-report-request@dpdk.org?subject=unsubscribe>
List-Archive: <http://mails.dpdk.org/archives/test-report/>
List-Post: <mailto:test-report@dpdk.org>
List-Help: <mailto:test-report-request@dpdk.org?subject=help>
List-Subscribe: <https://mails.dpdk.org/listinfo/test-report>,
 <mailto:test-report-request@dpdk.org?subject=subscribe>
Errors-To: test-report-bounces@dpdk.org

Test-Label: iol-unit-arm64-testing
Test-Status: SUCCESS
http://dpdk.org/patch/138165

_Testing PASS_

Submitter: Jeremy Spewock <jspewock@iol.unh.edu>
Date: Monday, March 11 2024 15:44:05 
DPDK git baseline: Repo:dpdk
  Branch: master
  CommitID:a86f381b826660e88794754c41d3aec79ce9b87c

138159-138165 --> testing pass

Test environment and result as below:

+--------------------------+------------------------------+---------------------------+----------------+--------------+
|       Environment        | cryptodev_sw_snow3g_autotest | cryptodev_sw_zuc_autotest | dpdk_unit_test | lpm_autotest |
+==========================+==============================+===========================+================+==============+
| Debian 12 (arm)          | PASS                         | PASS                      | PASS           | SKIPPED      |
+--------------------------+------------------------------+---------------------------+----------------+--------------+
| CentOS Stream 9 (ARM)    | SKIPPED                      | SKIPPED                   | PASS           | SKIPPED      |
+--------------------------+------------------------------+---------------------------+----------------+--------------+
| Fedora 37 (ARM)          | SKIPPED                      | SKIPPED                   | PASS           | SKIPPED      |
+--------------------------+------------------------------+---------------------------+----------------+--------------+
| Debian 11 (Buster) (ARM) | SKIPPED                      | SKIPPED                   | PASS           | SKIPPED      |
+--------------------------+------------------------------+---------------------------+----------------+--------------+
| Fedora 38 (ARM)          | SKIPPED                      | SKIPPED                   | PASS           | SKIPPED      |
+--------------------------+------------------------------+---------------------------+----------------+--------------+
| Ubuntu 20.04 (ARM)       | SKIPPED                      | SKIPPED                   | PASS           | SKIPPED      |
+--------------------------+------------------------------+---------------------------+----------------+--------------+
| Ubuntu 20.04 ARM SVE     | SKIPPED                      | SKIPPED                   | SKIPPED        | PASS         |
+--------------------------+------------------------------+---------------------------+----------------+--------------+


Debian 12 (arm)
	Kernel: Container Host Kernel
	Compiler: gcc 11

CentOS Stream 9 (ARM)
	Kernel: Container Host Kernel
	Compiler: gcc 11.3.1

Fedora 37 (ARM)
	Kernel: Depends on container host
	Compiler: gcc 12.3.1

Debian 11 (Buster) (ARM)
	Kernel: Container Host Kernel
	Compiler: gcc 10.2.1

Fedora 38 (ARM)
	Kernel: Depends on container host
	Compiler: gcc 13.1.1

Ubuntu 20.04 (ARM)
	Kernel: Container Host Kernel
	Compiler: gcc 9.4.0

Ubuntu 20.04 ARM SVE
	Kernel: 5.4.0-80-generic
	Compiler: gcc 10.3.0 (Ubuntu 10.3.0-1ubuntu1~20.04)

To view detailed results, visit:
https://lab.dpdk.org/results/dashboard/patchsets/29502/

UNH-IOL DPDK Community Lab

To manage your email subscriptions, visit: 
https://lab.dpdk.org/results/dashboard/preferences/subscriptions/