From mboxrd@z Thu Jan  1 00:00:00 1970
Return-Path: <test-report-bounces@dpdk.org>
Received: from mails.dpdk.org (mails.dpdk.org [217.70.189.124])
	by inbox.dpdk.org (Postfix) with ESMTP id 8BA7843C8A
	for <public@inbox.dpdk.org>; Mon, 11 Mar 2024 19:50:39 +0100 (CET)
Received: from mails.dpdk.org (localhost [127.0.0.1])
	by mails.dpdk.org (Postfix) with ESMTP id 87E2D40687;
	Mon, 11 Mar 2024 19:50:39 +0100 (CET)
Received: from mail-pl1-f226.google.com (mail-pl1-f226.google.com
 [209.85.214.226])
 by mails.dpdk.org (Postfix) with ESMTP id 27F644027C
 for <test-report@dpdk.org>; Mon, 11 Mar 2024 19:50:35 +0100 (CET)
Received: by mail-pl1-f226.google.com with SMTP id
 d9443c01a7336-1dd878da011so11167315ad.2
 for <test-report@dpdk.org>; Mon, 11 Mar 2024 11:50:35 -0700 (PDT)
DKIM-Signature: v=1; a=rsa-sha256; c=relaxed/relaxed;
 d=iol.unh.edu; s=unh-iol; t=1710183034; x=1710787834; darn=dpdk.org;
 h=references:in-reply-to:cc:to:from:subject:message-id:date:from:to
 :cc:subject:date:message-id:reply-to;
 bh=Dlx5Y+z8QAV2QeiRtGXAAfZ7b3jxrld9DZBVMCk/e08=;
 b=R7VKHYvgtgsoGKV3NwIup64cZVY8HJZJowhxVTFon489rws5YkAqh9O5TJ/cLknUOi
 Sm6sSrIRxeYe+7GB0eyy+VhltXZv4E/ks6mSc+pNd+Hfm2B3nI2jVR0Z02uMf3mIG2nf
 mAv1oCQgikuYzkGIWc0ytnBsqtsy6Q83D3c5Q=
X-Google-DKIM-Signature: v=1; a=rsa-sha256; c=relaxed/relaxed;
 d=1e100.net; s=20230601; t=1710183034; x=1710787834;
 h=references:in-reply-to:cc:to:from:subject:message-id:date
 :x-gm-message-state:from:to:cc:subject:date:message-id:reply-to;
 bh=Dlx5Y+z8QAV2QeiRtGXAAfZ7b3jxrld9DZBVMCk/e08=;
 b=rtS9F74yavlL6sHXnL8yPhiOCAnVWzIDSrE/saVJX+TX68dhJAxWYF9C2F0Kf9xNKh
 JnB/lqtdzfAkM+q1C5evUR9+Ef5ZW2DezvexwyM3eYGyRIyUmvTz3ogQlMqnn+VVWRV9
 yCvodYpeob14AGDjbAWhpA/Ek6Cw93FSqhqbjCEg4BgZV9X4t6+fE7cd41T3epkFDaId
 8BN39Xt3syCqX4z+9emP/DadEiVSSD3Oynl1D4c9YNOYz/I1LupLXGL4mgq8VB8lZDjx
 gnTXhDrJSMFEeOfSdOTTOOiPX9e+ABL8Rf7V0mccwG2/ZFT7bwQeyIH0nL7wPvIJ3Xps
 GnXw==
X-Gm-Message-State: AOJu0Yw9XZLvhtZwmhChJID0Vc7gUVhuAeqvj9eFx7YRPWwI9fwgBOS4
 C9sOLnARMuJ+icOJtlhmeaw2VxpatvZGuTCLKQ8NON+y7zgvASSFYtqFW1IW+fCBAafpmb0pkhn
 rGH0GfMlUxlpXSrkNUfnnZ3gXshnijtwBQ/5wJNFKNGdac80e3ts4KhTS
X-Google-Smtp-Source: AGHT+IEGB0lsflAIXrSTWJdei+xydgAgYH4GkC3FJ4ulk0AwHl9XtWQhgntxQt3k2/NHlC2AV9tSUEIEpk+a
X-Received: by 2002:a17:902:d2ce:b0:1dd:a912:2dbb with SMTP id
 n14-20020a170902d2ce00b001dda9122dbbmr2113675plc.5.1710183034345; 
 Mon, 11 Mar 2024 11:50:34 -0700 (PDT)
Received: from postal.iol.unh.edu (postal.iol.unh.edu.
 [2606:4100:3880:1234::84]) by smtp-relay.gmail.com with ESMTPS id
 jg21-20020a17090326d500b001db650f702fsm115593plb.146.2024.03.11.11.50.34
 (version=TLS1_2 cipher=ECDHE-ECDSA-AES128-GCM-SHA256 bits=128/128);
 Mon, 11 Mar 2024 11:50:34 -0700 (PDT)
X-Relaying-Domain: iol.unh.edu
Date: Mon, 11 Mar 2024 11:50:34 -0700 (PDT)
Message-ID: <65ef527a.170a0220.51a82.6fd0SMTPIN_ADDED_MISSING@mx.google.com>
Received: from [172.17.0.9] (unknown [172.18.0.217])
 by postal.iol.unh.edu (Postfix) with ESMTP id CC4496052471;
 Mon, 11 Mar 2024 14:50:33 -0400 (EDT)
Subject: |SUCCESS| pw138159-138165 [PATCH] [v9,7/7] dts: add pmd_buffer_scatt
From: dpdklab@iol.unh.edu
To: Test Report <test-report@dpdk.org>
Cc: dpdk-test-reports@iol.unh.edu
In-Reply-To: <20240311154405.13269-8-jspewock@iol.unh.edu>
References: <20240311154405.13269-8-jspewock@iol.unh.edu>
Content-Type: text/plain
X-BeenThere: test-report@dpdk.org
X-Mailman-Version: 2.1.29
Precedence: list
List-Id: automatic DPDK test reports <test-report.dpdk.org>
List-Unsubscribe: <https://mails.dpdk.org/options/test-report>,
 <mailto:test-report-request@dpdk.org?subject=unsubscribe>
List-Archive: <http://mails.dpdk.org/archives/test-report/>
List-Post: <mailto:test-report@dpdk.org>
List-Help: <mailto:test-report-request@dpdk.org?subject=help>
List-Subscribe: <https://mails.dpdk.org/listinfo/test-report>,
 <mailto:test-report-request@dpdk.org?subject=subscribe>
Errors-To: test-report-bounces@dpdk.org

Test-Label: iol-unit-arm64-testing
Test-Status: SUCCESS
http://dpdk.org/patch/138165

_Testing PASS_

Submitter: Jeremy Spewock <jspewock@iol.unh.edu>
Date: Monday, March 11 2024 15:44:05 
DPDK git baseline: Repo:dpdk
  Branch: master
  CommitID:a86f381b826660e88794754c41d3aec79ce9b87c

138159-138165 --> testing pass

Test environment and result as below:

+--------------------------+------------------------------+---------------------------+----------------+--------------+
|       Environment        | cryptodev_sw_snow3g_autotest | cryptodev_sw_zuc_autotest | dpdk_unit_test | lpm_autotest |
+==========================+==============================+===========================+================+==============+
| Debian 12 (arm)          | PASS                         | PASS                      | PASS           | SKIPPED      |
+--------------------------+------------------------------+---------------------------+----------------+--------------+
| CentOS Stream 9 (ARM)    | SKIPPED                      | SKIPPED                   | PASS           | SKIPPED      |
+--------------------------+------------------------------+---------------------------+----------------+--------------+
| Fedora 37 (ARM)          | SKIPPED                      | SKIPPED                   | PASS           | SKIPPED      |
+--------------------------+------------------------------+---------------------------+----------------+--------------+
| Debian 11 (Buster) (ARM) | SKIPPED                      | SKIPPED                   | PASS           | SKIPPED      |
+--------------------------+------------------------------+---------------------------+----------------+--------------+
| Fedora 38 (ARM)          | SKIPPED                      | SKIPPED                   | PASS           | SKIPPED      |
+--------------------------+------------------------------+---------------------------+----------------+--------------+
| Ubuntu 20.04 (ARM)       | SKIPPED                      | SKIPPED                   | PASS           | SKIPPED      |
+--------------------------+------------------------------+---------------------------+----------------+--------------+
| Fedora 38 (ARM Clang)    | SKIPPED                      | SKIPPED                   | PASS           | SKIPPED      |
+--------------------------+------------------------------+---------------------------+----------------+--------------+
| Ubuntu 20.04 ARM SVE     | SKIPPED                      | SKIPPED                   | SKIPPED        | PASS         |
+--------------------------+------------------------------+---------------------------+----------------+--------------+


Debian 12 (arm)
	Kernel: Container Host Kernel
	Compiler: gcc 11

CentOS Stream 9 (ARM)
	Kernel: Container Host Kernel
	Compiler: gcc 11.3.1

Fedora 37 (ARM)
	Kernel: Depends on container host
	Compiler: gcc 12.3.1

Debian 11 (Buster) (ARM)
	Kernel: Container Host Kernel
	Compiler: gcc 10.2.1

Fedora 38 (ARM)
	Kernel: Depends on container host
	Compiler: gcc 13.1.1

Ubuntu 20.04 (ARM)
	Kernel: Container Host Kernel
	Compiler: gcc 9.4.0

Fedora 38 (ARM Clang)
	Kernel: Depends on container host
	Compiler: clang 16.0.3

Ubuntu 20.04 ARM SVE
	Kernel: 5.4.0-80-generic
	Compiler: gcc 10.3.0 (Ubuntu 10.3.0-1ubuntu1~20.04)

To view detailed results, visit:
https://lab.dpdk.org/results/dashboard/patchsets/29502/

UNH-IOL DPDK Community Lab

To manage your email subscriptions, visit: 
https://lab.dpdk.org/results/dashboard/preferences/subscriptions/