From mboxrd@z Thu Jan  1 00:00:00 1970
Return-Path: <test-report-bounces@dpdk.org>
Received: from mails.dpdk.org (mails.dpdk.org [217.70.189.124])
	by inbox.dpdk.org (Postfix) with ESMTP id 23EEA43C8A
	for <public@inbox.dpdk.org>; Mon, 11 Mar 2024 19:54:25 +0100 (CET)
Received: from mails.dpdk.org (localhost [127.0.0.1])
	by mails.dpdk.org (Postfix) with ESMTP id 1C14040E2D;
	Mon, 11 Mar 2024 19:54:25 +0100 (CET)
Received: from mail-yw1-f226.google.com (mail-yw1-f226.google.com
 [209.85.128.226])
 by mails.dpdk.org (Postfix) with ESMTP id 708864027C
 for <test-report@dpdk.org>; Mon, 11 Mar 2024 19:54:22 +0100 (CET)
Received: by mail-yw1-f226.google.com with SMTP id
 00721157ae682-60a0579a955so34377237b3.3
 for <test-report@dpdk.org>; Mon, 11 Mar 2024 11:54:22 -0700 (PDT)
DKIM-Signature: v=1; a=rsa-sha256; c=relaxed/relaxed;
 d=iol.unh.edu; s=unh-iol; t=1710183262; x=1710788062; darn=dpdk.org;
 h=references:in-reply-to:cc:to:from:subject:message-id:date:from:to
 :cc:subject:date:message-id:reply-to;
 bh=AEMUkDhu5BSqyx8BZ8x9Hjo8/udyDnwbaYwXlANp9cU=;
 b=U9ECmGYYAgJOHB6xZE1AKttxP9Sxf8lyo13pfgKXblMgFUoyxPko5E1se3yTY3TacN
 girQnz0U6JkyDunz5ynS6EdpU39KMWehGXTO8PH4YHuPXUCP03C6DXDnQ+nhIEP8Ckp5
 LK2v/rTuryljJXKpzw/coayWRCBSlsMo/Ejtw=
X-Google-DKIM-Signature: v=1; a=rsa-sha256; c=relaxed/relaxed;
 d=1e100.net; s=20230601; t=1710183262; x=1710788062;
 h=references:in-reply-to:cc:to:from:subject:message-id:date
 :x-gm-message-state:from:to:cc:subject:date:message-id:reply-to;
 bh=AEMUkDhu5BSqyx8BZ8x9Hjo8/udyDnwbaYwXlANp9cU=;
 b=rs6g9fOEgzcKMx7D4DiSU/KXhZElDz6w7ibEGKePgGYTXqGMhYWsAsoJ/+XLPuHShI
 pO9Uj36b92mjO6lPe1YSeueTlag9c8TcuZcWCZEuxSTHbhi+LJmnLJcsYDbexN7UZx7B
 T8g2vL2M0v8DIRTbfoKQhjPECqWVOXuy+aQB3qLwaMHt/vxyY3sK5jhst8iFdFe+/JZv
 hiRqczA5ELbd80LZbms98i/5DJRgofBTjNuolOUWB5MIjTPztMTNUaAVdV4+0+bWqIdm
 ZZF+QJZQwKfrPOe4qRj62TfTrgkUPpAbG2JpOr69GDSDTXg2Rw+2l8uP7hLUwT/ECMWw
 s0ng==
X-Gm-Message-State: AOJu0YyXesccmt7qrcuC+4gW/V/T8GkjcdCvw5Nbe3M1sJp0/oplSs8L
 kIZJGD5tDSBubbQrjIKVMIYrCw9Xnb1l39N7B002akSN/NRKm5FNhAQEQvDVhjns2uoMTJ2g25M
 UAC3Kd8SOZ370d5JdCZTCnuzKb8/lqqIdiCTwMFW9D8b6RG5k90+mbag8
X-Google-Smtp-Source: AGHT+IEgy8Sh+HZwgg5gztocMQoBtm5SBtgbiSDwNfRBHNDnKS1ovOBzZpxVcBxE/paK1r7V0c//GztkSzac
X-Received: by 2002:a81:5248:0:b0:608:fa76:948e with SMTP id
 g69-20020a815248000000b00608fa76948emr6689837ywb.11.1710183261874; 
 Mon, 11 Mar 2024 11:54:21 -0700 (PDT)
Received: from postal.iol.unh.edu (postal.iol.unh.edu.
 [2606:4100:3880:1234::84]) by smtp-relay.gmail.com with ESMTPS id
 q32-20020a814320000000b00608099dfa11sm313890ywa.40.2024.03.11.11.54.21
 (version=TLS1_2 cipher=ECDHE-ECDSA-AES128-GCM-SHA256 bits=128/128);
 Mon, 11 Mar 2024 11:54:21 -0700 (PDT)
X-Relaying-Domain: iol.unh.edu
Date: Mon, 11 Mar 2024 11:54:21 -0700 (PDT)
Message-ID: <65ef535d.810a0220.e9ea5.478bSMTPIN_ADDED_MISSING@mx.google.com>
Received: from [172.21.0.7] (unknown [172.18.0.240])
 by postal.iol.unh.edu (Postfix) with ESMTP id 8DB066052472;
 Mon, 11 Mar 2024 14:54:21 -0400 (EDT)
Subject: |SUCCESS| pw138159-138165 [PATCH] [v9,7/7] dts: add pmd_buffer_scatt
From: dpdklab@iol.unh.edu
To: Test Report <test-report@dpdk.org>
Cc: dpdk-test-reports@iol.unh.edu
In-Reply-To: <20240311154405.13269-8-jspewock@iol.unh.edu>
References: <20240311154405.13269-8-jspewock@iol.unh.edu>
Content-Type: text/plain
X-BeenThere: test-report@dpdk.org
X-Mailman-Version: 2.1.29
Precedence: list
List-Id: automatic DPDK test reports <test-report.dpdk.org>
List-Unsubscribe: <https://mails.dpdk.org/options/test-report>,
 <mailto:test-report-request@dpdk.org?subject=unsubscribe>
List-Archive: <http://mails.dpdk.org/archives/test-report/>
List-Post: <mailto:test-report@dpdk.org>
List-Help: <mailto:test-report-request@dpdk.org?subject=help>
List-Subscribe: <https://mails.dpdk.org/listinfo/test-report>,
 <mailto:test-report-request@dpdk.org?subject=subscribe>
Errors-To: test-report-bounces@dpdk.org

Test-Label: iol-compile-amd64-testing
Test-Status: SUCCESS
http://dpdk.org/patch/138165

_Testing PASS_

Submitter: Jeremy Spewock <jspewock@iol.unh.edu>
Date: Monday, March 11 2024 15:44:05 
DPDK git baseline: Repo:dpdk
  Branch: master
  CommitID:a86f381b826660e88794754c41d3aec79ce9b87c

138159-138165 --> testing pass

Test environment and result as below:

+---------------------+--------------------+----------------------+
|     Environment     | dpdk_meson_compile | dpdk_mingw64_compile |
+=====================+====================+======================+
| Windows Server 2022 | PASS               | SKIPPED              |
+---------------------+--------------------+----------------------+
| FreeBSD 13.2        | PASS               | SKIPPED              |
+---------------------+--------------------+----------------------+
| Windows Server 2019 | PASS               | PASS                 |
+---------------------+--------------------+----------------------+
| CentOS Stream 8     | PASS               | SKIPPED              |
+---------------------+--------------------+----------------------+
| Fedora 37           | PASS               | SKIPPED              |
+---------------------+--------------------+----------------------+
| Debian 12 (arm)     | PASS               | SKIPPED              |
+---------------------+--------------------+----------------------+
| CentOS Stream 9     | PASS               | SKIPPED              |
+---------------------+--------------------+----------------------+
| Debian Bullseye     | PASS               | SKIPPED              |
+---------------------+--------------------+----------------------+
| Ubuntu 22.04        | PASS               | SKIPPED              |
+---------------------+--------------------+----------------------+
| RHEL8               | PASS               | SKIPPED              |
+---------------------+--------------------+----------------------+
| Fedora 38           | PASS               | SKIPPED              |
+---------------------+--------------------+----------------------+
| Ubuntu 20.04        | PASS               | SKIPPED              |
+---------------------+--------------------+----------------------+
| openSUSE Leap 15    | PASS               | SKIPPED              |
+---------------------+--------------------+----------------------+
| Alpine              | PASS               | SKIPPED              |
+---------------------+--------------------+----------------------+


Windows Server 2022
	Kernel: OS Build 20348.2031
	Compiler: MSVC VS-Preview

FreeBSD 13.2
	Kernel: 13.2
	Compiler: clang 11.3.0

Windows Server 2019
	Kernel: 10.0
	Compiler: clang 14.0 and gcc 8.1.0 (MinGW)

CentOS Stream 8
	Kernel: 4.18.0-240.10.1.el8_3.x86_64
	Compiler: gcc 8.4.1 20200928

Fedora 37
	Kernel: Depends on container host system
	Compiler: gcc 12.3.1

Debian 12 (arm)
	Kernel: Container Host Kernel
	Compiler: gcc 11

CentOS Stream 9
	Kernel: 4.18.0-240.10.1.el8_3.x86_64
	Compiler: gcc 11.3.1 20220421

Debian Bullseye
	Kernel: 5.4.0-122-generic
	Compiler: gcc 10.2.1-6

Ubuntu 22.04
	Kernel: 4.18.0-240.10.1.el8_3.x86_64
	Compiler: gcc 11.3.0

RHEL8
	Kernel: 4.18.0-240.10.1.el8_3.x86_64
	Compiler: gcc 8.3.1 20191121 (Red Hat 8.3.1-5)

Fedora 38
	Kernel: Depends on container host
	Compiler: gcc 13.1.1

Ubuntu 20.04
	Kernel: 5.4.0-153-generic
	Compiler: gcc 9.4.0-1ubuntu1~20.04.1

openSUSE Leap 15
	Kernel: 4.18.0-240.10.1.el8_3.x86_64
	Compiler: gcc 7.5.0

Alpine
	Kernel: 5.4.0-73-generic
	Compiler: gcc (Alpine 10.3.1_git20210424) 10.3.1 20210424

To view detailed results, visit:
https://lab.dpdk.org/results/dashboard/patchsets/29502/

UNH-IOL DPDK Community Lab

To manage your email subscriptions, visit: 
https://lab.dpdk.org/results/dashboard/preferences/subscriptions/