From mboxrd@z Thu Jan  1 00:00:00 1970
Return-Path: <test-report-bounces@dpdk.org>
Received: from mails.dpdk.org (mails.dpdk.org [217.70.189.124])
	by inbox.dpdk.org (Postfix) with ESMTP id 486BB43C5A
	for <public@inbox.dpdk.org>; Tue, 12 Mar 2024 01:19:12 +0100 (CET)
Received: from mails.dpdk.org (localhost [127.0.0.1])
	by mails.dpdk.org (Postfix) with ESMTP id 3DA7C402E6;
	Tue, 12 Mar 2024 01:19:12 +0100 (CET)
Received: from mail-pg1-f225.google.com (mail-pg1-f225.google.com
 [209.85.215.225])
 by mails.dpdk.org (Postfix) with ESMTP id 261B24013F
 for <test-report@dpdk.org>; Tue, 12 Mar 2024 01:19:06 +0100 (CET)
Received: by mail-pg1-f225.google.com with SMTP id
 41be03b00d2f7-5ce07cf1e5dso4166839a12.2
 for <test-report@dpdk.org>; Mon, 11 Mar 2024 17:19:06 -0700 (PDT)
DKIM-Signature: v=1; a=rsa-sha256; c=relaxed/relaxed;
 d=iol.unh.edu; s=unh-iol; t=1710202745; x=1710807545; darn=dpdk.org;
 h=references:in-reply-to:cc:to:from:subject:message-id:date:from:to
 :cc:subject:date:message-id:reply-to;
 bh=UWUWbxP/ht3CNoQHVekD/Mo37SudFS9Nc/V4iN8YW64=;
 b=cKslmgHEtWX+q/RK2N9TKYnx6dtYF5T11Q3SItVOC0/dxjHQki8O+Tjr8twzP9nfhO
 CdwCL2gNDW/9W3eNH4mw/2d6arm5/x4I9oa3F4N0uIOgHNxl1tUJWNpGIHEkIkDItf/+
 gpIWNcHh5NpG2WUkG1EzaXtNQBTmJstlkAM3k=
X-Google-DKIM-Signature: v=1; a=rsa-sha256; c=relaxed/relaxed;
 d=1e100.net; s=20230601; t=1710202745; x=1710807545;
 h=references:in-reply-to:cc:to:from:subject:message-id:date
 :x-gm-message-state:from:to:cc:subject:date:message-id:reply-to;
 bh=UWUWbxP/ht3CNoQHVekD/Mo37SudFS9Nc/V4iN8YW64=;
 b=gmeCiT1pIzUZIG+qIjFjiyCbbiMwUy/lkzWpmwhwQWekRwWj1I9GGrmd2zmqjDRQr3
 iBA2FuK8dfxyK8SHBTfPOJP+SQ2mKRkU2h/V/WeWKdeAwUocBPPpbcrsk8zAQjtuTtA2
 VUU8IsDf1QGGgZvoujJkwMTcByP4oDA7gp5ZNYV9x5sVtk1COwO++vBsU7bbJb7prm0d
 LdFzWxdgnAJ/7irH8edxhfXvx548QMikwZRBZ2Gj7BvvTmLqyQqh5xfIDT5YAxTzhyli
 KthcARm3dS7h4tFppF4hbgyYWejLpoD+XI/dw/l41RXtB3MhCJgbFyqAYVskZIJrqkHy
 VK7Q==
X-Gm-Message-State: AOJu0Yyh65Ic8+F2WQwQTpJDzmxsHHSbc+AXCplCSnrB8AiiATkaEBRn
 s31h4OxoKM1S1+BVGJj7V2Dsg8HvhrCEqjnXCZTJf+D7V/POPoIS7FotZO1FHYvIeBuvgz8x4Tm
 YGbxukP/27HUabK096V+mcbQVznq3w3LeL491YVkg
X-Google-Smtp-Source: AGHT+IHfeu3kQBDavDU0ScSYr8R2ajNdWJrYZw7XZOYLohNQzLNRRurvb8QZi3Fx8PEL93KTV4GiPr9z3OjZ
X-Received: by 2002:a05:6a20:9382:b0:1a1:3ecb:52fe with SMTP id
 x2-20020a056a20938200b001a13ecb52femr6043577pzh.0.1710202745371; 
 Mon, 11 Mar 2024 17:19:05 -0700 (PDT)
Received: from postal.iol.unh.edu (postal.iol.unh.edu. [132.177.123.84])
 by smtp-relay.gmail.com with ESMTPS id
 p12-20020a17090ad30c00b0029bab07dcadsm470652pju.3.2024.03.11.17.19.05
 (version=TLS1_2 cipher=ECDHE-ECDSA-AES128-GCM-SHA256 bits=128/128);
 Mon, 11 Mar 2024 17:19:05 -0700 (PDT)
X-Relaying-Domain: iol.unh.edu
Date: Mon, 11 Mar 2024 17:19:05 -0700 (PDT)
Message-ID: <65ef9f79.170a0220.4dc0d.d892SMTPIN_ADDED_MISSING@mx.google.com>
Received: from [172.17.0.7] (unknown [172.18.0.217])
 by postal.iol.unh.edu (Postfix) with ESMTP id C81976052471;
 Mon, 11 Mar 2024 20:19:04 -0400 (EDT)
Subject: |SUCCESS| pw138173-138176 [PATCH] [v6,4/4] hash: add SVE support for
From: dpdklab@iol.unh.edu
To: Test Report <test-report@dpdk.org>
Cc: dpdk-test-reports@iol.unh.edu
In-Reply-To: <20240311232112.736613-5-yoan.picchi@arm.com>
References: <20240311232112.736613-5-yoan.picchi@arm.com>
Content-Type: text/plain
X-BeenThere: test-report@dpdk.org
X-Mailman-Version: 2.1.29
Precedence: list
List-Id: automatic DPDK test reports <test-report.dpdk.org>
List-Unsubscribe: <https://mails.dpdk.org/options/test-report>,
 <mailto:test-report-request@dpdk.org?subject=unsubscribe>
List-Archive: <http://mails.dpdk.org/archives/test-report/>
List-Post: <mailto:test-report@dpdk.org>
List-Help: <mailto:test-report-request@dpdk.org?subject=help>
List-Subscribe: <https://mails.dpdk.org/listinfo/test-report>,
 <mailto:test-report-request@dpdk.org?subject=subscribe>
Errors-To: test-report-bounces@dpdk.org

Test-Label: iol-compile-amd64-testing
Test-Status: SUCCESS
http://dpdk.org/patch/138176

_Testing PASS_

Submitter: Yoan Picchi <yoan.picchi@arm.com>
Date: Monday, March 11 2024 23:21:12 
DPDK git baseline: Repo:dpdk
  Branch: master
  CommitID:a86f381b826660e88794754c41d3aec79ce9b87c

138173-138176 --> testing pass

Test environment and result as below:

+---------------------+--------------------+----------------------+
|     Environment     | dpdk_meson_compile | dpdk_mingw64_compile |
+=====================+====================+======================+
| CentOS Stream 8     | PASS               | SKIPPED              |
+---------------------+--------------------+----------------------+
| Fedora 38           | PASS               | SKIPPED              |
+---------------------+--------------------+----------------------+
| Debian Bullseye     | PASS               | SKIPPED              |
+---------------------+--------------------+----------------------+
| Ubuntu 20.04        | PASS               | SKIPPED              |
+---------------------+--------------------+----------------------+
| CentOS Stream 9     | PASS               | SKIPPED              |
+---------------------+--------------------+----------------------+
| Debian 12 (arm)     | PASS               | SKIPPED              |
+---------------------+--------------------+----------------------+
| Windows Server 2022 | PASS               | SKIPPED              |
+---------------------+--------------------+----------------------+
| FreeBSD 13.2        | PASS               | SKIPPED              |
+---------------------+--------------------+----------------------+
| Fedora 37           | PASS               | SKIPPED              |
+---------------------+--------------------+----------------------+
| Ubuntu 22.04        | PASS               | SKIPPED              |
+---------------------+--------------------+----------------------+
| Alpine              | PASS               | SKIPPED              |
+---------------------+--------------------+----------------------+
| RHEL8               | PASS               | SKIPPED              |
+---------------------+--------------------+----------------------+
| Windows Server 2019 | PASS               | PASS                 |
+---------------------+--------------------+----------------------+
| openSUSE Leap 15    | PASS               | SKIPPED              |
+---------------------+--------------------+----------------------+


CentOS Stream 8
	Kernel: 4.18.0-240.10.1.el8_3.x86_64
	Compiler: gcc 8.4.1 20200928

Fedora 38
	Kernel: Depends on container host
	Compiler: gcc 13.1.1

Debian Bullseye
	Kernel: 5.4.0-122-generic
	Compiler: gcc 10.2.1-6

Ubuntu 20.04
	Kernel: 5.4.0-153-generic
	Compiler: gcc 9.4.0-1ubuntu1~20.04.1

CentOS Stream 9
	Kernel: 4.18.0-240.10.1.el8_3.x86_64
	Compiler: gcc 11.3.1 20220421

Debian 12 (arm)
	Kernel: Container Host Kernel
	Compiler: gcc 11

Windows Server 2022
	Kernel: OS Build 20348.2031
	Compiler: MSVC VS-Preview

FreeBSD 13.2
	Kernel: 13.2
	Compiler: clang 11.3.0

Fedora 37
	Kernel: Depends on container host system
	Compiler: gcc 12.3.1

Ubuntu 22.04
	Kernel: 4.18.0-240.10.1.el8_3.x86_64
	Compiler: gcc 11.3.0

Alpine
	Kernel: 5.4.0-73-generic
	Compiler: gcc (Alpine 10.3.1_git20210424) 10.3.1 20210424

RHEL8
	Kernel: 4.18.0-240.10.1.el8_3.x86_64
	Compiler: gcc 8.3.1 20191121 (Red Hat 8.3.1-5)

Windows Server 2019
	Kernel: 10.0
	Compiler: clang 14.0 and gcc 8.1.0 (MinGW)

openSUSE Leap 15
	Kernel: 4.18.0-240.10.1.el8_3.x86_64
	Compiler: gcc 7.5.0

To view detailed results, visit:
https://lab.dpdk.org/results/dashboard/patchsets/29506/

UNH-IOL DPDK Community Lab

To manage your email subscriptions, visit: 
https://lab.dpdk.org/results/dashboard/preferences/subscriptions/