From mboxrd@z Thu Jan  1 00:00:00 1970
Return-Path: <test-report-bounces@dpdk.org>
Received: from mails.dpdk.org (mails.dpdk.org [217.70.189.124])
	by inbox.dpdk.org (Postfix) with ESMTP id 2A46F43C5A
	for <public@inbox.dpdk.org>; Tue, 12 Mar 2024 01:20:57 +0100 (CET)
Received: from mails.dpdk.org (localhost [127.0.0.1])
	by mails.dpdk.org (Postfix) with ESMTP id 22FE2402E6;
	Tue, 12 Mar 2024 01:20:57 +0100 (CET)
Received: from mail-qt1-f227.google.com (mail-qt1-f227.google.com
 [209.85.160.227])
 by mails.dpdk.org (Postfix) with ESMTP id 28A364013F
 for <test-report@dpdk.org>; Tue, 12 Mar 2024 01:20:55 +0100 (CET)
Received: by mail-qt1-f227.google.com with SMTP id
 d75a77b69052e-42ee23c64e3so20529921cf.2
 for <test-report@dpdk.org>; Mon, 11 Mar 2024 17:20:55 -0700 (PDT)
DKIM-Signature: v=1; a=rsa-sha256; c=relaxed/relaxed;
 d=iol.unh.edu; s=unh-iol; t=1710202854; x=1710807654; darn=dpdk.org;
 h=references:in-reply-to:cc:to:from:subject:message-id:date:from:to
 :cc:subject:date:message-id:reply-to;
 bh=ItqhWTz7CWPhoAT2OtvTyY50FOJa4UtkwOfuS5J5LvM=;
 b=Wk5VMWZm/ChCh3yXsF5opYEQZLGsznuE4dJAuUPEvJqlozGsQHeX9dz7QuZjfWKm4u
 jEJFl05oWhzjJgP16B/YkVU0Flqu9eKsxEz0EwoOsrlKfNRvVtBmsx9p8nMXrh98IUOm
 IUy3Vx0oTVpp+f7bFpS8SrLjnoi5K7Xi4jLXA=
X-Google-DKIM-Signature: v=1; a=rsa-sha256; c=relaxed/relaxed;
 d=1e100.net; s=20230601; t=1710202854; x=1710807654;
 h=references:in-reply-to:cc:to:from:subject:message-id:date
 :x-gm-message-state:from:to:cc:subject:date:message-id:reply-to;
 bh=ItqhWTz7CWPhoAT2OtvTyY50FOJa4UtkwOfuS5J5LvM=;
 b=iZF30RDuYBfED1Zg+o6iU86qRpcMDcTjxwroaNBlq09iuJZnHcG+NQgrOs/9PKms9M
 1Lvn2zn0aKr9T3nau3AfrZFGjmZbhallh92ZJSCy9yZYU6ICX+qDncJ8ifcVy3APNAOG
 BbYxyptqG2p3IGb4uWjwg3EOknCOuNywAj4V94P/ZG+k7qnLMcJVk1WFTVnLnFJ8zwj/
 xIKmk13/wvJPfjHShPwwdBxISMsX3P40ODv9T/HIYxoacnjokwt+A7kl4E4KU7i1180E
 SsAre7o1mpmsPZ0FNbL6d97i9s9s1Q4q7RpuqpxzHIY/WgyLn9FX7bnc3faPLWngFpTC
 S6dA==
X-Gm-Message-State: AOJu0YwDdDKe7NE/HwBAxUylwBMt2OgOVt4XU+X4XQRMa3GvHxz2mwwH
 LU0s+VCeBU1ddO49IgYHERfuX3Yj4zQSjrE2mVq4za9c25SeiyOBL8jP7LQ70xMRoRhi6kSAlVP
 FQQYZ0pqcmbtzWBXFxPpbZYVqV9UGB943f2X/AfLQ
X-Google-Smtp-Source: AGHT+IFZzCc7yqVKc9csngueyD8f7dK4jsl01oUb/8SHF/6q0aA+ZSfL5oZTr6gMH24PvxD4aJiCB6cjkoX4
X-Received: by 2002:a05:622a:2c9:b0:42e:7afb:b5c0 with SMTP id
 a9-20020a05622a02c900b0042e7afbb5c0mr11499147qtx.17.1710202854552; 
 Mon, 11 Mar 2024 17:20:54 -0700 (PDT)
Received: from postal.iol.unh.edu (postal.iol.unh.edu. [132.177.123.84])
 by smtp-relay.gmail.com with ESMTPS id
 w8-20020ac87e88000000b0042eea427303sm323609qtj.15.2024.03.11.17.20.54
 (version=TLS1_2 cipher=ECDHE-ECDSA-AES128-GCM-SHA256 bits=128/128);
 Mon, 11 Mar 2024 17:20:54 -0700 (PDT)
X-Relaying-Domain: iol.unh.edu
Date: Mon, 11 Mar 2024 17:20:54 -0700 (PDT)
Message-ID: <65ef9fe6.c80a0220.4690.24c8SMTPIN_ADDED_MISSING@mx.google.com>
Received: from [172.21.0.7] (unknown [172.18.0.240])
 by postal.iol.unh.edu (Postfix) with ESMTP id 409746052471;
 Mon, 11 Mar 2024 20:20:54 -0400 (EDT)
Subject: |SUCCESS| pw138173-138176 [PATCH] [v6,4/4] hash: add SVE support for
From: dpdklab@iol.unh.edu
To: Test Report <test-report@dpdk.org>
Cc: dpdk-test-reports@iol.unh.edu
In-Reply-To: <20240311232112.736613-5-yoan.picchi@arm.com>
References: <20240311232112.736613-5-yoan.picchi@arm.com>
Content-Type: text/plain
X-BeenThere: test-report@dpdk.org
X-Mailman-Version: 2.1.29
Precedence: list
List-Id: automatic DPDK test reports <test-report.dpdk.org>
List-Unsubscribe: <https://mails.dpdk.org/options/test-report>,
 <mailto:test-report-request@dpdk.org?subject=unsubscribe>
List-Archive: <http://mails.dpdk.org/archives/test-report/>
List-Post: <mailto:test-report@dpdk.org>
List-Help: <mailto:test-report-request@dpdk.org?subject=help>
List-Subscribe: <https://mails.dpdk.org/listinfo/test-report>,
 <mailto:test-report-request@dpdk.org?subject=subscribe>
Errors-To: test-report-bounces@dpdk.org

Test-Label: iol-compile-arm64-testing
Test-Status: SUCCESS
http://dpdk.org/patch/138176

_Testing PASS_

Submitter: Yoan Picchi <yoan.picchi@arm.com>
Date: Monday, March 11 2024 23:21:12 
DPDK git baseline: Repo:dpdk
  Branch: master
  CommitID:a86f381b826660e88794754c41d3aec79ce9b87c

138173-138176 --> testing pass

Test environment and result as below:

+----------------------------------------+--------------------+
|              Environment               | dpdk_meson_compile |
+========================================+====================+
| Ubuntu 20.04 ARM SVE                   | PASS               |
+----------------------------------------+--------------------+
| Ubuntu 20.04 ARM GCC Cross Compile     | PASS               |
+----------------------------------------+--------------------+
| Ubuntu 20.04 aarch32 GCC Cross Compile | PASS               |
+----------------------------------------+--------------------+
| Debian 12 with MUSDK                   | PASS               |
+----------------------------------------+--------------------+
| Fedora 38 (ARM)                        | PASS               |
+----------------------------------------+--------------------+
| Ubuntu 20.04 ARM Clang Cross Compile   | PASS               |
+----------------------------------------+--------------------+
| Fedora 37 (ARM)                        | PASS               |
+----------------------------------------+--------------------+
| Ubuntu 20.04 (ARM)                     | PASS               |
+----------------------------------------+--------------------+
| CentOS Stream 9 (ARM)                  | PASS               |
+----------------------------------------+--------------------+
| Debian 11 (Buster) (ARM)               | PASS               |
+----------------------------------------+--------------------+
| Debian 12 (arm)                        | PASS               |
+----------------------------------------+--------------------+


Ubuntu 20.04 ARM SVE
	Kernel: 5.4.0-80-generic
	Compiler: gcc 10.3.0 (Ubuntu 10.3.0-1ubuntu1~20.04)

Ubuntu 20.04 ARM GCC Cross Compile
	Kernel: 5.4.0-72-generic
	Compiler: aarch64-linux-gnu-gcc (Ubuntu 9.3.0-17ubuntu1~20.04) 9.3.0

Ubuntu 20.04 aarch32 GCC Cross Compile
	Kernel: 5.4.0-72-generic
	Compiler: gcc 9.3.0

Debian 12 with MUSDK
	Kernel: Container Host Kernel
	Compiler: gcc 12

Fedora 38 (ARM)
	Kernel: Depends on container host
	Compiler: gcc 13.1.1

Ubuntu 20.04 ARM Clang Cross Compile
	Kernel: 5.4.0-72-generic
	Compiler: clang version 10.0.0-4ubuntu1

Fedora 37 (ARM)
	Kernel: Depends on container host
	Compiler: gcc 12.3.1

Ubuntu 20.04 (ARM)
	Kernel: Container Host Kernel
	Compiler: gcc 9.4.0

CentOS Stream 9 (ARM)
	Kernel: Container Host Kernel
	Compiler: gcc 11.3.1

Debian 11 (Buster) (ARM)
	Kernel: Container Host Kernel
	Compiler: gcc 10.2.1

Debian 12 (arm)
	Kernel: Container Host Kernel
	Compiler: gcc 11

To view detailed results, visit:
https://lab.dpdk.org/results/dashboard/patchsets/29506/

UNH-IOL DPDK Community Lab

To manage your email subscriptions, visit: 
https://lab.dpdk.org/results/dashboard/preferences/subscriptions/