From mboxrd@z Thu Jan  1 00:00:00 1970
Return-Path: <test-report-bounces@dpdk.org>
Received: from mails.dpdk.org (mails.dpdk.org [217.70.189.124])
	by inbox.dpdk.org (Postfix) with ESMTP id 711DC43C5A
	for <public@inbox.dpdk.org>; Tue, 12 Mar 2024 01:30:45 +0100 (CET)
Received: from mails.dpdk.org (localhost [127.0.0.1])
	by mails.dpdk.org (Postfix) with ESMTP id 68A93402E6;
	Tue, 12 Mar 2024 01:30:45 +0100 (CET)
Received: from mail-pg1-f228.google.com (mail-pg1-f228.google.com
 [209.85.215.228])
 by mails.dpdk.org (Postfix) with ESMTP id E3D8B4013F
 for <test-report@dpdk.org>; Tue, 12 Mar 2024 01:30:43 +0100 (CET)
Received: by mail-pg1-f228.google.com with SMTP id
 41be03b00d2f7-5cedfc32250so3104157a12.0
 for <test-report@dpdk.org>; Mon, 11 Mar 2024 17:30:43 -0700 (PDT)
DKIM-Signature: v=1; a=rsa-sha256; c=relaxed/relaxed;
 d=iol.unh.edu; s=unh-iol; t=1710203443; x=1710808243; darn=dpdk.org;
 h=references:in-reply-to:cc:to:from:subject:message-id:date:from:to
 :cc:subject:date:message-id:reply-to;
 bh=OU4GoZlavBPcicTAmZr7+BdZEC+kV42Cq2YufAY+/UM=;
 b=eMuR2WV4z3fU6hYlNIlqnmHX7fDIXuOFpGGuPSq1Ifl9pivTAVoFq9qB2W1r1oxV/F
 zMX2CpPfvJC1pG2iQQF+R+hz5PIF88+py4NKoLh6mDERKQPHNO2Vjzv5apNPhWGCrY7K
 6OFcM+L/0lyHy8S/7kYb7IDKIi7gp72F0+nxU=
X-Google-DKIM-Signature: v=1; a=rsa-sha256; c=relaxed/relaxed;
 d=1e100.net; s=20230601; t=1710203443; x=1710808243;
 h=references:in-reply-to:cc:to:from:subject:message-id:date
 :x-gm-message-state:from:to:cc:subject:date:message-id:reply-to;
 bh=OU4GoZlavBPcicTAmZr7+BdZEC+kV42Cq2YufAY+/UM=;
 b=sg+6EtPFf1vkjDVTFEksqMnAXX6hRlAkOvSWfGkdwBZTUSotNCqKVH6mxQRgbae86/
 d9mB4js8vIsiEAqgKht30QpfPz3ZHr8O8DT9t3dJuli/a32P8WGY5vX8cwceV4s6tgF/
 6UWTj9wzLxIpx5HLWxAv6IfXYiq2oZXGIAPtqxV0IVaXjfGH7/g8PUHgmIsoXUAaca3r
 EOuvsKfUu5cBMJNAjpoDkkJVVDGcwyV50RAQi6I7EXQfiFQOXfkGbXiKit6crbAki2Al
 dTxgxgFuVkz7+EGIf3TwB9ci6cmidVgLOgT4LX/RLKm3k/UzD2PdAH0ral+CceRxE2Ty
 kJlw==
X-Gm-Message-State: AOJu0Ywt2I2l+FQ4OCnSllkzwtqi7Wr1HC/yd3X7UNmTtGpJ6wjIT0hZ
 iWyXbzEiX1TRsDoQ55txywFx41kPaWXDtER9FwWqRtyhv5IEu6Rlk170Bbn3FbseNZfi9zgoXxR
 IqISEuG8z+LD4r/aG3l7FGXAbaM1ufEkrkkuRArHt
X-Google-Smtp-Source: AGHT+IGVMFDPJ8NfBEqlg4FFgixUnKIxetX9GBmEeesAx5q1xBxoZe73L5gkt2rkYLFGTsehPODdw5++d+QP
X-Received: by 2002:a05:6a20:7285:b0:1a3:11d1:4ba2 with SMTP id
 o5-20020a056a20728500b001a311d14ba2mr5255378pzk.22.1710203443144; 
 Mon, 11 Mar 2024 17:30:43 -0700 (PDT)
Received: from postal.iol.unh.edu (postal.iol.unh.edu. [132.177.123.84])
 by smtp-relay.gmail.com with ESMTPS id
 lh7-20020a170903290700b001d729af3e6bsm138267plb.85.2024.03.11.17.30.43
 (version=TLS1_2 cipher=ECDHE-ECDSA-AES128-GCM-SHA256 bits=128/128);
 Mon, 11 Mar 2024 17:30:43 -0700 (PDT)
X-Relaying-Domain: iol.unh.edu
Date: Mon, 11 Mar 2024 17:30:43 -0700 (PDT)
Message-ID: <65efa233.170a0220.cc8ce.8219SMTPIN_ADDED_MISSING@mx.google.com>
Received: from [172.21.0.6] (unknown [172.18.0.240])
 by postal.iol.unh.edu (Postfix) with ESMTP id 4DE9F6052471;
 Mon, 11 Mar 2024 20:30:42 -0400 (EDT)
Subject: |SUCCESS| pw138173-138176 [PATCH] [v6,4/4] hash: add SVE support for
From: dpdklab@iol.unh.edu
To: Test Report <test-report@dpdk.org>
Cc: dpdk-test-reports@iol.unh.edu
In-Reply-To: <20240311232112.736613-5-yoan.picchi@arm.com>
References: <20240311232112.736613-5-yoan.picchi@arm.com>
Content-Type: text/plain
X-BeenThere: test-report@dpdk.org
X-Mailman-Version: 2.1.29
Precedence: list
List-Id: automatic DPDK test reports <test-report.dpdk.org>
List-Unsubscribe: <https://mails.dpdk.org/options/test-report>,
 <mailto:test-report-request@dpdk.org?subject=unsubscribe>
List-Archive: <http://mails.dpdk.org/archives/test-report/>
List-Post: <mailto:test-report@dpdk.org>
List-Help: <mailto:test-report-request@dpdk.org?subject=help>
List-Subscribe: <https://mails.dpdk.org/listinfo/test-report>,
 <mailto:test-report-request@dpdk.org?subject=subscribe>
Errors-To: test-report-bounces@dpdk.org

Test-Label: iol-unit-arm64-testing
Test-Status: SUCCESS
http://dpdk.org/patch/138176

_Testing PASS_

Submitter: Yoan Picchi <yoan.picchi@arm.com>
Date: Monday, March 11 2024 23:21:12 
DPDK git baseline: Repo:dpdk
  Branch: master
  CommitID:a86f381b826660e88794754c41d3aec79ce9b87c

138173-138176 --> testing pass

Test environment and result as below:

+--------------------------+----------------+------------------------------+---------------------------+
|       Environment        | dpdk_unit_test | cryptodev_sw_snow3g_autotest | cryptodev_sw_zuc_autotest |
+==========================+================+==============================+===========================+
| Debian 12 (arm)          | PASS           | PASS                         | PASS                      |
+--------------------------+----------------+------------------------------+---------------------------+
| Debian 11 (Buster) (ARM) | PASS           | SKIPPED                      | SKIPPED                   |
+--------------------------+----------------+------------------------------+---------------------------+
| CentOS Stream 9 (ARM)    | PASS           | SKIPPED                      | SKIPPED                   |
+--------------------------+----------------+------------------------------+---------------------------+
| Fedora 38 (ARM)          | PASS           | SKIPPED                      | SKIPPED                   |
+--------------------------+----------------+------------------------------+---------------------------+
| Ubuntu 20.04 (ARM)       | PASS           | SKIPPED                      | SKIPPED                   |
+--------------------------+----------------+------------------------------+---------------------------+


Debian 12 (arm)
	Kernel: Container Host Kernel
	Compiler: gcc 11

Debian 11 (Buster) (ARM)
	Kernel: Container Host Kernel
	Compiler: gcc 10.2.1

CentOS Stream 9 (ARM)
	Kernel: Container Host Kernel
	Compiler: gcc 11.3.1

Fedora 38 (ARM)
	Kernel: Depends on container host
	Compiler: gcc 13.1.1

Ubuntu 20.04 (ARM)
	Kernel: Container Host Kernel
	Compiler: gcc 9.4.0

To view detailed results, visit:
https://lab.dpdk.org/results/dashboard/patchsets/29506/

UNH-IOL DPDK Community Lab

To manage your email subscriptions, visit: 
https://lab.dpdk.org/results/dashboard/preferences/subscriptions/