From mboxrd@z Thu Jan  1 00:00:00 1970
Return-Path: <test-report-bounces@dpdk.org>
Received: from mails.dpdk.org (mails.dpdk.org [217.70.189.124])
	by inbox.dpdk.org (Postfix) with ESMTP id 9224643C5A
	for <public@inbox.dpdk.org>; Tue, 12 Mar 2024 01:32:23 +0100 (CET)
Received: from mails.dpdk.org (localhost [127.0.0.1])
	by mails.dpdk.org (Postfix) with ESMTP id 8D5F4402E6;
	Tue, 12 Mar 2024 01:32:23 +0100 (CET)
Received: from mail-yw1-f226.google.com (mail-yw1-f226.google.com
 [209.85.128.226])
 by mails.dpdk.org (Postfix) with ESMTP id 8D29D4013F
 for <test-report@dpdk.org>; Tue, 12 Mar 2024 01:32:10 +0100 (CET)
Received: by mail-yw1-f226.google.com with SMTP id
 00721157ae682-6099703e530so29199047b3.3
 for <test-report@dpdk.org>; Mon, 11 Mar 2024 17:32:10 -0700 (PDT)
DKIM-Signature: v=1; a=rsa-sha256; c=relaxed/relaxed;
 d=iol.unh.edu; s=unh-iol; t=1710203530; x=1710808330; darn=dpdk.org;
 h=references:in-reply-to:cc:to:from:subject:message-id:date:from:to
 :cc:subject:date:message-id:reply-to;
 bh=OU4GoZlavBPcicTAmZr7+BdZEC+kV42Cq2YufAY+/UM=;
 b=cLXuTvvXegV/bXF/IZs8YhRmsDYsDSn4+gQ5wLH9in+q/muRr1ojguaxxYDTLzEW3Y
 1apWfDgwR10v3mewbAOqKhPPg1fFBuL3ulu5N33qCjdQLxpIIjJiLoXaR2EXciTEnOrP
 ezJ3Vl2HzKMkMWlsTqfNV0x/GAZ/FzcZ3wtgs=
X-Google-DKIM-Signature: v=1; a=rsa-sha256; c=relaxed/relaxed;
 d=1e100.net; s=20230601; t=1710203530; x=1710808330;
 h=references:in-reply-to:cc:to:from:subject:message-id:date
 :x-gm-message-state:from:to:cc:subject:date:message-id:reply-to;
 bh=OU4GoZlavBPcicTAmZr7+BdZEC+kV42Cq2YufAY+/UM=;
 b=huGMhiCV2AlUZT7u/EHtypgln0G2kw0FerxxFXxZIXbzTeVnu5k09oWl7MtvXxq5z/
 DUFln1kCvzhwMN3Z2c61fHQ1V0cN0jC//+uvKtne3SOWCuI7QwKxJNv7yCqtWt/ZVr0+
 19AgYi5CTs2kqD1TuqzImh6QKX3SQUPY/l3A+AVWZbdrwNVr9r+TsDLC9Sj5Ds0pRc85
 t4HwzBuj7W0d/r4l+NJC10ez4ZYW13XHWmsXqZiDyOF2r3jRkcIYwiehYn/M3tfxaa09
 pNyR+AYh1Qtx27VqgiZHzhMyTojDWEqZOuYjetBBKtSzs1deqOYEpUd7s8YJZWo9LgSs
 4eww==
X-Gm-Message-State: AOJu0Yz84DlAUkCyiZjYXWirVFZN5Wply+uTbnAyRuZNinYKXZtWYXWA
 m0QbK1RleDaSBVo7DplcmhxcFV/ebL8yRE0LE79bHlH65F/ANAqvOFplsr2nW+REeZrgdWhuqt3
 oL0yfc7hQU8aRm2p2rrQULNQA92I81XCgwYwn9cLF
X-Google-Smtp-Source: AGHT+IHPNIxpFaCoPy4uVhJUIN7eb8Sb5hWUvw157lnVI7AqfVutWINJ1UPe5ZKsgolFbNF+dFiTRU9xlXXt
X-Received: by 2002:a0d:cb41:0:b0:60a:318c:bbd5 with SMTP id
 n62-20020a0dcb41000000b0060a318cbbd5mr4299216ywd.10.1710203529963; 
 Mon, 11 Mar 2024 17:32:09 -0700 (PDT)
Received: from postal.iol.unh.edu (postal.iol.unh.edu. [132.177.123.84])
 by smtp-relay.gmail.com with ESMTPS id
 u145-20020a818497000000b0060a5b655c16sm210ywf.3.2024.03.11.17.32.09
 (version=TLS1_2 cipher=ECDHE-ECDSA-AES128-GCM-SHA256 bits=128/128);
 Mon, 11 Mar 2024 17:32:09 -0700 (PDT)
X-Relaying-Domain: iol.unh.edu
Date: Mon, 11 Mar 2024 17:32:09 -0700 (PDT)
Message-ID: <65efa289.810a0220.9362.0038SMTPIN_ADDED_MISSING@mx.google.com>
Received: from [172.21.0.6] (unknown [172.18.0.240])
 by postal.iol.unh.edu (Postfix) with ESMTP id 97BF56052471;
 Mon, 11 Mar 2024 20:32:09 -0400 (EDT)
Subject: |SUCCESS| pw138173-138176 [PATCH] [v6,4/4] hash: add SVE support for
From: dpdklab@iol.unh.edu
To: Test Report <test-report@dpdk.org>
Cc: dpdk-test-reports@iol.unh.edu
In-Reply-To: <20240311232112.736613-5-yoan.picchi@arm.com>
References: <20240311232112.736613-5-yoan.picchi@arm.com>
Content-Type: text/plain
X-BeenThere: test-report@dpdk.org
X-Mailman-Version: 2.1.29
Precedence: list
List-Id: automatic DPDK test reports <test-report.dpdk.org>
List-Unsubscribe: <https://mails.dpdk.org/options/test-report>,
 <mailto:test-report-request@dpdk.org?subject=unsubscribe>
List-Archive: <http://mails.dpdk.org/archives/test-report/>
List-Post: <mailto:test-report@dpdk.org>
List-Help: <mailto:test-report-request@dpdk.org?subject=help>
List-Subscribe: <https://mails.dpdk.org/listinfo/test-report>,
 <mailto:test-report-request@dpdk.org?subject=subscribe>
Errors-To: test-report-bounces@dpdk.org

Test-Label: iol-unit-arm64-testing
Test-Status: SUCCESS
http://dpdk.org/patch/138176

_Testing PASS_

Submitter: Yoan Picchi <yoan.picchi@arm.com>
Date: Monday, March 11 2024 23:21:12 
DPDK git baseline: Repo:dpdk
  Branch: master
  CommitID:a86f381b826660e88794754c41d3aec79ce9b87c

138173-138176 --> testing pass

Test environment and result as below:

+--------------------------+----------------+------------------------------+---------------------------+
|       Environment        | dpdk_unit_test | cryptodev_sw_snow3g_autotest | cryptodev_sw_zuc_autotest |
+==========================+================+==============================+===========================+
| Debian 12 (arm)          | PASS           | PASS                         | PASS                      |
+--------------------------+----------------+------------------------------+---------------------------+
| Debian 11 (Buster) (ARM) | PASS           | SKIPPED                      | SKIPPED                   |
+--------------------------+----------------+------------------------------+---------------------------+
| CentOS Stream 9 (ARM)    | PASS           | SKIPPED                      | SKIPPED                   |
+--------------------------+----------------+------------------------------+---------------------------+
| Fedora 38 (ARM)          | PASS           | SKIPPED                      | SKIPPED                   |
+--------------------------+----------------+------------------------------+---------------------------+
| Ubuntu 20.04 (ARM)       | PASS           | SKIPPED                      | SKIPPED                   |
+--------------------------+----------------+------------------------------+---------------------------+


Debian 12 (arm)
	Kernel: Container Host Kernel
	Compiler: gcc 11

Debian 11 (Buster) (ARM)
	Kernel: Container Host Kernel
	Compiler: gcc 10.2.1

CentOS Stream 9 (ARM)
	Kernel: Container Host Kernel
	Compiler: gcc 11.3.1

Fedora 38 (ARM)
	Kernel: Depends on container host
	Compiler: gcc 13.1.1

Ubuntu 20.04 (ARM)
	Kernel: Container Host Kernel
	Compiler: gcc 9.4.0

To view detailed results, visit:
https://lab.dpdk.org/results/dashboard/patchsets/29506/

UNH-IOL DPDK Community Lab

To manage your email subscriptions, visit: 
https://lab.dpdk.org/results/dashboard/preferences/subscriptions/