From mboxrd@z Thu Jan  1 00:00:00 1970
Return-Path: <test-report-bounces@dpdk.org>
Received: from mails.dpdk.org (mails.dpdk.org [217.70.189.124])
	by inbox.dpdk.org (Postfix) with ESMTP id DD2D643C5A
	for <public@inbox.dpdk.org>; Tue, 12 Mar 2024 01:51:39 +0100 (CET)
Received: from mails.dpdk.org (localhost [127.0.0.1])
	by mails.dpdk.org (Postfix) with ESMTP id D858B402D8;
	Tue, 12 Mar 2024 01:51:39 +0100 (CET)
Received: from mail-yb1-f225.google.com (mail-yb1-f225.google.com
 [209.85.219.225])
 by mails.dpdk.org (Postfix) with ESMTP id A00DB4013F
 for <test-report@dpdk.org>; Tue, 12 Mar 2024 01:51:38 +0100 (CET)
Received: by mail-yb1-f225.google.com with SMTP id
 3f1490d57ef6-dc6d8bd618eso4754020276.3
 for <test-report@dpdk.org>; Mon, 11 Mar 2024 17:51:38 -0700 (PDT)
DKIM-Signature: v=1; a=rsa-sha256; c=relaxed/relaxed;
 d=iol.unh.edu; s=unh-iol; t=1710204698; x=1710809498; darn=dpdk.org;
 h=references:in-reply-to:cc:to:from:subject:message-id:date:from:to
 :cc:subject:date:message-id:reply-to;
 bh=XltH+f0gv0OODmAlBtFzwAtvzELVQnpBS9GEib/45Uw=;
 b=elEZNDQ9jUdUsnW8rN815nxURu4StPZXfhU4aZKpjfwrzDEjlE1yo7wGH39b4WtJQC
 0rs7U3M/Opil52ktMqoSeCIWBGoc2rzfYtKZyrV/qyHJdynMrmmF72E1bo6ZSSvOU4UQ
 WY62teW/kuABeRSexDhfheg7ngH5aie3SHSp4=
X-Google-DKIM-Signature: v=1; a=rsa-sha256; c=relaxed/relaxed;
 d=1e100.net; s=20230601; t=1710204698; x=1710809498;
 h=references:in-reply-to:cc:to:from:subject:message-id:date
 :x-gm-message-state:from:to:cc:subject:date:message-id:reply-to;
 bh=XltH+f0gv0OODmAlBtFzwAtvzELVQnpBS9GEib/45Uw=;
 b=BYhUCIPKAQGEsHfHx9nO90hlbnwCfeyybNL8jMEIgN+OGZr79PZx4pMJLMcGitxAhL
 tyO2F+jvU+OK/OZjKGto6KM5BP9n5QbFyi6tpZLycqno6eglPkJfhGVRfHk3RaKAqga1
 mWm3EnfTsWxUe2pXxTC+q8GZ/cwAc1I37lW1BMPCvRfff70By/uu5pSYlfQJPyiYuU2d
 wVK1LwgOq4uCNbzK0dRuOxzX58nZJtbvrmedgteC3cd0ZkTuSHOdWnhb3tv60aTl7TTY
 BrdnrHIdw0eBncsA3RGZCEqoSLZHpPSzbLtLRmDfRzB0exnJ68WsNbgtzw9kumE92MzN
 79aQ==
X-Gm-Message-State: AOJu0YwVWzyKOHO5wQWb83LhvV1fHI4UPr5oJx76+j5fH/4BytRT6PWW
 /S6Rzbfw0kHocLoVyeFfiz2G66Bcep0dXnN9a5ywtKrZM95OHaFpWKwjbhyCowP27pYrKngS0/9
 wmHJYO7s3oxREU3lkYtnl+N6NYzt/3bvSUNbgF8zMJ3AMFBHqf1x9XijR
X-Google-Smtp-Source: AGHT+IHvOVmXD2afk3+D0Jl7P/OkKvDDyamQ8u9jtfFPBc9EEsJBPVldhDhVs/9Q7x4HDFLZ7R35ZR8jKN2N
X-Received: by 2002:a25:9f85:0:b0:dc7:5cb3:256a with SMTP id
 u5-20020a259f85000000b00dc75cb3256amr2045995ybq.42.1710204698053; 
 Mon, 11 Mar 2024 17:51:38 -0700 (PDT)
Received: from postal.iol.unh.edu (postal.iol.unh.edu.
 [2606:4100:3880:1234::84]) by smtp-relay.gmail.com with ESMTPS id
 r11-20020a05622a034b00b0042ee99f2fddsm316418qtw.4.2024.03.11.17.51.37
 (version=TLS1_2 cipher=ECDHE-ECDSA-AES128-GCM-SHA256 bits=128/128);
 Mon, 11 Mar 2024 17:51:38 -0700 (PDT)
X-Relaying-Domain: iol.unh.edu
Date: Mon, 11 Mar 2024 17:51:38 -0700 (PDT)
Message-ID: <65efa71a.050a0220.2a88b.24f4SMTPIN_ADDED_MISSING@mx.google.com>
Received: from [172.21.0.6] (unknown [172.18.0.240])
 by postal.iol.unh.edu (Postfix) with ESMTP id BD1AD6052471;
 Mon, 11 Mar 2024 20:51:37 -0400 (EDT)
Subject: |SUCCESS| pw138168-138172 [PATCH] [v10,5/5] test: add unit test for 
From: dpdklab@iol.unh.edu
To: Test Report <test-report@dpdk.org>
Cc: dpdk-test-reports@iol.unh.edu
In-Reply-To: <20240311203129.335720-6-paul.szczepanek@arm.com>
References: <20240311203129.335720-6-paul.szczepanek@arm.com>
Content-Type: text/plain
X-BeenThere: test-report@dpdk.org
X-Mailman-Version: 2.1.29
Precedence: list
List-Id: automatic DPDK test reports <test-report.dpdk.org>
List-Unsubscribe: <https://mails.dpdk.org/options/test-report>,
 <mailto:test-report-request@dpdk.org?subject=unsubscribe>
List-Archive: <http://mails.dpdk.org/archives/test-report/>
List-Post: <mailto:test-report@dpdk.org>
List-Help: <mailto:test-report-request@dpdk.org?subject=help>
List-Subscribe: <https://mails.dpdk.org/listinfo/test-report>,
 <mailto:test-report-request@dpdk.org?subject=subscribe>
Errors-To: test-report-bounces@dpdk.org

Test-Label: iol-abi-testing
Test-Status: SUCCESS
http://dpdk.org/patch/138172

_Testing PASS_

Submitter: Paul Szczepanek <paul.szczepanek@arm.com>
Date: Monday, March 11 2024 20:31:29 
DPDK git baseline: Repo:dpdk
  Branch: master
  CommitID:a86f381b826660e88794754c41d3aec79ce9b87c

138168-138172 --> testing pass

Test environment and result as below:

+-----------------+----------+
|   Environment   | abi_test |
+=================+==========+
| Debian 12 (arm) | PASS     |
+-----------------+----------+
| Debian Bullseye | PASS     |
+-----------------+----------+
| Fedora 37       | PASS     |
+-----------------+----------+
| CentOS Stream 8 | PASS     |
+-----------------+----------+


Debian 12 (arm)
	Kernel: Container Host Kernel
	Compiler: gcc 11

Debian Bullseye
	Kernel: 5.4.0-122-generic
	Compiler: gcc 10.2.1-6

Fedora 37
	Kernel: Depends on container host system
	Compiler: gcc 12.3.1

CentOS Stream 8
	Kernel: 4.18.0-240.10.1.el8_3.x86_64
	Compiler: gcc 8.4.1 20200928

To view detailed results, visit:
https://lab.dpdk.org/results/dashboard/patchsets/29505/

UNH-IOL DPDK Community Lab

To manage your email subscriptions, visit: 
https://lab.dpdk.org/results/dashboard/preferences/subscriptions/