From mboxrd@z Thu Jan  1 00:00:00 1970
Return-Path: <test-report-bounces@dpdk.org>
Received: from mails.dpdk.org (mails.dpdk.org [217.70.189.124])
	by inbox.dpdk.org (Postfix) with ESMTP id 8734A43C5D
	for <public@inbox.dpdk.org>; Tue, 12 Mar 2024 02:14:38 +0100 (CET)
Received: from mails.dpdk.org (localhost [127.0.0.1])
	by mails.dpdk.org (Postfix) with ESMTP id 7F6D7402D8;
	Tue, 12 Mar 2024 02:14:38 +0100 (CET)
Received: from mail-io1-f98.google.com (mail-io1-f98.google.com
 [209.85.166.98]) by mails.dpdk.org (Postfix) with ESMTP id 041504013F
 for <test-report@dpdk.org>; Tue, 12 Mar 2024 02:14:37 +0100 (CET)
Received: by mail-io1-f98.google.com with SMTP id
 ca18e2360f4ac-7c8c9f02eadso16748639f.0
 for <test-report@dpdk.org>; Mon, 11 Mar 2024 18:14:36 -0700 (PDT)
DKIM-Signature: v=1; a=rsa-sha256; c=relaxed/relaxed;
 d=iol.unh.edu; s=unh-iol; t=1710206076; x=1710810876; darn=dpdk.org;
 h=references:in-reply-to:cc:to:from:subject:message-id:date:from:to
 :cc:subject:date:message-id:reply-to;
 bh=B9i8h3YG2GqbqR2SEfBjgTYwcI5NRUX3MSjw7UcacvQ=;
 b=V//vHTmpCjWZb+F7N1Ws3R/GdSX+J5EgxzMf7h9kkk6ZUBFf8wKjhrkmegzrHtKLYO
 5UF8wbtUOc1f5ihxf6VAAXH7YU0IPibdM58E0oWNUej6/Oe8Z/PX3axI+c9mbRcJv4F7
 yu1WAHMX9iENk+/TwGpwhX5pu1YbOHHzjWPMU=
X-Google-DKIM-Signature: v=1; a=rsa-sha256; c=relaxed/relaxed;
 d=1e100.net; s=20230601; t=1710206076; x=1710810876;
 h=references:in-reply-to:cc:to:from:subject:message-id:date
 :x-gm-message-state:from:to:cc:subject:date:message-id:reply-to;
 bh=B9i8h3YG2GqbqR2SEfBjgTYwcI5NRUX3MSjw7UcacvQ=;
 b=kEVhiiZbrcu6PiSFTshE4Pz2PJNIBF7MNUYJ7HP9CuLtKTB66M+/0dqkLKuHY5jXyq
 mJ1DWrwMuedQWJPjX4KQDnpEwMCfLDl9yctnQw8CtT1faiY2Y29R97DVScR+UzqkLPC4
 MlRHBqGixdB6fJfhJ30T+rGIL7LIjEYEne8Fij3nZQKoZ70c2rp6F4wk0Zlom8iwDv4v
 QJtl1PuR1U0kmiYeshpc3yQKyGTCUu7T8mv/StMGHOoYaXuFD9JymkhjqSv6omlRK8DL
 d+UzRFYnwn6YyLJyG6xR6U8ftcf2nXVirfPFY5t1a2BX1IfqU0+mC4uAKLkbwCoMoIdv
 t2Xw==
X-Gm-Message-State: AOJu0Yz1o7w8HZxoRh4IjBJX/vr3Q4THwDK2GWP2hlFOYtsX6TzUWWL2
 pH7sVIJKk4u3+D9dZxKZ5dCgp/F3QkNHiwyMVl04kRkMxlDvChazVM9DX2YFv0L5ifgzA2D3WZO
 +9VjgAzc3K2lEdfYf6KgyrPWJ//VTbPp2qpwXV5Qe
X-Google-Smtp-Source: AGHT+IEk1sA8Wk2WxYXRrJWRsWc7aJ/xeFU4OsrgEYEngOcBd9ZaLqQUTPqZqS/nB0+k4M6aeZMK9ExRPnzT
X-Received: by 2002:a05:6602:e4b:b0:7c7:f935:9668 with SMTP id
 gq11-20020a0566020e4b00b007c7f9359668mr6653286iob.4.1710206076385; 
 Mon, 11 Mar 2024 18:14:36 -0700 (PDT)
Received: from postal.iol.unh.edu (postal.iol.unh.edu. [132.177.123.84])
 by smtp-relay.gmail.com with ESMTPS id
 r25-20020a6bfc19000000b007c8588d76a3sm279316ioh.14.2024.03.11.18.14.36
 (version=TLS1_2 cipher=ECDHE-ECDSA-AES128-GCM-SHA256 bits=128/128);
 Mon, 11 Mar 2024 18:14:36 -0700 (PDT)
X-Relaying-Domain: iol.unh.edu
Date: Mon, 11 Mar 2024 18:14:36 -0700 (PDT)
Message-ID: <65efac7c.6b0a0220.60986.0463SMTPIN_ADDED_MISSING@mx.google.com>
Received: from [172.21.0.6] (unknown [172.18.0.240])
 by postal.iol.unh.edu (Postfix) with ESMTP id E1D896052471;
 Mon, 11 Mar 2024 21:14:35 -0400 (EDT)
Subject: |SUCCESS| pw138173-138176 [PATCH] [v6,4/4] hash: add SVE support for
From: dpdklab@iol.unh.edu
To: Test Report <test-report@dpdk.org>
Cc: dpdk-test-reports@iol.unh.edu
In-Reply-To: <20240311232112.736613-5-yoan.picchi@arm.com>
References: <20240311232112.736613-5-yoan.picchi@arm.com>
Content-Type: text/plain
X-BeenThere: test-report@dpdk.org
X-Mailman-Version: 2.1.29
Precedence: list
List-Id: automatic DPDK test reports <test-report.dpdk.org>
List-Unsubscribe: <https://mails.dpdk.org/options/test-report>,
 <mailto:test-report-request@dpdk.org?subject=unsubscribe>
List-Archive: <http://mails.dpdk.org/archives/test-report/>
List-Post: <mailto:test-report@dpdk.org>
List-Help: <mailto:test-report-request@dpdk.org?subject=help>
List-Subscribe: <https://mails.dpdk.org/listinfo/test-report>,
 <mailto:test-report-request@dpdk.org?subject=subscribe>
Errors-To: test-report-bounces@dpdk.org

Test-Label: iol-abi-testing
Test-Status: SUCCESS
http://dpdk.org/patch/138176

_Testing PASS_

Submitter: Yoan Picchi <yoan.picchi@arm.com>
Date: Monday, March 11 2024 23:21:12 
DPDK git baseline: Repo:dpdk
  Branch: master
  CommitID:a86f381b826660e88794754c41d3aec79ce9b87c

138173-138176 --> testing pass

Test environment and result as below:

+------------------+----------+
|   Environment    | abi_test |
+==================+==========+
| Debian 12 (arm)  | PASS     |
+------------------+----------+
| Ubuntu 22.04     | PASS     |
+------------------+----------+
| RHEL8            | PASS     |
+------------------+----------+
| openSUSE Leap 15 | PASS     |
+------------------+----------+
| Fedora 37        | PASS     |
+------------------+----------+
| Debian Bullseye  | PASS     |
+------------------+----------+
| Fedora 38        | PASS     |
+------------------+----------+
| CentOS Stream 8  | PASS     |
+------------------+----------+
| CentOS Stream 9  | PASS     |
+------------------+----------+


Debian 12 (arm)
	Kernel: Container Host Kernel
	Compiler: gcc 11

Ubuntu 22.04
	Kernel: 4.18.0-240.10.1.el8_3.x86_64
	Compiler: gcc 11.3.0

RHEL8
	Kernel: 4.18.0-240.10.1.el8_3.x86_64
	Compiler: gcc 8.3.1 20191121 (Red Hat 8.3.1-5)

openSUSE Leap 15
	Kernel: 4.18.0-240.10.1.el8_3.x86_64
	Compiler: gcc 7.5.0

Fedora 37
	Kernel: Depends on container host system
	Compiler: gcc 12.3.1

Debian Bullseye
	Kernel: 5.4.0-122-generic
	Compiler: gcc 10.2.1-6

Fedora 38
	Kernel: Depends on container host
	Compiler: clang 16.0.3

CentOS Stream 8
	Kernel: 4.18.0-240.10.1.el8_3.x86_64
	Compiler: gcc 8.4.1 20200928

CentOS Stream 9
	Kernel: 4.18.0-240.10.1.el8_3.x86_64
	Compiler: gcc 11.3.1 20220421

To view detailed results, visit:
https://lab.dpdk.org/results/dashboard/patchsets/29506/

UNH-IOL DPDK Community Lab

To manage your email subscriptions, visit: 
https://lab.dpdk.org/results/dashboard/preferences/subscriptions/