From mboxrd@z Thu Jan  1 00:00:00 1970
Return-Path: <test-report-bounces@dpdk.org>
Received: from mails.dpdk.org (mails.dpdk.org [217.70.189.124])
	by inbox.dpdk.org (Postfix) with ESMTP id 83EA243C5D
	for <public@inbox.dpdk.org>; Tue, 12 Mar 2024 02:17:12 +0100 (CET)
Received: from mails.dpdk.org (localhost [127.0.0.1])
	by mails.dpdk.org (Postfix) with ESMTP id 7F92B402D8;
	Tue, 12 Mar 2024 02:17:12 +0100 (CET)
Received: from mail-pl1-f226.google.com (mail-pl1-f226.google.com
 [209.85.214.226])
 by mails.dpdk.org (Postfix) with ESMTP id 6D9414013F
 for <test-report@dpdk.org>; Tue, 12 Mar 2024 02:17:11 +0100 (CET)
Received: by mail-pl1-f226.google.com with SMTP id
 d9443c01a7336-1dd916ad172so14202235ad.2
 for <test-report@dpdk.org>; Mon, 11 Mar 2024 18:17:11 -0700 (PDT)
DKIM-Signature: v=1; a=rsa-sha256; c=relaxed/relaxed;
 d=iol.unh.edu; s=unh-iol; t=1710206230; x=1710811030; darn=dpdk.org;
 h=references:in-reply-to:cc:to:from:subject:message-id:date:from:to
 :cc:subject:date:message-id:reply-to;
 bh=HjAwYTC/7pEt7syS4DeQ26YPNHNS+wUh/H5nT2+mnXI=;
 b=a5+O1c6dY45HeZduSp4hKRovyUp1OrISy1p29kLWKKzgTwImn0oxmEs3NvWEdk9EeW
 zs4vMdhwcqLwHymQPZhqHPU4ue6/v3tNUoE6rSDs7QcpdcvSpYgz5fCmNJuBxhpjv4dm
 XzgJrtg1FqsUeR8wOE2+wFMrBHnfo86lw0R3c=
X-Google-DKIM-Signature: v=1; a=rsa-sha256; c=relaxed/relaxed;
 d=1e100.net; s=20230601; t=1710206230; x=1710811030;
 h=references:in-reply-to:cc:to:from:subject:message-id:date
 :x-gm-message-state:from:to:cc:subject:date:message-id:reply-to;
 bh=HjAwYTC/7pEt7syS4DeQ26YPNHNS+wUh/H5nT2+mnXI=;
 b=typjP/LHQRCVN7Ln8EUzCAKez271sS9LIH5+mEIQdjDC+EFQ/d9dOrIAxNsb0mf+2E
 vWBj78N665vxHf4Q0sxObyDI+Qv0Wj0a34GdbdqX7v4T3YhSQl3i8u1losh7yOcvEsQx
 uQwyKl6ebMToR09boC/ya3FkOx6yLgfpoxVTOv0lo1XccZmKcc20oFl2qCg0U7Ad/Fsw
 SMDixsaLO5oviG4Dvp//wnoViqguA+79FGDr6gDF57XL3NB2HzugYMJw+Dwrx0/YOuVJ
 HKVQpl1G+yjEE4bNAfm30a1hnFLGO3Zu0zlvpNM2Nd4g1mNPKJEe233r185OrS5Ap6S9
 StDw==
X-Gm-Message-State: AOJu0Yz9Q97DycDtBCPMc1Uml0q6Eq8rjBO/FGxBsXS8f1cgF8BzSDG3
 BwEbShLJaxyJIGsMEALDu2zWiCFm+e5tkoDqF3WVG+NfqRZaXSIjjrVMGuvcl2ZjmIRMdBPPZTG
 Eo7IQ1Bv8PnRNWB3eECyJVep7SmHSfxkmgppsy7X/
X-Google-Smtp-Source: AGHT+IFu0KdhoPhsKWiV9gJzQvFxJ8ZIuzevfF38ZEUjh4Iq55AIM8hVRdEPXRWWQbEFgBAX9qcv9QDHu7XI
X-Received: by 2002:a17:902:bc43:b0:1dc:7ead:d47b with SMTP id
 t3-20020a170902bc4300b001dc7eadd47bmr6396498plz.24.1710206230611; 
 Mon, 11 Mar 2024 18:17:10 -0700 (PDT)
Received: from postal.iol.unh.edu (postal.iol.unh.edu. [132.177.123.84])
 by smtp-relay.gmail.com with ESMTPS id
 q10-20020a170902edca00b001db969c0f4bsm136385plk.126.2024.03.11.18.17.10
 (version=TLS1_2 cipher=ECDHE-ECDSA-AES128-GCM-SHA256 bits=128/128);
 Mon, 11 Mar 2024 18:17:10 -0700 (PDT)
X-Relaying-Domain: iol.unh.edu
Date: Mon, 11 Mar 2024 18:17:10 -0700 (PDT)
Message-ID: <65efad16.170a0220.9b1eb.78c9SMTPIN_ADDED_MISSING@mx.google.com>
Received: from [172.17.0.6] (unknown [172.18.0.217])
 by postal.iol.unh.edu (Postfix) with ESMTP id BE71C6052471;
 Mon, 11 Mar 2024 21:17:09 -0400 (EDT)
Subject: |SUCCESS| pw138168-138172 [PATCH] [v10,5/5] test: add unit test for 
From: dpdklab@iol.unh.edu
To: Test Report <test-report@dpdk.org>
Cc: dpdk-test-reports@iol.unh.edu
In-Reply-To: <20240311203129.335720-6-paul.szczepanek@arm.com>
References: <20240311203129.335720-6-paul.szczepanek@arm.com>
Content-Type: text/plain
X-BeenThere: test-report@dpdk.org
X-Mailman-Version: 2.1.29
Precedence: list
List-Id: automatic DPDK test reports <test-report.dpdk.org>
List-Unsubscribe: <https://mails.dpdk.org/options/test-report>,
 <mailto:test-report-request@dpdk.org?subject=unsubscribe>
List-Archive: <http://mails.dpdk.org/archives/test-report/>
List-Post: <mailto:test-report@dpdk.org>
List-Help: <mailto:test-report-request@dpdk.org?subject=help>
List-Subscribe: <https://mails.dpdk.org/listinfo/test-report>,
 <mailto:test-report-request@dpdk.org?subject=subscribe>
Errors-To: test-report-bounces@dpdk.org

Test-Label: iol-compile-amd64-testing
Test-Status: SUCCESS
http://dpdk.org/patch/138172

_Testing PASS_

Submitter: Paul Szczepanek <paul.szczepanek@arm.com>
Date: Monday, March 11 2024 20:31:29 
DPDK git baseline: Repo:dpdk
  Branch: master
  CommitID:a86f381b826660e88794754c41d3aec79ce9b87c

138168-138172 --> testing pass

Test environment and result as below:

+---------------------+--------------------+----------------------+
|     Environment     | dpdk_meson_compile | dpdk_mingw64_compile |
+=====================+====================+======================+
| CentOS Stream 9     | PASS               | SKIPPED              |
+---------------------+--------------------+----------------------+
| Debian 12 (arm)     | PASS               | SKIPPED              |
+---------------------+--------------------+----------------------+
| Windows Server 2022 | PASS               | SKIPPED              |
+---------------------+--------------------+----------------------+
| FreeBSD 13.2        | PASS               | SKIPPED              |
+---------------------+--------------------+----------------------+
| Ubuntu 22.04        | PASS               | SKIPPED              |
+---------------------+--------------------+----------------------+
| Fedora 37           | PASS               | SKIPPED              |
+---------------------+--------------------+----------------------+
| openSUSE Leap 15    | PASS               | SKIPPED              |
+---------------------+--------------------+----------------------+
| Fedora 38           | PASS               | SKIPPED              |
+---------------------+--------------------+----------------------+
| Debian Bullseye     | PASS               | SKIPPED              |
+---------------------+--------------------+----------------------+
| Windows Server 2019 | PASS               | PASS                 |
+---------------------+--------------------+----------------------+
| CentOS Stream 8     | PASS               | SKIPPED              |
+---------------------+--------------------+----------------------+
| Ubuntu 20.04        | PASS               | SKIPPED              |
+---------------------+--------------------+----------------------+
| RHEL8               | PASS               | SKIPPED              |
+---------------------+--------------------+----------------------+
| Alpine              | PASS               | SKIPPED              |
+---------------------+--------------------+----------------------+


CentOS Stream 9
	Kernel: 4.18.0-240.10.1.el8_3.x86_64
	Compiler: gcc 11.3.1 20220421

Debian 12 (arm)
	Kernel: Container Host Kernel
	Compiler: gcc 11

Windows Server 2022
	Kernel: OS Build 20348.2031
	Compiler: MSVC VS-Preview

FreeBSD 13.2
	Kernel: 13.2
	Compiler: clang 11.3.0

Ubuntu 22.04
	Kernel: 4.18.0-240.10.1.el8_3.x86_64
	Compiler: gcc 11.3.0

Fedora 37
	Kernel: Depends on container host system
	Compiler: gcc 12.3.1

openSUSE Leap 15
	Kernel: 4.18.0-240.10.1.el8_3.x86_64
	Compiler: gcc 7.5.0

Fedora 38
	Kernel: Depends on container host
	Compiler: gcc 13.1.1

Debian Bullseye
	Kernel: 5.4.0-122-generic
	Compiler: gcc 10.2.1-6

Windows Server 2019
	Kernel: 10.0
	Compiler: clang 14.0 and gcc 8.1.0 (MinGW)

CentOS Stream 8
	Kernel: 4.18.0-240.10.1.el8_3.x86_64
	Compiler: gcc 8.4.1 20200928

Ubuntu 20.04
	Kernel: 5.4.0-153-generic
	Compiler: gcc 9.4.0-1ubuntu1~20.04.1

RHEL8
	Kernel: 4.18.0-240.10.1.el8_3.x86_64
	Compiler: gcc 8.3.1 20191121 (Red Hat 8.3.1-5)

Alpine
	Kernel: 5.4.0-73-generic
	Compiler: gcc (Alpine 10.3.1_git20210424) 10.3.1 20210424

To view detailed results, visit:
https://lab.dpdk.org/results/dashboard/patchsets/29505/

UNH-IOL DPDK Community Lab

To manage your email subscriptions, visit: 
https://lab.dpdk.org/results/dashboard/preferences/subscriptions/