From mboxrd@z Thu Jan  1 00:00:00 1970
Return-Path: <test-report-bounces@dpdk.org>
Received: from mails.dpdk.org (mails.dpdk.org [217.70.189.124])
	by inbox.dpdk.org (Postfix) with ESMTP id C78E443C5D
	for <public@inbox.dpdk.org>; Tue, 12 Mar 2024 02:25:40 +0100 (CET)
Received: from mails.dpdk.org (localhost [127.0.0.1])
	by mails.dpdk.org (Postfix) with ESMTP id C361E402E6;
	Tue, 12 Mar 2024 02:25:40 +0100 (CET)
Received: from mail-yw1-f226.google.com (mail-yw1-f226.google.com
 [209.85.128.226])
 by mails.dpdk.org (Postfix) with ESMTP id 234714013F
 for <test-report@dpdk.org>; Tue, 12 Mar 2024 02:25:31 +0100 (CET)
Received: by mail-yw1-f226.google.com with SMTP id
 00721157ae682-609f4155b76so45567817b3.1
 for <test-report@dpdk.org>; Mon, 11 Mar 2024 18:25:31 -0700 (PDT)
DKIM-Signature: v=1; a=rsa-sha256; c=relaxed/relaxed;
 d=iol.unh.edu; s=unh-iol; t=1710206730; x=1710811530; darn=dpdk.org;
 h=references:in-reply-to:cc:to:from:subject:message-id:date:from:to
 :cc:subject:date:message-id:reply-to;
 bh=HjAwYTC/7pEt7syS4DeQ26YPNHNS+wUh/H5nT2+mnXI=;
 b=OhDO/2DmDdiPs8p7ZEOvoSjFH2IhdK1at85UZ6ZnRaeeBQy9AFzyC1ZKfYL25qitc/
 1Zx2wh4NLxWTXglNJqVyUs6AkUtDWyqvjdmXdAWCi1cRcuPR1Ft/gocT6EHlXXA8P1qX
 Hkfln8IvCp+kFn1GafBQzgzpUaz8FnGaQHpXg=
X-Google-DKIM-Signature: v=1; a=rsa-sha256; c=relaxed/relaxed;
 d=1e100.net; s=20230601; t=1710206730; x=1710811530;
 h=references:in-reply-to:cc:to:from:subject:message-id:date
 :x-gm-message-state:from:to:cc:subject:date:message-id:reply-to;
 bh=HjAwYTC/7pEt7syS4DeQ26YPNHNS+wUh/H5nT2+mnXI=;
 b=Ip/VFm6wst5XY3NZsxMRJPE/i850RLH9WQ956tn6erINUSfF0Bx3j+WpZbYEvozr9u
 5P8G90SGa6g1fbaK/RyGIZmFZZqwcCJondHLp3SVvaEd2q/HQNCbU+xxSad4HLS51guG
 D8gV/68Dxq7jqyMyEa5WeFmit/7KweuLuiJk7pUNjkjkiNz/MYVjhSofQCn5eJSkBSON
 fxhAm9cKY2CqZ74oZyLH1dpTalCIxQ9KAbKt/n43Zk61CiJkhOojGkITUyt+b/jSVohQ
 ETBWZWL+bkGUxDuGuoWv0j5vBzzGQ4W61LyI2KJZ+Y9foUMMfXj89QRxZZee1OAsW6OY
 AdCA==
X-Gm-Message-State: AOJu0Ywp6NjPeCF0+pO3UERzkCGmakaZVF+N1EWZSh+6ck+Sxl3T4fqD
 ikUYoPsi9wfsnNzh3RRjvK0Auz3qC479PCIo9fZ/gsVIlCn1kIZqCcq3uza/88NayNwL4lWac5i
 Lq91mzkLSak0y5VXJr3jzfccGuifm0Bfg8q/IM2aGdX8al/tRmqkdO0Md
X-Google-Smtp-Source: AGHT+IGAl+fu/bFvRKccS20O4Opy+yeB/WtTYdQI3IOWyVfx0f6pEK7FZFfh4ThYb7aHdxaeqvGtmsii+QUC
X-Received: by 2002:a81:7c54:0:b0:609:832c:3541 with SMTP id
 x81-20020a817c54000000b00609832c3541mr507546ywc.39.1710206730629; 
 Mon, 11 Mar 2024 18:25:30 -0700 (PDT)
Received: from postal.iol.unh.edu (postal.iol.unh.edu.
 [2606:4100:3880:1234::84]) by smtp-relay.gmail.com with ESMTPS id
 x31-20020a81af5f000000b006088c76ef6esm347919ywj.5.2024.03.11.18.25.30
 (version=TLS1_2 cipher=ECDHE-ECDSA-AES128-GCM-SHA256 bits=128/128);
 Mon, 11 Mar 2024 18:25:30 -0700 (PDT)
X-Relaying-Domain: iol.unh.edu
Date: Mon, 11 Mar 2024 18:25:30 -0700 (PDT)
Message-ID: <65efaf0a.810a0220.1dd96.63e8SMTPIN_ADDED_MISSING@mx.google.com>
Received: from [172.17.0.6] (unknown [172.18.0.217])
 by postal.iol.unh.edu (Postfix) with ESMTP id 422826052471;
 Mon, 11 Mar 2024 21:25:30 -0400 (EDT)
Subject: |SUCCESS| pw138168-138172 [PATCH] [v10,5/5] test: add unit test for 
From: dpdklab@iol.unh.edu
To: Test Report <test-report@dpdk.org>
Cc: dpdk-test-reports@iol.unh.edu
In-Reply-To: <20240311203129.335720-6-paul.szczepanek@arm.com>
References: <20240311203129.335720-6-paul.szczepanek@arm.com>
Content-Type: text/plain
X-BeenThere: test-report@dpdk.org
X-Mailman-Version: 2.1.29
Precedence: list
List-Id: automatic DPDK test reports <test-report.dpdk.org>
List-Unsubscribe: <https://mails.dpdk.org/options/test-report>,
 <mailto:test-report-request@dpdk.org?subject=unsubscribe>
List-Archive: <http://mails.dpdk.org/archives/test-report/>
List-Post: <mailto:test-report@dpdk.org>
List-Help: <mailto:test-report-request@dpdk.org?subject=help>
List-Subscribe: <https://mails.dpdk.org/listinfo/test-report>,
 <mailto:test-report-request@dpdk.org?subject=subscribe>
Errors-To: test-report-bounces@dpdk.org

Test-Label: iol-compile-amd64-testing
Test-Status: SUCCESS
http://dpdk.org/patch/138172

_Testing PASS_

Submitter: Paul Szczepanek <paul.szczepanek@arm.com>
Date: Monday, March 11 2024 20:31:29 
DPDK git baseline: Repo:dpdk
  Branch: master
  CommitID:a86f381b826660e88794754c41d3aec79ce9b87c

138168-138172 --> testing pass

Test environment and result as below:

+---------------------+--------------------+----------------------+
|     Environment     | dpdk_meson_compile | dpdk_mingw64_compile |
+=====================+====================+======================+
| CentOS Stream 9     | PASS               | SKIPPED              |
+---------------------+--------------------+----------------------+
| Debian 12 (arm)     | PASS               | SKIPPED              |
+---------------------+--------------------+----------------------+
| Windows Server 2022 | PASS               | SKIPPED              |
+---------------------+--------------------+----------------------+
| FreeBSD 13.2        | PASS               | SKIPPED              |
+---------------------+--------------------+----------------------+
| Ubuntu 22.04        | PASS               | SKIPPED              |
+---------------------+--------------------+----------------------+
| Fedora 37           | PASS               | SKIPPED              |
+---------------------+--------------------+----------------------+
| openSUSE Leap 15    | PASS               | SKIPPED              |
+---------------------+--------------------+----------------------+
| Fedora 38           | PASS               | SKIPPED              |
+---------------------+--------------------+----------------------+
| Debian Bullseye     | PASS               | SKIPPED              |
+---------------------+--------------------+----------------------+
| Windows Server 2019 | PASS               | PASS                 |
+---------------------+--------------------+----------------------+
| CentOS Stream 8     | PASS               | SKIPPED              |
+---------------------+--------------------+----------------------+
| Ubuntu 20.04        | PASS               | SKIPPED              |
+---------------------+--------------------+----------------------+
| RHEL8               | PASS               | SKIPPED              |
+---------------------+--------------------+----------------------+
| Alpine              | PASS               | SKIPPED              |
+---------------------+--------------------+----------------------+


CentOS Stream 9
	Kernel: 4.18.0-240.10.1.el8_3.x86_64
	Compiler: gcc 11.3.1 20220421

Debian 12 (arm)
	Kernel: Container Host Kernel
	Compiler: gcc 11

Windows Server 2022
	Kernel: OS Build 20348.2031
	Compiler: MSVC VS-Preview

FreeBSD 13.2
	Kernel: 13.2
	Compiler: clang 11.3.0

Ubuntu 22.04
	Kernel: 4.18.0-240.10.1.el8_3.x86_64
	Compiler: gcc 11.3.0

Fedora 37
	Kernel: Depends on container host system
	Compiler: gcc 12.3.1

openSUSE Leap 15
	Kernel: 4.18.0-240.10.1.el8_3.x86_64
	Compiler: gcc 7.5.0

Fedora 38
	Kernel: Depends on container host
	Compiler: gcc 13.1.1

Debian Bullseye
	Kernel: 5.4.0-122-generic
	Compiler: gcc 10.2.1-6

Windows Server 2019
	Kernel: 10.0
	Compiler: clang 14.0 and gcc 8.1.0 (MinGW)

CentOS Stream 8
	Kernel: 4.18.0-240.10.1.el8_3.x86_64
	Compiler: gcc 8.4.1 20200928

Ubuntu 20.04
	Kernel: 5.4.0-153-generic
	Compiler: gcc 9.4.0-1ubuntu1~20.04.1

RHEL8
	Kernel: 4.18.0-240.10.1.el8_3.x86_64
	Compiler: gcc 8.3.1 20191121 (Red Hat 8.3.1-5)

Alpine
	Kernel: 5.4.0-73-generic
	Compiler: gcc (Alpine 10.3.1_git20210424) 10.3.1 20210424

To view detailed results, visit:
https://lab.dpdk.org/results/dashboard/patchsets/29505/

UNH-IOL DPDK Community Lab

To manage your email subscriptions, visit: 
https://lab.dpdk.org/results/dashboard/preferences/subscriptions/